BEGIN:VCALENDAR
VERSION:2.0
PRODID:-//jEvents 2.0 for Joomla//EN
CALSCALE:GREGORIAN
METHOD:PUBLISH
BEGIN:VTIMEZONE
TZID:Europe/Berlin
BEGIN:STANDARD
DTSTART:20181227T180000
RDATE:20190331T030000
TZOFFSETFROM:+0200
TZOFFSETTO:+0100
TZNAME:Europe/Berlin CET
END:STANDARD
BEGIN:STANDARD
DTSTART:20191027T020000
RDATE:20200329T030000
TZOFFSETFROM:+0200
TZOFFSETTO:+0100
TZNAME:Europe/Berlin CET
END:STANDARD
BEGIN:STANDARD
DTSTART:20201025T020000
RDATE:20210328T030000
TZOFFSETFROM:+0200
TZOFFSETTO:+0100
TZNAME:Europe/Berlin CET
END:STANDARD
BEGIN:STANDARD
DTSTART:20211031T020000
RDATE:20220327T030000
TZOFFSETFROM:+0200
TZOFFSETTO:+0100
TZNAME:Europe/Berlin CET
END:STANDARD
BEGIN:STANDARD
DTSTART:20221030T020000
RDATE:20230326T030000
TZOFFSETFROM:+0200
TZOFFSETTO:+0100
TZNAME:Europe/Berlin CET
END:STANDARD
BEGIN:STANDARD
DTSTART:20231029T020000
RDATE:20240331T030000
TZOFFSETFROM:+0200
TZOFFSETTO:+0100
TZNAME:Europe/Berlin CET
END:STANDARD
BEGIN:DAYLIGHT
DTSTART:20190331T030000
RDATE:20191027T020000
TZOFFSETFROM:+0100
TZOFFSETTO:+0200
TZNAME:Europe/Berlin CEST
END:DAYLIGHT
BEGIN:DAYLIGHT
DTSTART:20200329T030000
RDATE:20201025T020000
TZOFFSETFROM:+0100
TZOFFSETTO:+0200
TZNAME:Europe/Berlin CEST
END:DAYLIGHT
BEGIN:DAYLIGHT
DTSTART:20210328T030000
RDATE:20211031T020000
TZOFFSETFROM:+0100
TZOFFSETTO:+0200
TZNAME:Europe/Berlin CEST
END:DAYLIGHT
BEGIN:DAYLIGHT
DTSTART:20220327T030000
RDATE:20221030T020000
TZOFFSETFROM:+0100
TZOFFSETTO:+0200
TZNAME:Europe/Berlin CEST
END:DAYLIGHT
BEGIN:DAYLIGHT
DTSTART:20230326T030000
RDATE:20231029T020000
TZOFFSETFROM:+0100
TZOFFSETTO:+0200
TZNAME:Europe/Berlin CEST
END:DAYLIGHT
END:VTIMEZONE
BEGIN:VEVENT
UID:b75d1b79888116f79ec4889cd5af26e1
CATEGORIES:Heämet
CREATED:20190527T192358
SUMMARY:Rongs öm Mönster än Stadthuus (Führung auf Öcher Platt)
LOCATION:Elisenbrunnen\, Friedrich-Wilhelm-Platz\, 52062 Aachen
DESCRIPTION;ENCODING=QUOTED-PRINTABLE: Veranstaltung: Rongs öm Mönster än Stadthuus\n(Stadtführung auf Öcher Plat
 t)Künstler: \n\nevtl. Leo Bardenheuer\n(Sehenswürdigkeiten von Aachen)\n\nO
 rt: \n\nElisenbrunnen, Friedrich-Wilhelm-Platz, 52062 Aachen\n   Termin: 28
 .12.2019 (SA)Beginn: 18:00 UhrEnde: ca. 19:30 Uhr(Einlass:) 17:55 Uhr (Tref
 fpunkt Elisenbrunnen)   Kosten: ca. 6 bzw. 8 € (Kinder / Erwachsenen) pro K
 arteEintritt: TageskasseVeranstalter: siehe offizielle Bekanntgabe -&gt; aa
 chen tourist service e.v. weitere Infos zum Termin:\n\nDer Anteil der Sprac
 he "Öcher Platt" ist je nach Teilnehmer "variabel". Das wird mit den Teilne
 hmern vorab gerne abgesprochen ...\n\n\n\n\n\n\nAnmerkungen: (Alle Angaben 
 ohne Gewähr)\n*1: abweichende Einlasszeiten sind (soweit bekannt) angegeben
 .\n*2: Eintrittskarte pro Person, Ermäßigungen bitte beim Veranstalter erfr
 agen\n\n\n\n \n\n\nInfos zum Termin auf: https://www.aachen-tourismus.de/aa
 chenoeffentlichefuehrungen/offer/detail/TUR00020110109348420\n\n\n \n\n\nAn
 merkungen:\n\n\nAlle Angaben ohne Gewähr\n\n\n \n
CONTACT:190000280
DTSTAMP:20260419T173030Z
DTSTART;TZID=Europe/Berlin:20191228T180000
DTEND;TZID=Europe/Berlin:20191228T193000
SEQUENCE:0
TRANSP:OPAQUE
END:VEVENT
END:VCALENDAR