BEGIN:VCALENDAR
VERSION:2.0
PRODID:-//jEvents 2.0 for Joomla//EN
CALSCALE:GREGORIAN
METHOD:PUBLISH
BEGIN:VTIMEZONE
TZID:Europe/Berlin
BEGIN:STANDARD
DTSTART:20181028T020000
RDATE:20190331T030000
TZOFFSETFROM:+0200
TZOFFSETTO:+0100
TZNAME:Europe/Berlin CET
END:STANDARD
BEGIN:STANDARD
DTSTART:20191027T020000
RDATE:20200329T030000
TZOFFSETFROM:+0200
TZOFFSETTO:+0100
TZNAME:Europe/Berlin CET
END:STANDARD
BEGIN:STANDARD
DTSTART:20201025T020000
RDATE:20210328T030000
TZOFFSETFROM:+0200
TZOFFSETTO:+0100
TZNAME:Europe/Berlin CET
END:STANDARD
BEGIN:STANDARD
DTSTART:20211031T020000
RDATE:20220327T030000
TZOFFSETFROM:+0200
TZOFFSETTO:+0100
TZNAME:Europe/Berlin CET
END:STANDARD
BEGIN:STANDARD
DTSTART:20221030T020000
RDATE:20230326T030000
TZOFFSETFROM:+0200
TZOFFSETTO:+0100
TZNAME:Europe/Berlin CET
END:STANDARD
BEGIN:STANDARD
DTSTART:20231029T020000
RDATE:20240331T030000
TZOFFSETFROM:+0200
TZOFFSETTO:+0100
TZNAME:Europe/Berlin CET
END:STANDARD
BEGIN:DAYLIGHT
DTSTART:20180801T160000
RDATE:20181028T020000
TZOFFSETFROM:+0100
TZOFFSETTO:+0200
TZNAME:Europe/Berlin CEST
END:DAYLIGHT
BEGIN:DAYLIGHT
DTSTART:20190331T030000
RDATE:20191027T020000
TZOFFSETFROM:+0100
TZOFFSETTO:+0200
TZNAME:Europe/Berlin CEST
END:DAYLIGHT
BEGIN:DAYLIGHT
DTSTART:20200329T030000
RDATE:20201025T020000
TZOFFSETFROM:+0100
TZOFFSETTO:+0200
TZNAME:Europe/Berlin CEST
END:DAYLIGHT
BEGIN:DAYLIGHT
DTSTART:20210328T030000
RDATE:20211031T020000
TZOFFSETFROM:+0100
TZOFFSETTO:+0200
TZNAME:Europe/Berlin CEST
END:DAYLIGHT
BEGIN:DAYLIGHT
DTSTART:20220327T030000
RDATE:20221030T020000
TZOFFSETFROM:+0100
TZOFFSETTO:+0200
TZNAME:Europe/Berlin CEST
END:DAYLIGHT
BEGIN:DAYLIGHT
DTSTART:20230326T030000
RDATE:20231029T020000
TZOFFSETFROM:+0100
TZOFFSETTO:+0200
TZNAME:Europe/Berlin CEST
END:DAYLIGHT
END:VTIMEZONE
BEGIN:VEVENT
UID:ced5b9a26be02cdb1ad64c2c97a4d101
CATEGORIES:Heämet
CREATED:20190531T115520
SUMMARY:Häppchen-Tour (aachen-häppchenweise)
LOCATION:Elisenbrunnen (Rotunde)\, Friedrich-Wilhelm-Platz\, 52062 Aachen
DESCRIPTION;ENCODING=QUOTED-PRINTABLE:Veranstaltung: Häppchen-Tour\n(Aachen Häppchenweise)Künstler: \n\nKarin Wis
 gens (Öcher Platt), Ulla Borsch, Michael Prömpeler und Gerti Klein-Verwijst
 \nOrt: Elisenbrunnen (Rotunde), \nFriedrich-Wilhelm-Platz, 52062 Aachen   T
 ermin: 02.08.2019Beginn: 16:00 UhrEnde: ca. 18.00 Uhr(Einlass:) Treffpunkt:
  Am Elisenbrunnen (in der Rotunde)   Kosten: 15,00€ p. P./ bzw. Gruppenprei
 s 150,00€ \n(mindestteilnehmer 10 Personen)Eintritt: \n\nReservierung unter
  Diese E-Mail-Adresse ist vor Spambots geschützt! Zur Anzeige muss JavaScri
 pt eingeschaltet sein!
				document.getElementById('cloak5412d581c00db423a7
 71cdfe7d845d8a').innerHTML = '';
				var prefix = '&#109;a' + 'i&#108;' + '
 &#116;o';
				var path = 'hr' + 'ef' + '=';
				var addy5412d581c00db423a77
 1cdfe7d845d8a = 'm&#97;r&#105;t&#97;-z&#101;y&#101;n' + '&#64;';
				addy54
 12d581c00db423a771cdfe7d845d8a = addy5412d581c00db423a771cdfe7d845d8a + 'w&
 #101;b' + '&#46;' + 'd&#101;';
				var addy_text5412d581c00db423a771cdfe7d8
 45d8a = 'm&#97;r&#105;t&#97;-z&#101;y&#101;n' + '&#64;' + 'w&#101;b' + '&#4
 6;' + 'd&#101;';document.getElementById('cloak5412d581c00db423a771cdfe7d845
 d8a').innerHTML += ''+addy_text5412d581c00db423a771cdfe7d845d8a+'';
		\n\n\
 noder 0241 / 165 411\nVeranstalter: siehe offizielle Bekanntgabe weitere In
 fos zum Termin auf: http://www.aachen-häppchenweise.de/ Jeden 1. Freitag im
  Monat findet um 16 Uhr eine offene Führung statt, an der auch Einzelperson
 en teilnehmen können (Start am Elisenbrunnen).\nEine Anmeldung ist unbeding
 t erforderlich.\nGruppenbuchungen: Ursula Meyer | Koordination |Fon: 02408.
 5996280\nMail: anfrage@aachen-häppchenweise.de | Web: aachen-häppchenweise.
 de\nOffene Touren: Weinhaus Lesmeister |Fon: 0241.404932\nMail: Diese E-Mai
 l-Adresse ist vor Spambots geschützt! Zur Anzeige muss JavaScript eingescha
 ltet sein!
				document.getElementById('cloak519f66d32f7f0882944dc14bd883ac
 73').innerHTML = '';
				var prefix = '&#109;a' + 'i&#108;' + '&#116;o';
		
 		var path = 'hr' + 'ef' + '=';
				var addy519f66d32f7f0882944dc14bd883ac7
 3 = 'k&#111;nt&#97;kt' + '&#64;';
				addy519f66d32f7f0882944dc14bd883ac73 
 = addy519f66d32f7f0882944dc14bd883ac73 + 'w&#101;&#105;nh&#97;&#117;s-l&#10
 1;sm&#101;&#105;st&#101;r' + '&#46;' + 'd&#101;';
				var addy_text519f66d3
 2f7f0882944dc14bd883ac73 = 'k&#111;nt&#97;kt' + '&#64;' + 'w&#101;&#105;nh&
 #97;&#117;s-l&#101;sm&#101;&#105;st&#101;r' + '&#46;' + 'd&#101;';document.
 getElementById('cloak519f66d32f7f0882944dc14bd883ac73').innerHTML += ''+add
 y_text519f66d32f7f0882944dc14bd883ac73+'';
		 | Web: weinhaus-lesmeister.de
 \n Die Führungen werden auch in Öcher Platt, niederländisch, französisch un
 d englisch angeboten.\nHierfür erheben wir einen Fremdsprachenzuschlag von 
 15 € pro Gruppe.\n\nAnmerkungen: (Alle Angaben ohne Gewähr)\n*1: abweichend
 e Einlasszeiten sind (soweit bekannt) angegeben.\n*2: Eintrittskarte pro Pe
 rson, Ermäßigungen bitte beim Veranstalter erfragen\n\n
CONTACT:190000264
DTSTAMP:20260424T113629Z
DTSTART;TZID=Europe/Berlin:20190802T160000
DTEND;TZID=Europe/Berlin:20190802T180000
SEQUENCE:0
TRANSP:OPAQUE
END:VEVENT
END:VCALENDAR