BEGIN:VCALENDAR
VERSION:2.0
PRODID:-//jEvents 2.0 for Joomla//EN
CALSCALE:GREGORIAN
METHOD:PUBLISH
BEGIN:VTIMEZONE
TZID:Europe/Berlin
BEGIN:STANDARD
DTSTART:20181205T160000
RDATE:20190331T030000
TZOFFSETFROM:+0200
TZOFFSETTO:+0100
TZNAME:Europe/Berlin CET
END:STANDARD
BEGIN:STANDARD
DTSTART:20191027T020000
RDATE:20200329T030000
TZOFFSETFROM:+0200
TZOFFSETTO:+0100
TZNAME:Europe/Berlin CET
END:STANDARD
BEGIN:STANDARD
DTSTART:20201025T020000
RDATE:20210328T030000
TZOFFSETFROM:+0200
TZOFFSETTO:+0100
TZNAME:Europe/Berlin CET
END:STANDARD
BEGIN:STANDARD
DTSTART:20211031T020000
RDATE:20220327T030000
TZOFFSETFROM:+0200
TZOFFSETTO:+0100
TZNAME:Europe/Berlin CET
END:STANDARD
BEGIN:STANDARD
DTSTART:20221030T020000
RDATE:20230326T030000
TZOFFSETFROM:+0200
TZOFFSETTO:+0100
TZNAME:Europe/Berlin CET
END:STANDARD
BEGIN:STANDARD
DTSTART:20231029T020000
RDATE:20240331T030000
TZOFFSETFROM:+0200
TZOFFSETTO:+0100
TZNAME:Europe/Berlin CET
END:STANDARD
BEGIN:DAYLIGHT
DTSTART:20190331T030000
RDATE:20191027T020000
TZOFFSETFROM:+0100
TZOFFSETTO:+0200
TZNAME:Europe/Berlin CEST
END:DAYLIGHT
BEGIN:DAYLIGHT
DTSTART:20200329T030000
RDATE:20201025T020000
TZOFFSETFROM:+0100
TZOFFSETTO:+0200
TZNAME:Europe/Berlin CEST
END:DAYLIGHT
BEGIN:DAYLIGHT
DTSTART:20210328T030000
RDATE:20211031T020000
TZOFFSETFROM:+0100
TZOFFSETTO:+0200
TZNAME:Europe/Berlin CEST
END:DAYLIGHT
BEGIN:DAYLIGHT
DTSTART:20220327T030000
RDATE:20221030T020000
TZOFFSETFROM:+0100
TZOFFSETTO:+0200
TZNAME:Europe/Berlin CEST
END:DAYLIGHT
BEGIN:DAYLIGHT
DTSTART:20230326T030000
RDATE:20231029T020000
TZOFFSETFROM:+0100
TZOFFSETTO:+0200
TZNAME:Europe/Berlin CEST
END:DAYLIGHT
END:VTIMEZONE
BEGIN:VEVENT
UID:bbc486513cbe7aeead6178b9361478b5
CATEGORIES:Heämet
CREATED:20190531T115654
SUMMARY:Häppchen-Tour (aachen-häppchenweise)
LOCATION:Elisenbrunnen (Rotunde)\, Friedrich-Wilhelm-Platz\, 52062 Aachen
DESCRIPTION;ENCODING=QUOTED-PRINTABLE:Veranstaltung: Häppchen-Tour\n(Aachen Häppchenweise)Künstler: \n\nKarin Wis
 gens (Öcher Platt), Ulla Borsch, Michael Prömpeler und Gerti Klein-Verwijst
 \nOrt: Elisenbrunnen (Rotunde), \nFriedrich-Wilhelm-Platz, 52062 Aachen   T
 ermin: 06.12.2019Beginn: 16:00 UhrEnde: ca. 18.00 Uhr(Einlass:) Treffpunkt:
  Am Elisenbrunnen (in der Rotunde)   Kosten: 15,00€ p. P./ bzw. Gruppenprei
 s 150,00€ \n(mindestteilnehmer 10 Personen)Eintritt: \n\nReservierung unter
  Diese E-Mail-Adresse ist vor Spambots geschützt! Zur Anzeige muss JavaScri
 pt eingeschaltet sein!
				document.getElementById('cloake47cfa42feac552e2c
 16f60eee43f2e2').innerHTML = '';
				var prefix = '&#109;a' + 'i&#108;' + '
 &#116;o';
				var path = 'hr' + 'ef' + '=';
				var addye47cfa42feac552e2c1
 6f60eee43f2e2 = 'm&#97;r&#105;t&#97;-z&#101;y&#101;n' + '&#64;';
				addye4
 7cfa42feac552e2c16f60eee43f2e2 = addye47cfa42feac552e2c16f60eee43f2e2 + 'w&
 #101;b' + '&#46;' + 'd&#101;';
				var addy_texte47cfa42feac552e2c16f60eee4
 3f2e2 = 'm&#97;r&#105;t&#97;-z&#101;y&#101;n' + '&#64;' + 'w&#101;b' + '&#4
 6;' + 'd&#101;';document.getElementById('cloake47cfa42feac552e2c16f60eee43f
 2e2').innerHTML += ''+addy_texte47cfa42feac552e2c16f60eee43f2e2+'';
		\n\n\
 noder 0241 / 165 411\nVeranstalter: siehe offizielle Bekanntgabe weitere In
 fos zum Termin auf: http://www.aachen-häppchenweise.de/ Jeden 1. Freitag im
  Monat findet um 16 Uhr eine offene Führung statt, an der auch Einzelperson
 en teilnehmen können (Start am Elisenbrunnen).\nEine Anmeldung ist unbeding
 t erforderlich.\nGruppenbuchungen: Ursula Meyer | Koordination |Fon: 02408.
 5996280\nMail: anfrage@aachen-häppchenweise.de | Web: aachen-häppchenweise.
 de\nOffene Touren: Weinhaus Lesmeister |Fon: 0241.404932\nMail: Diese E-Mai
 l-Adresse ist vor Spambots geschützt! Zur Anzeige muss JavaScript eingescha
 ltet sein!
				document.getElementById('cloak6e9f7ca3b472ffcc2d9e00b09e511a
 d8').innerHTML = '';
				var prefix = '&#109;a' + 'i&#108;' + '&#116;o';
		
 		var path = 'hr' + 'ef' + '=';
				var addy6e9f7ca3b472ffcc2d9e00b09e511ad
 8 = 'k&#111;nt&#97;kt' + '&#64;';
				addy6e9f7ca3b472ffcc2d9e00b09e511ad8 
 = addy6e9f7ca3b472ffcc2d9e00b09e511ad8 + 'w&#101;&#105;nh&#97;&#117;s-l&#10
 1;sm&#101;&#105;st&#101;r' + '&#46;' + 'd&#101;';
				var addy_text6e9f7ca3
 b472ffcc2d9e00b09e511ad8 = 'k&#111;nt&#97;kt' + '&#64;' + 'w&#101;&#105;nh&
 #97;&#117;s-l&#101;sm&#101;&#105;st&#101;r' + '&#46;' + 'd&#101;';document.
 getElementById('cloak6e9f7ca3b472ffcc2d9e00b09e511ad8').innerHTML += ''+add
 y_text6e9f7ca3b472ffcc2d9e00b09e511ad8+'';
		 | Web: weinhaus-lesmeister.de
 \n Die Führungen werden auch in Öcher Platt, niederländisch, französisch un
 d englisch angeboten.\nHierfür erheben wir einen Fremdsprachenzuschlag von 
 15 € pro Gruppe.\n\nAnmerkungen: (Alle Angaben ohne Gewähr)\n*1: abweichend
 e Einlasszeiten sind (soweit bekannt) angegeben.\n*2: Eintrittskarte pro Pe
 rson, Ermäßigungen bitte beim Veranstalter erfragen\n\n
CONTACT:190000264
DTSTAMP:20260419T172155Z
DTSTART;TZID=Europe/Berlin:20191206T160000
DTEND;TZID=Europe/Berlin:20191206T180000
SEQUENCE:0
TRANSP:OPAQUE
END:VEVENT
END:VCALENDAR