BEGIN:VCALENDAR
VERSION:2.0
PRODID:-//jEvents 2.0 for Joomla//EN
CALSCALE:GREGORIAN
METHOD:PUBLISH
BEGIN:VTIMEZONE
TZID:Europe/Berlin
BEGIN:STANDARD
DTSTART:20181028T020000
RDATE:20190331T030000
TZOFFSETFROM:+0200
TZOFFSETTO:+0100
TZNAME:Europe/Berlin CET
END:STANDARD
BEGIN:STANDARD
DTSTART:20191027T020000
RDATE:20200329T030000
TZOFFSETFROM:+0200
TZOFFSETTO:+0100
TZNAME:Europe/Berlin CET
END:STANDARD
BEGIN:STANDARD
DTSTART:20201025T020000
RDATE:20210328T030000
TZOFFSETFROM:+0200
TZOFFSETTO:+0100
TZNAME:Europe/Berlin CET
END:STANDARD
BEGIN:STANDARD
DTSTART:20211031T020000
RDATE:20220327T030000
TZOFFSETFROM:+0200
TZOFFSETTO:+0100
TZNAME:Europe/Berlin CET
END:STANDARD
BEGIN:STANDARD
DTSTART:20221030T020000
RDATE:20230326T030000
TZOFFSETFROM:+0200
TZOFFSETTO:+0100
TZNAME:Europe/Berlin CET
END:STANDARD
BEGIN:STANDARD
DTSTART:20231029T020000
RDATE:20240331T030000
TZOFFSETFROM:+0200
TZOFFSETTO:+0100
TZNAME:Europe/Berlin CET
END:STANDARD
BEGIN:DAYLIGHT
DTSTART:20180801T190000
RDATE:20181028T020000
TZOFFSETFROM:+0100
TZOFFSETTO:+0200
TZNAME:Europe/Berlin CEST
END:DAYLIGHT
BEGIN:DAYLIGHT
DTSTART:20190331T030000
RDATE:20191027T020000
TZOFFSETFROM:+0100
TZOFFSETTO:+0200
TZNAME:Europe/Berlin CEST
END:DAYLIGHT
BEGIN:DAYLIGHT
DTSTART:20200329T030000
RDATE:20201025T020000
TZOFFSETFROM:+0100
TZOFFSETTO:+0200
TZNAME:Europe/Berlin CEST
END:DAYLIGHT
BEGIN:DAYLIGHT
DTSTART:20210328T030000
RDATE:20211031T020000
TZOFFSETFROM:+0100
TZOFFSETTO:+0200
TZNAME:Europe/Berlin CEST
END:DAYLIGHT
BEGIN:DAYLIGHT
DTSTART:20220327T030000
RDATE:20221030T020000
TZOFFSETFROM:+0100
TZOFFSETTO:+0200
TZNAME:Europe/Berlin CEST
END:DAYLIGHT
BEGIN:DAYLIGHT
DTSTART:20230326T030000
RDATE:20231029T020000
TZOFFSETFROM:+0100
TZOFFSETTO:+0200
TZNAME:Europe/Berlin CEST
END:DAYLIGHT
END:VTIMEZONE
BEGIN:VEVENT
UID:821dc5db857c8baae425d189360d544e
CATEGORIES:Musik
CREATED:20190710T233931
SUMMARY:Oecher Troubadoure beim Straßenfest (Henger Herrjotts Fott 1986 e. V.)
LOCATION:Kreuzigungsgruppe "Henger Herrjotts Fott" Wirichsbongardstraße\, 52062 Aach
 en
DESCRIPTION;ENCODING=QUOTED-PRINTABLE:Veranstaltung: Straßenfest - Henger Herrjotts Fott e. V.Künstler: \n\nOeche
 r Troubadoure\n\nOrt: Kreuzigungsgruppe "Henger Herrjotts Fott"\nWirichsbon
 gardstraße, 52062 Aachen   Termin: 02.08.2019Beginn: ca. 19:00 Uhr (ca. 20 
 Uhr Auftritt)Ende: ca. 23:00 Uhr(Einlass:) ca. 30-60 Minuten vor Beginn *1 
   Kosten: - € (Preis pro Person *2)Eintritt: -Veranstalter: siehe offiziell
 e Bekanntgabe weitere Infos zum Termin auf:\n\n\n\n\nAnmerkungen: (Alle Ang
 aben ohne Gewähr)\n*1: abweichende Einlasszeiten sind (soweit bekannt) ange
 geben.\n*2: Eintrittskarte pro Person, Ermäßigungen bitte beim Veranstalter
  erfragen\n\n
CONTACT:190000212
DTSTAMP:20260424T130318Z
DTSTART;TZID=Europe/Berlin:20190802T190000
DTEND;TZID=Europe/Berlin:20190802T230000
SEQUENCE:0
TRANSP:OPAQUE
END:VEVENT
END:VCALENDAR