BEGIN:VCALENDAR
VERSION:2.0
PRODID:-//jEvents 2.0 for Joomla//EN
CALSCALE:GREGORIAN
METHOD:PUBLISH
BEGIN:VTIMEZONE
TZID:Europe/Berlin
BEGIN:STANDARD
DTSTART:20181028T020000
RDATE:20190331T030000
TZOFFSETFROM:+0200
TZOFFSETTO:+0100
TZNAME:Europe/Berlin CET
END:STANDARD
BEGIN:STANDARD
DTSTART:20191027T020000
RDATE:20200329T030000
TZOFFSETFROM:+0200
TZOFFSETTO:+0100
TZNAME:Europe/Berlin CET
END:STANDARD
BEGIN:STANDARD
DTSTART:20201025T020000
RDATE:20210328T030000
TZOFFSETFROM:+0200
TZOFFSETTO:+0100
TZNAME:Europe/Berlin CET
END:STANDARD
BEGIN:STANDARD
DTSTART:20211031T020000
RDATE:20220327T030000
TZOFFSETFROM:+0200
TZOFFSETTO:+0100
TZNAME:Europe/Berlin CET
END:STANDARD
BEGIN:STANDARD
DTSTART:20221030T020000
RDATE:20230326T030000
TZOFFSETFROM:+0200
TZOFFSETTO:+0100
TZNAME:Europe/Berlin CET
END:STANDARD
BEGIN:STANDARD
DTSTART:20231029T020000
RDATE:20240331T030000
TZOFFSETFROM:+0200
TZOFFSETTO:+0100
TZNAME:Europe/Berlin CET
END:STANDARD
BEGIN:DAYLIGHT
DTSTART:20180802T190000
RDATE:20181028T020000
TZOFFSETFROM:+0100
TZOFFSETTO:+0200
TZNAME:Europe/Berlin CEST
END:DAYLIGHT
BEGIN:DAYLIGHT
DTSTART:20190331T030000
RDATE:20191027T020000
TZOFFSETFROM:+0100
TZOFFSETTO:+0200
TZNAME:Europe/Berlin CEST
END:DAYLIGHT
BEGIN:DAYLIGHT
DTSTART:20200329T030000
RDATE:20201025T020000
TZOFFSETFROM:+0100
TZOFFSETTO:+0200
TZNAME:Europe/Berlin CEST
END:DAYLIGHT
BEGIN:DAYLIGHT
DTSTART:20210328T030000
RDATE:20211031T020000
TZOFFSETFROM:+0100
TZOFFSETTO:+0200
TZNAME:Europe/Berlin CEST
END:DAYLIGHT
BEGIN:DAYLIGHT
DTSTART:20220327T030000
RDATE:20221030T020000
TZOFFSETFROM:+0100
TZOFFSETTO:+0200
TZNAME:Europe/Berlin CEST
END:DAYLIGHT
BEGIN:DAYLIGHT
DTSTART:20230326T030000
RDATE:20231029T020000
TZOFFSETFROM:+0100
TZOFFSETTO:+0200
TZNAME:Europe/Berlin CEST
END:DAYLIGHT
END:VTIMEZONE
BEGIN:VEVENT
UID:60db834cb5cfc826ef09996a5fadf9b0
CATEGORIES:Musik
CREATED:20190710T234035
SUMMARY:Oecher Stadtmusikanten und Kurt Christ beim Straßenfest (Henger Herrjotts Fott 1986 e. V.)
LOCATION:Kreuzigungsgruppe "Henger Herrjotts Fott" Wirichsbongardstraße\, 52062 Aach
 en
DESCRIPTION;ENCODING=QUOTED-PRINTABLE:Veranstaltung: Straßenfest - Henger Herrjotts Fott e. V.Künstler: \n\nOeche
 r Stadtmusikanten\nKurt Christ\n\nOrt: Kreuzigungsgruppe "Henger Herrjotts 
 Fott"\nWirichsbongardstraße, 52062 Aachen   Termin: 03.08.2019Beginn: ca. 1
 3:00 Uhr (ca. 19 Uhr Auftritte)Ende: ca. 23:00 Uhr(Einlass:) ca. 30-60 Minu
 ten vor Beginn *1   Kosten: - € (Preis pro Person *2)Eintritt: -Veranstalte
 r: siehe offizielle Bekanntgabe weitere Infos zum Termin auf:\n\n\n\n\nAnme
 rkungen: (Alle Angaben ohne Gewähr)\n*1: abweichende Einlasszeiten sind (so
 weit bekannt) angegeben.\n*2: Eintrittskarte pro Person, Ermäßigungen bitte
  beim Veranstalter erfragen\n\n
CONTACT:190000224
DTSTAMP:20260424T113639Z
DTSTART;TZID=Europe/Berlin:20190803T190000
DTEND;TZID=Europe/Berlin:20190803T230000
SEQUENCE:0
TRANSP:OPAQUE
END:VEVENT
END:VCALENDAR