BEGIN:VCALENDAR
VERSION:2.0
PRODID:-//jEvents 2.0 for Joomla//EN
CALSCALE:GREGORIAN
METHOD:PUBLISH
BEGIN:VTIMEZONE
TZID:Europe/Berlin
BEGIN:STANDARD
DTSTART:20181123T183000
RDATE:20190331T030000
TZOFFSETFROM:+0200
TZOFFSETTO:+0100
TZNAME:Europe/Berlin CET
END:STANDARD
BEGIN:STANDARD
DTSTART:20191027T020000
RDATE:20200329T030000
TZOFFSETFROM:+0200
TZOFFSETTO:+0100
TZNAME:Europe/Berlin CET
END:STANDARD
BEGIN:STANDARD
DTSTART:20201025T020000
RDATE:20210328T030000
TZOFFSETFROM:+0200
TZOFFSETTO:+0100
TZNAME:Europe/Berlin CET
END:STANDARD
BEGIN:STANDARD
DTSTART:20211031T020000
RDATE:20220327T030000
TZOFFSETFROM:+0200
TZOFFSETTO:+0100
TZNAME:Europe/Berlin CET
END:STANDARD
BEGIN:STANDARD
DTSTART:20221030T020000
RDATE:20230326T030000
TZOFFSETFROM:+0200
TZOFFSETTO:+0100
TZNAME:Europe/Berlin CET
END:STANDARD
BEGIN:STANDARD
DTSTART:20231029T020000
RDATE:20240331T030000
TZOFFSETFROM:+0200
TZOFFSETTO:+0100
TZNAME:Europe/Berlin CET
END:STANDARD
BEGIN:DAYLIGHT
DTSTART:20190331T030000
RDATE:20191027T020000
TZOFFSETFROM:+0100
TZOFFSETTO:+0200
TZNAME:Europe/Berlin CEST
END:DAYLIGHT
BEGIN:DAYLIGHT
DTSTART:20200329T030000
RDATE:20201025T020000
TZOFFSETFROM:+0100
TZOFFSETTO:+0200
TZNAME:Europe/Berlin CEST
END:DAYLIGHT
BEGIN:DAYLIGHT
DTSTART:20210328T030000
RDATE:20211031T020000
TZOFFSETFROM:+0100
TZOFFSETTO:+0200
TZNAME:Europe/Berlin CEST
END:DAYLIGHT
BEGIN:DAYLIGHT
DTSTART:20220327T030000
RDATE:20221030T020000
TZOFFSETFROM:+0100
TZOFFSETTO:+0200
TZNAME:Europe/Berlin CEST
END:DAYLIGHT
BEGIN:DAYLIGHT
DTSTART:20230326T030000
RDATE:20231029T020000
TZOFFSETFROM:+0100
TZOFFSETTO:+0200
TZNAME:Europe/Berlin CEST
END:DAYLIGHT
END:VTIMEZONE
BEGIN:VEVENT
UID:9c2fc1f0c76f593bdf1f604aba7f5873
CATEGORIES:Musik
CREATED:20190717T145631
SUMMARY:Wohnzimmerkonzert "Udo S." - Künstler für Malabon
LOCATION:Burg Rode\, Burgstraße 5\, 52134 Herzogenrath
DESCRIPTION;ENCODING=QUOTED-PRINTABLE:Veranstaltung: \n\nWohnzimmer-Konzert\n\nu. a. met Udo Schroll (18:30 - 19:
 30 Uhr)\nFinissage der Reihe - Künstler für Malabon\n\nKünstler: \n\nMusika
 lisch: Udo S.\n\nOrt: \n\nBurg Rode, \nBurgstraße 5, \n52134 Herzogenrath\n
    Termin: 24.11.2019Beginn: 18:30 - 19:30 Uhr (Udo)\nEnde:  (Einlass:) ca.
  30-60 Min. vor Beginn *1   Kosten: nicht bekannt (Preis pro Person *2)Eint
 ritt: -Veranstalter: siehe offizielle Bekanntgabe weitere Infos zum Termin 
 auf: http://www.udo-schroll.de/Termine\n\nAnmerkungen: (Alle Angaben ohne G
 ewähr)\n*1: abweichende Einlasszeiten sind (soweit bekannt) angegeben.\n*2:
  Eintrittskarte pro Person, Ermäßigungen bitte beim Veranstalter erfragen\n
CONTACT:190000197
DTSTAMP:20260419T154634Z
DTSTART;TZID=Europe/Berlin:20191124T183000
DTEND;TZID=Europe/Berlin:20191124T193000
SEQUENCE:0
TRANSP:OPAQUE
END:VEVENT
END:VCALENDAR