BEGIN:VCALENDAR
VERSION:2.0
PRODID:-//jEvents 2.0 for Joomla//EN
CALSCALE:GREGORIAN
METHOD:PUBLISH
BEGIN:VTIMEZONE
TZID:Europe/Berlin
BEGIN:STANDARD
DTSTART:20181130T100000
RDATE:20190331T030000
TZOFFSETFROM:+0200
TZOFFSETTO:+0100
TZNAME:Europe/Berlin CET
END:STANDARD
BEGIN:STANDARD
DTSTART:20191027T020000
RDATE:20200329T030000
TZOFFSETFROM:+0200
TZOFFSETTO:+0100
TZNAME:Europe/Berlin CET
END:STANDARD
BEGIN:STANDARD
DTSTART:20201025T020000
RDATE:20210328T030000
TZOFFSETFROM:+0200
TZOFFSETTO:+0100
TZNAME:Europe/Berlin CET
END:STANDARD
BEGIN:STANDARD
DTSTART:20211031T020000
RDATE:20220327T030000
TZOFFSETFROM:+0200
TZOFFSETTO:+0100
TZNAME:Europe/Berlin CET
END:STANDARD
BEGIN:STANDARD
DTSTART:20221030T020000
RDATE:20230326T030000
TZOFFSETFROM:+0200
TZOFFSETTO:+0100
TZNAME:Europe/Berlin CET
END:STANDARD
BEGIN:STANDARD
DTSTART:20231029T020000
RDATE:20240331T030000
TZOFFSETFROM:+0200
TZOFFSETTO:+0100
TZNAME:Europe/Berlin CET
END:STANDARD
BEGIN:DAYLIGHT
DTSTART:20190331T030000
RDATE:20191027T020000
TZOFFSETFROM:+0100
TZOFFSETTO:+0200
TZNAME:Europe/Berlin CEST
END:DAYLIGHT
BEGIN:DAYLIGHT
DTSTART:20200329T030000
RDATE:20201025T020000
TZOFFSETFROM:+0100
TZOFFSETTO:+0200
TZNAME:Europe/Berlin CEST
END:DAYLIGHT
BEGIN:DAYLIGHT
DTSTART:20210328T030000
RDATE:20211031T020000
TZOFFSETFROM:+0100
TZOFFSETTO:+0200
TZNAME:Europe/Berlin CEST
END:DAYLIGHT
BEGIN:DAYLIGHT
DTSTART:20220327T030000
RDATE:20221030T020000
TZOFFSETFROM:+0100
TZOFFSETTO:+0200
TZNAME:Europe/Berlin CEST
END:DAYLIGHT
BEGIN:DAYLIGHT
DTSTART:20230326T030000
RDATE:20231029T020000
TZOFFSETFROM:+0100
TZOFFSETTO:+0200
TZNAME:Europe/Berlin CEST
END:DAYLIGHT
END:VTIMEZONE
BEGIN:VEVENT
UID:af2beafcceca3991a8b8afa7e14fed2f
CATEGORIES:Musik
CREATED:20190717T150233
SUMMARY:Chressmes op Öcher Platt (Waltraud Schings & Udo S.)
LOCATION:Eurode Live\, Bergerstraße 14\, 52134 Herzogenrath
DESCRIPTION;ENCODING=QUOTED-PRINTABLE:Veranstaltung: \n\nChressmes op Öcher Platt\n\n\nLesung mit Waltraud Sching
 s musikalisch garniert von Udo-S-Punkt\nKünstler: \n\nMusikalisch: Udo-S-Pu
 nkt\nTexte gelesen von : Waltraud Schings\n\nOrt: \n\nEurode Live,\nBergers
 traße 14, 52134 Herzogenrath\n   Termin: 01.12.2019Beginn: 10:00 - 12:00 Uh
 r\nEnde:  (Einlass:) ca. 30-60 Min. vor Beginn *1   Kosten: noch nicht beka
 nnt (Preis pro Person *2)Eintritt: -Veranstalter: siehe offizielle Bekanntg
 abe weitere Infos zum Termin auf: http://www.udo-schroll.de/Termine\n\n \n\
 n\nAnmerkungen: (Alle Angaben ohne Gewähr)\n*1: abweichende Einlasszeiten s
 ind (soweit bekannt) angegeben.\n*2: Eintrittskarte pro Person, Ermäßigunge
 n bitte beim Veranstalter erfragen\n
CONTACT:190000197
DTSTAMP:20260419T191648Z
DTSTART;TZID=Europe/Berlin:20191201T100000
DTEND;TZID=Europe/Berlin:20191201T120000
SEQUENCE:0
TRANSP:OPAQUE
END:VEVENT
END:VCALENDAR