BEGIN:VCALENDAR
VERSION:2.0
PRODID:-//jEvents 2.0 for Joomla//EN
CALSCALE:GREGORIAN
METHOD:PUBLISH
BEGIN:VTIMEZONE
TZID:Europe/Berlin
BEGIN:STANDARD
DTSTART:20181028T020000
RDATE:20190331T030000
TZOFFSETFROM:+0200
TZOFFSETTO:+0100
TZNAME:Europe/Berlin CET
END:STANDARD
BEGIN:STANDARD
DTSTART:20191027T020000
RDATE:20200329T030000
TZOFFSETFROM:+0200
TZOFFSETTO:+0100
TZNAME:Europe/Berlin CET
END:STANDARD
BEGIN:STANDARD
DTSTART:20201025T020000
RDATE:20210328T030000
TZOFFSETFROM:+0200
TZOFFSETTO:+0100
TZNAME:Europe/Berlin CET
END:STANDARD
BEGIN:STANDARD
DTSTART:20211031T020000
RDATE:20220327T030000
TZOFFSETFROM:+0200
TZOFFSETTO:+0100
TZNAME:Europe/Berlin CET
END:STANDARD
BEGIN:STANDARD
DTSTART:20221030T020000
RDATE:20230326T030000
TZOFFSETFROM:+0200
TZOFFSETTO:+0100
TZNAME:Europe/Berlin CET
END:STANDARD
BEGIN:STANDARD
DTSTART:20231029T020000
RDATE:20240331T030000
TZOFFSETFROM:+0200
TZOFFSETTO:+0100
TZNAME:Europe/Berlin CET
END:STANDARD
BEGIN:DAYLIGHT
DTSTART:20180913T200000
RDATE:20181028T020000
TZOFFSETFROM:+0100
TZOFFSETTO:+0200
TZNAME:Europe/Berlin CEST
END:DAYLIGHT
BEGIN:DAYLIGHT
DTSTART:20190331T030000
RDATE:20191027T020000
TZOFFSETFROM:+0100
TZOFFSETTO:+0200
TZNAME:Europe/Berlin CEST
END:DAYLIGHT
BEGIN:DAYLIGHT
DTSTART:20200329T030000
RDATE:20201025T020000
TZOFFSETFROM:+0100
TZOFFSETTO:+0200
TZNAME:Europe/Berlin CEST
END:DAYLIGHT
BEGIN:DAYLIGHT
DTSTART:20210328T030000
RDATE:20211031T020000
TZOFFSETFROM:+0100
TZOFFSETTO:+0200
TZNAME:Europe/Berlin CEST
END:DAYLIGHT
BEGIN:DAYLIGHT
DTSTART:20220327T030000
RDATE:20221030T020000
TZOFFSETFROM:+0100
TZOFFSETTO:+0200
TZNAME:Europe/Berlin CEST
END:DAYLIGHT
BEGIN:DAYLIGHT
DTSTART:20230326T030000
RDATE:20231029T020000
TZOFFSETFROM:+0100
TZOFFSETTO:+0200
TZNAME:Europe/Berlin CEST
END:DAYLIGHT
END:VTIMEZONE
BEGIN:VEVENT
UID:f9155ea18852b3f7b07b2f998e24f319
CATEGORIES:Heämet
CREATED:20190720T203411
SUMMARY:Nachtwächter-Stadtführung (Lüüehteman)
LOCATION:An der Hotmannspief\, Alexanderstraße 15\, 52062 Aachen
DESCRIPTION;ENCODING=QUOTED-PRINTABLE:Veranstaltung: Nachtwächter-Stadtführung \n(Lüüehteman)Künstler: \n\nMarita
  Zeyen\nOrt: Hotmannspiif (Laufbrunnen), 52062 Aachen   Termin: 14.09.2019 
 (SA!)\nBeginn: 20:00 UhrEnde: ca. 21.30 Uhr(Einlass:) Treffpunkt: An der Ho
 tmannspiif   Kosten: 10,00€ / 8,00€ (Erw. / Schüler bis 14 Jahre)Eintritt: 
 \n\nReservierung unter Diese E-Mail-Adresse ist vor Spambots geschützt! Zur
  Anzeige muss JavaScript eingeschaltet sein!
				document.getElementById('c
 loak3e23287acc0474ecf82da1214b9b1ad8').innerHTML = '';
				var prefix = '&#
 109;a' + 'i&#108;' + '&#116;o';
				var path = 'hr' + 'ef' + '=';
				var a
 ddy3e23287acc0474ecf82da1214b9b1ad8 = 'm&#97;r&#105;t&#97;-z&#101;y&#101;n'
  + '&#64;';
				addy3e23287acc0474ecf82da1214b9b1ad8 = addy3e23287acc0474ec
 f82da1214b9b1ad8 + 'w&#101;b' + '&#46;' + 'd&#101;';
				var addy_text3e232
 87acc0474ecf82da1214b9b1ad8 = 'm&#97;r&#105;t&#97;-z&#101;y&#101;n' + '&#64
 ;' + 'w&#101;b' + '&#46;' + 'd&#101;';document.getElementById('cloak3e23287
 acc0474ecf82da1214b9b1ad8').innerHTML += ''+addy_text3e23287acc0474ecf82da1
 214b9b1ad8+'';
		\n\n\noder 0241 / 165 411\nVeranstalter: siehe offizielle 
 Bekanntgabe weitere Infos zum Termin auf: http://www.nachtwaechter-aachen.d
 e/termine/ \n\nAnmerkungen: (Alle Angaben ohne Gewähr)\n*1: abweichende Ein
 lasszeiten sind (soweit bekannt) angegeben.\n*2: Eintrittskarte pro Person,
  Ermäßigungen bitte beim Veranstalter erfragen\n\n
CONTACT:190000263
X-EXTRAINFO:http://www.aachen.de/de/tourismus_stadtinfo/40_70_fuehrungen/fuehrungen_ein
 zelgaeste/Themenfuehrungen-2016/index.html
DTSTAMP:20260419T220215Z
DTSTART;TZID=Europe/Berlin:20190914T200000
DTEND;TZID=Europe/Berlin:20190914T213000
SEQUENCE:0
TRANSP:OPAQUE
END:VEVENT
END:VCALENDAR