BEGIN:VCALENDAR
VERSION:2.0
PRODID:-//jEvents 2.0 for Joomla//EN
CALSCALE:GREGORIAN
METHOD:PUBLISH
BEGIN:VTIMEZONE
TZID:Europe/Berlin
BEGIN:STANDARD
DTSTART:20181028T020000
RDATE:20190331T030000
TZOFFSETFROM:+0200
TZOFFSETTO:+0100
TZNAME:Europe/Berlin CET
END:STANDARD
BEGIN:STANDARD
DTSTART:20191027T020000
RDATE:20200329T030000
TZOFFSETFROM:+0200
TZOFFSETTO:+0100
TZNAME:Europe/Berlin CET
END:STANDARD
BEGIN:STANDARD
DTSTART:20201025T020000
RDATE:20210328T030000
TZOFFSETFROM:+0200
TZOFFSETTO:+0100
TZNAME:Europe/Berlin CET
END:STANDARD
BEGIN:STANDARD
DTSTART:20211031T020000
RDATE:20220327T030000
TZOFFSETFROM:+0200
TZOFFSETTO:+0100
TZNAME:Europe/Berlin CET
END:STANDARD
BEGIN:STANDARD
DTSTART:20221030T020000
RDATE:20230326T030000
TZOFFSETFROM:+0200
TZOFFSETTO:+0100
TZNAME:Europe/Berlin CET
END:STANDARD
BEGIN:STANDARD
DTSTART:20231029T020000
RDATE:20240331T030000
TZOFFSETFROM:+0200
TZOFFSETTO:+0100
TZNAME:Europe/Berlin CET
END:STANDARD
BEGIN:DAYLIGHT
DTSTART:20180831T164500
RDATE:20181028T020000
TZOFFSETFROM:+0100
TZOFFSETTO:+0200
TZNAME:Europe/Berlin CEST
END:DAYLIGHT
BEGIN:DAYLIGHT
DTSTART:20190331T030000
RDATE:20191027T020000
TZOFFSETFROM:+0100
TZOFFSETTO:+0200
TZNAME:Europe/Berlin CEST
END:DAYLIGHT
BEGIN:DAYLIGHT
DTSTART:20200329T030000
RDATE:20201025T020000
TZOFFSETFROM:+0100
TZOFFSETTO:+0200
TZNAME:Europe/Berlin CEST
END:DAYLIGHT
BEGIN:DAYLIGHT
DTSTART:20210328T030000
RDATE:20211031T020000
TZOFFSETFROM:+0100
TZOFFSETTO:+0200
TZNAME:Europe/Berlin CEST
END:DAYLIGHT
BEGIN:DAYLIGHT
DTSTART:20220327T030000
RDATE:20221030T020000
TZOFFSETFROM:+0100
TZOFFSETTO:+0200
TZNAME:Europe/Berlin CEST
END:DAYLIGHT
BEGIN:DAYLIGHT
DTSTART:20230326T030000
RDATE:20231029T020000
TZOFFSETFROM:+0100
TZOFFSETTO:+0200
TZNAME:Europe/Berlin CEST
END:DAYLIGHT
END:VTIMEZONE
BEGIN:VEVENT
UID:8b80d2b536fe5a4a4f199ff93866755c
CATEGORIES:Musik
CREATED:20190820T204505
SUMMARY:TDI 2019 - "Vür sönd allemoel Öcher Jonge"
LOCATION:Eurogress Aachen\, Monheimsallee 48\, 52062 Aachen
DESCRIPTION;ENCODING=QUOTED-PRINTABLE:Veranstaltung: \n\nTag der Integration 2019 - \n"Vür sönd allemoele Öcher J
 onge"\n\nKünstler: \n\nOecher Stallburschen, AKC Royal usw...\n\nOrt: \n\nE
 urogress Aachen, Europasaal\nMonheimsallee 48, 52062 Aachen\n   Termin: 01.
 09.2019 (SO)Beginn: ab 11:15 Uhr (Auftritt ca. 16:45 Uhr)\nEnde: 17:30 Uhr(
 Einlass:) ca. 10:45 Uhr   Kosten: - (Preis pro Person *2)Eintritt: Eintritt
  freiVeranstalter: siehe offizielle Bekanntgabe weitere Infos zum Termin au
 f:\n\nhttps://www.tagderintegration-aachen.de/export/sites/region-aachen-st
 adt/tag-der-integration-aachen/.galleries/Werbematerialien/STA_Flyer_TdI201
 9_v11_1.pdf\n\n\nbzw.\n\n\nhttps://www.tagderintegration-aachen.de/export/s
 ites/region-aachen-stadt/tag-der-integration-aachen/.galleries/Werbemateria
 lien/STA_Postkarte_v8.pdf\n\n\nAnmerkungen: (Alle Angaben ohne Gewähr)\n*1:
  abweichende Einlasszeiten sind (soweit bekannt) angegeben.\n*2: Eintrittsk
 arte pro Person, Ermäßigungen bitte beim Veranstalter erfragen\n
CONTACT:190000252
DTSTAMP:20260419T220339Z
DTSTART;TZID=Europe/Berlin:20190901T164500
SEQUENCE:0
TRANSP:OPAQUE
END:VEVENT
END:VCALENDAR