BEGIN:VCALENDAR
VERSION:2.0
PRODID:-//jEvents 2.0 for Joomla//EN
CALSCALE:GREGORIAN
METHOD:PUBLISH
BEGIN:VTIMEZONE
TZID:Europe/Berlin
BEGIN:STANDARD
DTSTART:20181028T020000
RDATE:20190331T030000
TZOFFSETFROM:+0200
TZOFFSETTO:+0100
TZNAME:Europe/Berlin CET
END:STANDARD
BEGIN:STANDARD
DTSTART:20191027T020000
RDATE:20200329T030000
TZOFFSETFROM:+0200
TZOFFSETTO:+0100
TZNAME:Europe/Berlin CET
END:STANDARD
BEGIN:STANDARD
DTSTART:20201025T020000
RDATE:20210328T030000
TZOFFSETFROM:+0200
TZOFFSETTO:+0100
TZNAME:Europe/Berlin CET
END:STANDARD
BEGIN:STANDARD
DTSTART:20211031T020000
RDATE:20220327T030000
TZOFFSETFROM:+0200
TZOFFSETTO:+0100
TZNAME:Europe/Berlin CET
END:STANDARD
BEGIN:STANDARD
DTSTART:20221030T020000
RDATE:20230326T030000
TZOFFSETFROM:+0200
TZOFFSETTO:+0100
TZNAME:Europe/Berlin CET
END:STANDARD
BEGIN:STANDARD
DTSTART:20231029T020000
RDATE:20240331T030000
TZOFFSETFROM:+0200
TZOFFSETTO:+0100
TZNAME:Europe/Berlin CET
END:STANDARD
BEGIN:DAYLIGHT
DTSTART:20180928T150000
RDATE:20181028T020000
TZOFFSETFROM:+0100
TZOFFSETTO:+0200
TZNAME:Europe/Berlin CEST
END:DAYLIGHT
BEGIN:DAYLIGHT
DTSTART:20190331T030000
RDATE:20191027T020000
TZOFFSETFROM:+0100
TZOFFSETTO:+0200
TZNAME:Europe/Berlin CEST
END:DAYLIGHT
BEGIN:DAYLIGHT
DTSTART:20200329T030000
RDATE:20201025T020000
TZOFFSETFROM:+0100
TZOFFSETTO:+0200
TZNAME:Europe/Berlin CEST
END:DAYLIGHT
BEGIN:DAYLIGHT
DTSTART:20210328T030000
RDATE:20211031T020000
TZOFFSETFROM:+0100
TZOFFSETTO:+0200
TZNAME:Europe/Berlin CEST
END:DAYLIGHT
BEGIN:DAYLIGHT
DTSTART:20220327T030000
RDATE:20221030T020000
TZOFFSETFROM:+0100
TZOFFSETTO:+0200
TZNAME:Europe/Berlin CEST
END:DAYLIGHT
BEGIN:DAYLIGHT
DTSTART:20230326T030000
RDATE:20231029T020000
TZOFFSETFROM:+0100
TZOFFSETTO:+0200
TZNAME:Europe/Berlin CEST
END:DAYLIGHT
END:VTIMEZONE
BEGIN:VEVENT
UID:372f15f6da03c77900871b4e538eeb32
CATEGORIES:För os Kenger
CREATED:20190824T164003
SUMMARY:Der Teufel in Aachen (Öcher Schängche für Kinder)
LOCATION:Löhergraben 22\, 52062 Aachen
DESCRIPTION;ENCODING=QUOTED-PRINTABLE:Veranstaltung: Der Teufel in Aachen (Öcher Schängchen - Kinderstück)Künstle
 r: \n\nÖcher Schängchen, Nieres u. v. m.\n(Traditionelle Stockpuppenbühne)\
 n\nOrt: \n\nStadtpuppenbühne Öcher Schängche\nBarockfabrik, Löhergraben 22,
  52064 Aachen\n   Termin: 29.09.2019Beginn: 15:00 UhrEnde: unbekannt(Einlas
 s:) 14:30 Uhr   Kosten: ca. 3 bzw. 5 € (Kinder / Erwachsenen) pro Karte \n(
 ermäßigt 2 bzw. 3 €) *2Eintritt: TageskasseVeranstalter: siehe offizielle B
 ekanntgabe weitere Infos zum Termin:http://www.aachen.de/de/kultur_freizeit
 /kultur/theater/oecher_schaengche/Spielplan_2019_20_DIN_A_4.pdf\nTraditione
 lles Eröffungsstück zum neuen Spielplan der Stadtpuppenbühne.\n\nDer Anteil
  der Sprache "Öcher Platt" ist nur ca. 40-60% (je nach Kinderstück), sodass
  die Kinder die Handlung fast vollständig verstehen können.\n\nEinige Kinde
 rstücke können ein paar kleine "ängstliche Szenen" enthalten. Die empfohlen
 e Altersstufe pro Stück kann beim Veranstalter erfragt werden. \nAber, bei 
 jedem Stück gewinnt das Gute und die 4. Kerze der Hoffnung stirbt bekanntli
 ch zuletzt.\n\n\n\n\nAnmerkungen: (Alle Angaben ohne Gewähr)\n*1: abweichen
 de Einlasszeiten sind (soweit bekannt) angegeben.\n*2: Eintrittskarte pro P
 erson, Ermäßigungen bitte beim Veranstalter erfragen\n\n\n\n \n\n\nInfos zu
 m Termin auf: http://www.aachen.de/de/kultur_freizeit/kultur/theater/puppen
 buehne/index.html\n\n\nbzw. http://www.oecher-schaengche.de/\n\n\n \n\n\n \
 n\n\nAnmerkungen:\n\n\nAlle Angaben ohne Gewähr\n
CONTACT:190000275
DTSTAMP:20260419T220338Z
DTSTART;TZID=Europe/Berlin:20190929T150000
DTEND;TZID=Europe/Berlin:20190929T161500
SEQUENCE:0
TRANSP:OPAQUE
END:VEVENT
END:VCALENDAR