BEGIN:VCALENDAR
VERSION:2.0
PRODID:-//jEvents 2.0 for Joomla//EN
CALSCALE:GREGORIAN
METHOD:PUBLISH
BEGIN:VTIMEZONE
TZID:Europe/Berlin
BEGIN:STANDARD
DTSTART:20181028T020000
RDATE:20190331T030000
TZOFFSETFROM:+0200
TZOFFSETTO:+0100
TZNAME:Europe/Berlin CET
END:STANDARD
BEGIN:STANDARD
DTSTART:20191027T020000
RDATE:20200329T030000
TZOFFSETFROM:+0200
TZOFFSETTO:+0100
TZNAME:Europe/Berlin CET
END:STANDARD
BEGIN:STANDARD
DTSTART:20201025T020000
RDATE:20210328T030000
TZOFFSETFROM:+0200
TZOFFSETTO:+0100
TZNAME:Europe/Berlin CET
END:STANDARD
BEGIN:STANDARD
DTSTART:20211031T020000
RDATE:20220327T030000
TZOFFSETFROM:+0200
TZOFFSETTO:+0100
TZNAME:Europe/Berlin CET
END:STANDARD
BEGIN:STANDARD
DTSTART:20221030T020000
RDATE:20230326T030000
TZOFFSETFROM:+0200
TZOFFSETTO:+0100
TZNAME:Europe/Berlin CET
END:STANDARD
BEGIN:STANDARD
DTSTART:20231029T020000
RDATE:20240331T030000
TZOFFSETFROM:+0200
TZOFFSETTO:+0100
TZNAME:Europe/Berlin CET
END:STANDARD
BEGIN:DAYLIGHT
DTSTART:20181012T150000
RDATE:20181028T020000
TZOFFSETFROM:+0100
TZOFFSETTO:+0200
TZNAME:Europe/Berlin CEST
END:DAYLIGHT
BEGIN:DAYLIGHT
DTSTART:20190331T030000
RDATE:20191027T020000
TZOFFSETFROM:+0100
TZOFFSETTO:+0200
TZNAME:Europe/Berlin CEST
END:DAYLIGHT
BEGIN:DAYLIGHT
DTSTART:20200329T030000
RDATE:20201025T020000
TZOFFSETFROM:+0100
TZOFFSETTO:+0200
TZNAME:Europe/Berlin CEST
END:DAYLIGHT
BEGIN:DAYLIGHT
DTSTART:20210328T030000
RDATE:20211031T020000
TZOFFSETFROM:+0100
TZOFFSETTO:+0200
TZNAME:Europe/Berlin CEST
END:DAYLIGHT
BEGIN:DAYLIGHT
DTSTART:20220327T030000
RDATE:20221030T020000
TZOFFSETFROM:+0100
TZOFFSETTO:+0200
TZNAME:Europe/Berlin CEST
END:DAYLIGHT
BEGIN:DAYLIGHT
DTSTART:20230326T030000
RDATE:20231029T020000
TZOFFSETFROM:+0100
TZOFFSETTO:+0200
TZNAME:Europe/Berlin CEST
END:DAYLIGHT
END:VTIMEZONE
BEGIN:VEVENT
UID:f474eb42a7d3c88d4e77fc3446d9f143
CATEGORIES:För os Kenger
CREATED:20190824T164912
SUMMARY:De Düvelskess / Die verhexten Printen (Öcher Schängche für Kinder)
LOCATION:Löhergraben 22\, 52062 Aachen
DESCRIPTION;ENCODING=QUOTED-PRINTABLE:Veranstaltung: \n\nDe Düvelkess &amp; Die verhexten Printen\n (zwei Einakte
 r!)\n (Öcher Schängchen - Kinderstück)\nKünstler: \n\nÖcher Schängchen, Nie
 res u. v. m.\n(Traditionelle Stockpuppenbühne)\n\nOrt: \n\nStadtpuppenbühne
  Öcher Schängche\nBarockfabrik, Löhergraben 22, 52064 Aachen\n   Termin: 13
 .10.2019Beginn: 15:00 UhrEnde: unbekannt(Einlass:) 14:30 Uhr   Kosten: ca. 
 3 bzw. 5 € (Kinder / Erwachsenen) pro Karte \n(ermäßigt 2 bzw. 3 €) *2Eintr
 itt: TageskasseVeranstalter: siehe offizielle Bekanntgabe weitere Infos zum
  Termin:http://www.aachen.de/de/kultur_freizeit/kultur/theater/oecher_schae
 ngche/Spielplan_2019_20_DIN_A_4.pdf\n\nDer Anteil der Sprache "Öcher Platt"
  ist nur ca. 40-60% (je nach Kinderstück), sodass die Kinder die Handlung f
 ast vollständig verstehen können.\n\nEinige Kinderstücke können ein paar kl
 eine "ängstliche Szenen" enthalten. Die empfohlene Altersstufe pro Stück ka
 nn beim Veranstalter erfragt werden. \nAber, bei jedem Stück gewinnt das Gu
 te und die 4. Kerze der Hoffnung stirbt bekanntlich zuletzt.\n\n\n\n\nAnmer
 kungen: (Alle Angaben ohne Gewähr)\n*1: abweichende Einlasszeiten sind (sow
 eit bekannt) angegeben.\n*2: Eintrittskarte pro Person, Ermäßigungen bitte 
 beim Veranstalter erfragen\n\n\n\n \n\n\nInfos zum Termin auf: http://www.a
 achen.de/de/kultur_freizeit/kultur/theater/puppenbuehne/index.html\n\n\nbzw
 . http://www.oecher-schaengche.de/\n\n\n \n\n\n \n\n\nAnmerkungen:\n\n\nAll
 e Angaben ohne Gewähr\n
CONTACT:190000275
DTSTAMP:20260420T013956Z
DTSTART;TZID=Europe/Berlin:20191013T150000
DTEND;TZID=Europe/Berlin:20191013T161500
SEQUENCE:0
TRANSP:OPAQUE
END:VEVENT
END:VCALENDAR