BEGIN:VCALENDAR
VERSION:2.0
PRODID:-//jEvents 2.0 for Joomla//EN
CALSCALE:GREGORIAN
METHOD:PUBLISH
BEGIN:VTIMEZONE
TZID:Europe/Berlin
BEGIN:STANDARD
DTSTART:20190123T190000
RDATE:20190331T030000
TZOFFSETFROM:+0200
TZOFFSETTO:+0100
TZNAME:Europe/Berlin CET
END:STANDARD
BEGIN:STANDARD
DTSTART:20191027T020000
RDATE:20200329T030000
TZOFFSETFROM:+0200
TZOFFSETTO:+0100
TZNAME:Europe/Berlin CET
END:STANDARD
BEGIN:STANDARD
DTSTART:20201025T020000
RDATE:20210328T030000
TZOFFSETFROM:+0200
TZOFFSETTO:+0100
TZNAME:Europe/Berlin CET
END:STANDARD
BEGIN:STANDARD
DTSTART:20211031T020000
RDATE:20220327T030000
TZOFFSETFROM:+0200
TZOFFSETTO:+0100
TZNAME:Europe/Berlin CET
END:STANDARD
BEGIN:STANDARD
DTSTART:20221030T020000
RDATE:20230326T030000
TZOFFSETFROM:+0200
TZOFFSETTO:+0100
TZNAME:Europe/Berlin CET
END:STANDARD
BEGIN:STANDARD
DTSTART:20231029T020000
RDATE:20240331T030000
TZOFFSETFROM:+0200
TZOFFSETTO:+0100
TZNAME:Europe/Berlin CET
END:STANDARD
BEGIN:DAYLIGHT
DTSTART:20190331T030000
RDATE:20191027T020000
TZOFFSETFROM:+0100
TZOFFSETTO:+0200
TZNAME:Europe/Berlin CEST
END:DAYLIGHT
BEGIN:DAYLIGHT
DTSTART:20200329T030000
RDATE:20201025T020000
TZOFFSETFROM:+0100
TZOFFSETTO:+0200
TZNAME:Europe/Berlin CEST
END:DAYLIGHT
BEGIN:DAYLIGHT
DTSTART:20210328T030000
RDATE:20211031T020000
TZOFFSETFROM:+0100
TZOFFSETTO:+0200
TZNAME:Europe/Berlin CEST
END:DAYLIGHT
BEGIN:DAYLIGHT
DTSTART:20220327T030000
RDATE:20221030T020000
TZOFFSETFROM:+0100
TZOFFSETTO:+0200
TZNAME:Europe/Berlin CEST
END:DAYLIGHT
BEGIN:DAYLIGHT
DTSTART:20230326T030000
RDATE:20231029T020000
TZOFFSETFROM:+0100
TZOFFSETTO:+0200
TZNAME:Europe/Berlin CEST
END:DAYLIGHT
END:VTIMEZONE
BEGIN:VEVENT
UID:f3617eb323108bb8ef6ee0f6f715168f
CATEGORIES:Fastelovvend
CREATED:20190825T121527
SUMMARY:Öcher fiere met et Schängche Fastelovvend 2020 (Öcher Schängche)
LOCATION:Löhergraben 22\, Aachen
DESCRIPTION;ENCODING=QUOTED-PRINTABLE:Veranstaltung: Öcher fiere met et Schängche Fastelovvend\n2020 (Öcher Schän
 gchen)Künstler: \n\nÖcher Schängchen, Nieres u. v. m.\n(Traditionelle Stock
 puppenbühne)\n\nOrt: \n\nStadtpuppenbühne Öcher Schängche\nBarockfabrik, Lö
 hergraben 22, 52064 Aachen\n   Termin: 24.01.2020Beginn: 19:00 UhrEnde: ca.
  22:00 Uhr(Einlass:) 18:30 Uhr   Kosten: ca. 20 € (Erwachsene) pro Karte \n
 (ermäßigt ? €) *2Eintritt: \n\nnur im VVK \n(am 30.11 für Mitglieder des Fö
 rdervereins, wenige Restkarten evtl. am 07.12)\nVeranstalter: siehe offizie
 lle Bekanntgabe weitere Infos zum Termin:\n\nEsue fiere de Öcher Fastelovve
 nd!!!\n\n\n\n\n\n\n\nAnmerkungen: (Alle Angaben ohne Gewähr)\n*1: abweichen
 de Einlasszeiten sind (soweit bekannt) angegeben.\n*2: Eintrittskarte pro P
 erson, Ermäßigungen bitte beim Veranstalter erfragen\n\n\n\n \n\n\nInfos zu
 m Termin auf: http://www.aachen.de/de/kultur_freizeit/kultur/theater/puppen
 buehne/index.html\n\n\nbzw. http://www.oecher-schaengche.de/\n\n\n \n\n\n \
 n\n\nAnmerkungen:\n\n\nAlle Angaben ohne Gewähr\n
CONTACT:190000278
DTSTAMP:20260424T155932Z
DTSTART;TZID=Europe/Berlin:20200124T190000
DTEND;TZID=Europe/Berlin:20200124T223000
SEQUENCE:0
TRANSP:OPAQUE
END:VEVENT
END:VCALENDAR