BEGIN:VCALENDAR
VERSION:2.0
PRODID:-//jEvents 2.0 for Joomla//EN
CALSCALE:GREGORIAN
METHOD:PUBLISH
BEGIN:VTIMEZONE
TZID:Europe/Berlin
BEGIN:STANDARD
DTSTART:20190125T150000
RDATE:20190331T030000
TZOFFSETFROM:+0200
TZOFFSETTO:+0100
TZNAME:Europe/Berlin CET
END:STANDARD
BEGIN:STANDARD
DTSTART:20191027T020000
RDATE:20200329T030000
TZOFFSETFROM:+0200
TZOFFSETTO:+0100
TZNAME:Europe/Berlin CET
END:STANDARD
BEGIN:STANDARD
DTSTART:20201025T020000
RDATE:20210328T030000
TZOFFSETFROM:+0200
TZOFFSETTO:+0100
TZNAME:Europe/Berlin CET
END:STANDARD
BEGIN:STANDARD
DTSTART:20211031T020000
RDATE:20220327T030000
TZOFFSETFROM:+0200
TZOFFSETTO:+0100
TZNAME:Europe/Berlin CET
END:STANDARD
BEGIN:STANDARD
DTSTART:20221030T020000
RDATE:20230326T030000
TZOFFSETFROM:+0200
TZOFFSETTO:+0100
TZNAME:Europe/Berlin CET
END:STANDARD
BEGIN:STANDARD
DTSTART:20231029T020000
RDATE:20240331T030000
TZOFFSETFROM:+0200
TZOFFSETTO:+0100
TZNAME:Europe/Berlin CET
END:STANDARD
BEGIN:DAYLIGHT
DTSTART:20190331T030000
RDATE:20191027T020000
TZOFFSETFROM:+0100
TZOFFSETTO:+0200
TZNAME:Europe/Berlin CEST
END:DAYLIGHT
BEGIN:DAYLIGHT
DTSTART:20200329T030000
RDATE:20201025T020000
TZOFFSETFROM:+0100
TZOFFSETTO:+0200
TZNAME:Europe/Berlin CEST
END:DAYLIGHT
BEGIN:DAYLIGHT
DTSTART:20210328T030000
RDATE:20211031T020000
TZOFFSETFROM:+0100
TZOFFSETTO:+0200
TZNAME:Europe/Berlin CEST
END:DAYLIGHT
BEGIN:DAYLIGHT
DTSTART:20220327T030000
RDATE:20221030T020000
TZOFFSETFROM:+0100
TZOFFSETTO:+0200
TZNAME:Europe/Berlin CEST
END:DAYLIGHT
BEGIN:DAYLIGHT
DTSTART:20230326T030000
RDATE:20231029T020000
TZOFFSETFROM:+0100
TZOFFSETTO:+0200
TZNAME:Europe/Berlin CEST
END:DAYLIGHT
END:VTIMEZONE
BEGIN:VEVENT
UID:d3bd9c91f2ae27c5ae8d9003c718f264
CATEGORIES:Fastelovvend
CREATED:20190825T121631
SUMMARY:Öcher fiere met et Schängche Fastelovvend 2020 (Öcher Schängche)
LOCATION:Löhergraben 22\, Aachen
DESCRIPTION;ENCODING=QUOTED-PRINTABLE:



Veranstaltung:
&nbsp;
&Ouml;cher fiere met et Sch&auml;ngche Fastelovve
 nd\n2020 (&Ouml;cher Sch&auml;ngchen)


K&uuml;nstler:
&nbsp;

\n\n&Ouml;ch
 er Sch&auml;ngchen, Nieres u. v. m.\n(Traditionelle Stockpuppenb&uuml;hne)\
 n\n



Ort:
&nbsp;

\n\nStadtpuppenb&uuml;hne &Ouml;cher Sch&auml;ngche\nBa
 rockfabrik, L&ouml;hergraben 22, 52064 Aachen\n



&nbsp;
&nbsp;
&nbsp;


T
 ermin:
&nbsp;
26.01.2020


Beginn:
&nbsp;
15:00 Uhr


Ende:
&nbsp;
ca. 19:0
 0 Uhr


(Einlass:)
&nbsp;
14:30 Uhr


&nbsp;
&nbsp;
&nbsp;


Kosten:
&nbsp;
 
ca. 20 &euro; (Erwachsene) pro Karte \n(erm&auml;&szlig;igt ? &euro;) *2


 
Eintritt:
&nbsp;

\n\nnur im VVK \n(am 30.11 f&uuml;r Mitglieder des F&oum
 l;rdervereins, wenige Restkarten evtl. am 07.12)\n



Veranstalter:
&nbsp;

 siehe offizielle Bekanntgabe




&nbsp;
weitere Infos zum Termin:\n\nEsue f
 iere de &Ouml;cher Fastelovvend!!!\n
\n\n\n\n\n
\n\nAnmerkungen: (Alle Anga
 ben ohne Gew&auml;hr)\n*1: abweichende Einlasszeiten sind (soweit bekannt) 
 angegeben.\n*2: Eintrittskarte pro Person, Erm&auml;&szlig;igungen bitte be
 im Veranstalter erfragen\n\n

\n\n&nbsp;\n
\n\nInfos zum Termin auf:&nbsp;h
 ttp://www.aachen.de/de/kultur_freizeit/kultur/theater/puppenbuehne/index.ht
 ml\n
\n\nbzw. http://www.oecher-schaengche.de/\n
\n\n&nbsp;\n
\n\n&nbsp;\n

 \n\nAnmerkungen:\n
\n\nAlle Angaben ohne Gew&auml;hr\n
CONTACT:190000278
DTSTAMP:20260424T143826Z
DTSTART;TZID=Europe/Berlin:20200126T150000
SEQUENCE:0
TRANSP:OPAQUE
END:VEVENT
END:VCALENDAR