BEGIN:VCALENDAR
VERSION:2.0
PRODID:-//jEvents 2.0 for Joomla//EN
CALSCALE:GREGORIAN
METHOD:PUBLISH
BEGIN:VTIMEZONE
TZID:Europe/Berlin
BEGIN:STANDARD
DTSTART:20181028T020000
RDATE:20190331T030000
TZOFFSETFROM:+0200
TZOFFSETTO:+0100
TZNAME:Europe/Berlin CET
END:STANDARD
BEGIN:STANDARD
DTSTART:20191027T020000
RDATE:20200329T030000
TZOFFSETFROM:+0200
TZOFFSETTO:+0100
TZNAME:Europe/Berlin CET
END:STANDARD
BEGIN:STANDARD
DTSTART:20201025T020000
RDATE:20210328T030000
TZOFFSETFROM:+0200
TZOFFSETTO:+0100
TZNAME:Europe/Berlin CET
END:STANDARD
BEGIN:STANDARD
DTSTART:20211031T020000
RDATE:20220327T030000
TZOFFSETFROM:+0200
TZOFFSETTO:+0100
TZNAME:Europe/Berlin CET
END:STANDARD
BEGIN:STANDARD
DTSTART:20221030T020000
RDATE:20230326T030000
TZOFFSETFROM:+0200
TZOFFSETTO:+0100
TZNAME:Europe/Berlin CET
END:STANDARD
BEGIN:STANDARD
DTSTART:20231029T020000
RDATE:20240331T030000
TZOFFSETFROM:+0200
TZOFFSETTO:+0100
TZNAME:Europe/Berlin CET
END:STANDARD
BEGIN:DAYLIGHT
DTSTART:20180918T193000
RDATE:20181028T020000
TZOFFSETFROM:+0100
TZOFFSETTO:+0200
TZNAME:Europe/Berlin CEST
END:DAYLIGHT
BEGIN:DAYLIGHT
DTSTART:20190331T030000
RDATE:20191027T020000
TZOFFSETFROM:+0100
TZOFFSETTO:+0200
TZNAME:Europe/Berlin CEST
END:DAYLIGHT
BEGIN:DAYLIGHT
DTSTART:20200329T030000
RDATE:20201025T020000
TZOFFSETFROM:+0100
TZOFFSETTO:+0200
TZNAME:Europe/Berlin CEST
END:DAYLIGHT
BEGIN:DAYLIGHT
DTSTART:20210328T030000
RDATE:20211031T020000
TZOFFSETFROM:+0100
TZOFFSETTO:+0200
TZNAME:Europe/Berlin CEST
END:DAYLIGHT
BEGIN:DAYLIGHT
DTSTART:20220327T030000
RDATE:20221030T020000
TZOFFSETFROM:+0100
TZOFFSETTO:+0200
TZNAME:Europe/Berlin CEST
END:DAYLIGHT
BEGIN:DAYLIGHT
DTSTART:20230326T030000
RDATE:20231029T020000
TZOFFSETFROM:+0100
TZOFFSETTO:+0200
TZNAME:Europe/Berlin CEST
END:DAYLIGHT
END:VTIMEZONE
BEGIN:VEVENT
UID:1df09d6c0a7187a3ad14548ff9460ca7
CATEGORIES:Musik
CREATED:20190825T132051
SUMMARY:Aachen hausgemacht 2019 (September Special - Aachen)
LOCATION:Markt\, 52068 Aachen
DESCRIPTION;ENCODING=QUOTED-PRINTABLE:Veranstaltung: September Special 2019\nAachen - hausgemacht\nKünstler: \n\n
 u. a. (abwechslungsreiches Showprogramm mit Live-Musik, Tanz, Mode, Talks)\
 n\n\n\nModeration: Robert Esser &amp; Bernd Büttgens\n(nur etwas Mundart vo
 n Bernd Büttgens zu erwarten)\n\nOrt: Marktplatz, (Bühne vor dem Rathaus)\n
 Markt, 52068 Aachen   Termin: 19.09.2019Beginn: 19:30 UhrEnde: ca. 22:00 Uh
 r(Einlass:) ca. 30-60 Minuten vor Beginn *1   Kosten: Eintritt freiEintritt
 : -Veranstalter: siehe offizielle Bekanntgabe\nStadt Aachen, RWTH Aachen un
 d MAC – Märkte u. Aktionskreis City e.V. weitere Infos zum Termin auf: http
 s://www.aachenseptemberspecial.de/event/aachen-hausgemacht/ bzw. http://www
 .aachenseptemberspecial.de/\n\n\n \n\n\nAnmerkungen: (Alle Angaben ohne Gew
 ähr)\n*1: abweichende Einlasszeiten sind (soweit bekannt) angegeben.\n*2: E
 intrittskarte pro Person, Ermäßigungen bitte beim Veranstalter erfragen\n\n
CONTACT:190000279
DTSTAMP:20260419T220339Z
DTSTART;TZID=Europe/Berlin:20190919T193000
DTEND;TZID=Europe/Berlin:20190919T220000
SEQUENCE:0
TRANSP:OPAQUE
END:VEVENT
END:VCALENDAR