BEGIN:VCALENDAR
VERSION:2.0
PRODID:-//jEvents 2.0 for Joomla//EN
CALSCALE:GREGORIAN
METHOD:PUBLISH
BEGIN:VTIMEZONE
TZID:Europe/Berlin
BEGIN:STANDARD
DTSTART:20181206T193000
RDATE:20190331T030000
TZOFFSETFROM:+0200
TZOFFSETTO:+0100
TZNAME:Europe/Berlin CET
END:STANDARD
BEGIN:STANDARD
DTSTART:20191027T020000
RDATE:20200329T030000
TZOFFSETFROM:+0200
TZOFFSETTO:+0100
TZNAME:Europe/Berlin CET
END:STANDARD
BEGIN:STANDARD
DTSTART:20201025T020000
RDATE:20210328T030000
TZOFFSETFROM:+0200
TZOFFSETTO:+0100
TZNAME:Europe/Berlin CET
END:STANDARD
BEGIN:STANDARD
DTSTART:20211031T020000
RDATE:20220327T030000
TZOFFSETFROM:+0200
TZOFFSETTO:+0100
TZNAME:Europe/Berlin CET
END:STANDARD
BEGIN:STANDARD
DTSTART:20221030T020000
RDATE:20230326T030000
TZOFFSETFROM:+0200
TZOFFSETTO:+0100
TZNAME:Europe/Berlin CET
END:STANDARD
BEGIN:STANDARD
DTSTART:20231029T020000
RDATE:20240331T030000
TZOFFSETFROM:+0200
TZOFFSETTO:+0100
TZNAME:Europe/Berlin CET
END:STANDARD
BEGIN:DAYLIGHT
DTSTART:20190331T030000
RDATE:20191027T020000
TZOFFSETFROM:+0100
TZOFFSETTO:+0200
TZNAME:Europe/Berlin CEST
END:DAYLIGHT
BEGIN:DAYLIGHT
DTSTART:20200329T030000
RDATE:20201025T020000
TZOFFSETFROM:+0100
TZOFFSETTO:+0200
TZNAME:Europe/Berlin CEST
END:DAYLIGHT
BEGIN:DAYLIGHT
DTSTART:20210328T030000
RDATE:20211031T020000
TZOFFSETFROM:+0100
TZOFFSETTO:+0200
TZNAME:Europe/Berlin CEST
END:DAYLIGHT
BEGIN:DAYLIGHT
DTSTART:20220327T030000
RDATE:20221030T020000
TZOFFSETFROM:+0100
TZOFFSETTO:+0200
TZNAME:Europe/Berlin CEST
END:DAYLIGHT
BEGIN:DAYLIGHT
DTSTART:20230326T030000
RDATE:20231029T020000
TZOFFSETFROM:+0100
TZOFFSETTO:+0200
TZNAME:Europe/Berlin CEST
END:DAYLIGHT
END:VTIMEZONE
BEGIN:VEVENT
UID:4614921c4f80e3dcedd318a19ba6b1ee
CATEGORIES:Musik
CREATED:20190826T151949
SUMMARY:Tösche Spretzjebäck än Lametta 2019 - Benefiz-Weihnachtsgala (AC-Brand)
LOCATION:St. Donatus\, Hochstraße 16\, 52078 Aachen
DESCRIPTION;ENCODING=QUOTED-PRINTABLE:Veranstaltung: Tösche Spretzjebäck än Lametta 2018\n(Benefizgala in AC-Bran
 d)\nKünstler: \n\nDe Spetzbouve laden ein ...\n\n\nOrt: St. Donatus, \nHoch
 straße 16, Aachen-Brand   Termin: 07.12.2019Beginn: 19:30 Uhr (SA)\nEnde: c
 a. 23:00 Uhr(Einlass:) ca. 30-60 Minuten vor Beginn *1   Kosten: - (Spenden
  sind selbstverständlich)Eintritt: Eintritt freiVeranstalter: siehe offizie
 lle Bekanntgabe weitere Infos zum Termin auf: \n\n\n \n\n\nAnmerkungen: (Al
 le Angaben ohne Gewähr)\n*1: abweichende Einlasszeiten sind (soweit bekannt
 ) angegeben.\n*2: Eintrittskarte pro Person, Ermäßigungen bitte beim Verans
 talter erfragen\n\n
CONTACT:190000206
DTSTAMP:20260419T191648Z
DTSTART;TZID=Europe/Berlin:20191207T193000
DTEND;TZID=Europe/Berlin:20191207T230000
SEQUENCE:0
TRANSP:OPAQUE
END:VEVENT
END:VCALENDAR