BEGIN:VCALENDAR
VERSION:2.0
PRODID:-//jEvents 2.0 for Joomla//EN
CALSCALE:GREGORIAN
METHOD:PUBLISH
BEGIN:VTIMEZONE
TZID:Europe/Berlin
BEGIN:STANDARD
DTSTART:20190215T151500
RDATE:20190331T030000
TZOFFSETFROM:+0200
TZOFFSETTO:+0100
TZNAME:Europe/Berlin CET
END:STANDARD
BEGIN:STANDARD
DTSTART:20191027T020000
RDATE:20200329T030000
TZOFFSETFROM:+0200
TZOFFSETTO:+0100
TZNAME:Europe/Berlin CET
END:STANDARD
BEGIN:STANDARD
DTSTART:20201025T020000
RDATE:20210328T030000
TZOFFSETFROM:+0200
TZOFFSETTO:+0100
TZNAME:Europe/Berlin CET
END:STANDARD
BEGIN:STANDARD
DTSTART:20211031T020000
RDATE:20220327T030000
TZOFFSETFROM:+0200
TZOFFSETTO:+0100
TZNAME:Europe/Berlin CET
END:STANDARD
BEGIN:STANDARD
DTSTART:20221030T020000
RDATE:20230326T030000
TZOFFSETFROM:+0200
TZOFFSETTO:+0100
TZNAME:Europe/Berlin CET
END:STANDARD
BEGIN:STANDARD
DTSTART:20231029T020000
RDATE:20240331T030000
TZOFFSETFROM:+0200
TZOFFSETTO:+0100
TZNAME:Europe/Berlin CET
END:STANDARD
BEGIN:DAYLIGHT
DTSTART:20190331T030000
RDATE:20191027T020000
TZOFFSETFROM:+0100
TZOFFSETTO:+0200
TZNAME:Europe/Berlin CEST
END:DAYLIGHT
BEGIN:DAYLIGHT
DTSTART:20200329T030000
RDATE:20201025T020000
TZOFFSETFROM:+0100
TZOFFSETTO:+0200
TZNAME:Europe/Berlin CEST
END:DAYLIGHT
BEGIN:DAYLIGHT
DTSTART:20210328T030000
RDATE:20211031T020000
TZOFFSETFROM:+0100
TZOFFSETTO:+0200
TZNAME:Europe/Berlin CEST
END:DAYLIGHT
BEGIN:DAYLIGHT
DTSTART:20220327T030000
RDATE:20221030T020000
TZOFFSETFROM:+0100
TZOFFSETTO:+0200
TZNAME:Europe/Berlin CEST
END:DAYLIGHT
BEGIN:DAYLIGHT
DTSTART:20230326T030000
RDATE:20231029T020000
TZOFFSETFROM:+0100
TZOFFSETTO:+0200
TZNAME:Europe/Berlin CEST
END:DAYLIGHT
END:VTIMEZONE
BEGIN:VEVENT
UID:672dd099dbadee3c5d8d430b11d4ba16
CATEGORIES:Heämet
CREATED:20190827T172638
SUMMARY:Kneipenkarneval - Gaststätte Bosten 2020 (Aachen-Horbach)
LOCATION:Gaststätte Bosten Horbacher Str. 332\, 52072 Aachen (Horbach)
DESCRIPTION;ENCODING=QUOTED-PRINTABLE:



Veranstaltung:
&nbsp;
Kneipenkarneval in Horbach\n


K&uuml;nstler:
&nb
 sp;

Neu ist in diesem Jahr, dass die ersten 2 St&uuml;ndchen von und f&uum
 l;r&nbsp;Kinder&nbsp;sind.\n
Hierzu kommen als Auftretende / K&uuml;nstler:
 \n
&nbsp;\n

De Pauer
Kenger vajjen Beverau
M&auml;rchenprinz Leo I.

Als A
 uftretende sind im Programm vertreten:\n

Prinz&nbsp;Martin&nbsp;I. Aachen

 Hans Montag
Prinz&nbsp;Daniel II. Richterich
die&nbsp;3-Gestirne aus
\n - 

 
Lichtenbusch
Verlautenheide
Kohlscheid


Helpe Jonge der KG Friesenrath
Ku
 rt Christ
DJ J&ouml;rg Buchty




Ort:
&nbsp;

\n\nGastst&auml;tte Bosten\n
 Horbacher Str. 332, 52072 Aachen (Horbach)\n



&nbsp;
&nbsp;
&nbsp;


Term
 in:
&nbsp;
16.02.2020


Beginn:
&nbsp;
15:15 Uhr


Ende:
&nbsp;
ca. 22:00 U
 hr


(Einlass:)
&nbsp;
ca. 16:30 Uhr


&nbsp;
&nbsp;
&nbsp;


Kosten:
&nbsp
 ;
keine


Eintritt:
&nbsp;
-


Veranstalter:
&nbsp;
siehe offizielle Bekann
 tgabe




&nbsp;
weitere Infos zum Termin auf:
\n\n-\n
\n\n&nbsp;\n
\n\nAnm
 erkungen: (Alle Angaben ohne Gew&auml;hr)\n*1: abweichende Einlasszeiten si
 nd (soweit bekannt) angegeben.\n*2: Eintrittskarte pro Person, Erm&auml;&sz
 lig;igungen bitte beim Veranstalter erfragen\n

CONTACT:190000289
DTSTAMP:20260424T143831Z
DTSTART;TZID=Europe/Berlin:20200216T151500
SEQUENCE:0
TRANSP:OPAQUE
END:VEVENT
END:VCALENDAR