BEGIN:VCALENDAR
VERSION:2.0
PRODID:-//jEvents 2.0 for Joomla//EN
CALSCALE:GREGORIAN
METHOD:PUBLISH
BEGIN:VTIMEZONE
TZID:Europe/Berlin
BEGIN:STANDARD
DTSTART:20190105T000000
RDATE:20190331T030000
TZOFFSETFROM:+0200
TZOFFSETTO:+0100
TZNAME:Europe/Berlin CET
END:STANDARD
BEGIN:STANDARD
DTSTART:20191027T020000
RDATE:20200329T030000
TZOFFSETFROM:+0200
TZOFFSETTO:+0100
TZNAME:Europe/Berlin CET
END:STANDARD
BEGIN:STANDARD
DTSTART:20201025T020000
RDATE:20210328T030000
TZOFFSETFROM:+0200
TZOFFSETTO:+0100
TZNAME:Europe/Berlin CET
END:STANDARD
BEGIN:STANDARD
DTSTART:20211031T020000
RDATE:20220327T030000
TZOFFSETFROM:+0200
TZOFFSETTO:+0100
TZNAME:Europe/Berlin CET
END:STANDARD
BEGIN:STANDARD
DTSTART:20221030T020000
RDATE:20230326T030000
TZOFFSETFROM:+0200
TZOFFSETTO:+0100
TZNAME:Europe/Berlin CET
END:STANDARD
BEGIN:STANDARD
DTSTART:20231029T020000
RDATE:20240331T030000
TZOFFSETFROM:+0200
TZOFFSETTO:+0100
TZNAME:Europe/Berlin CET
END:STANDARD
BEGIN:DAYLIGHT
DTSTART:20190331T030000
RDATE:20191027T020000
TZOFFSETFROM:+0100
TZOFFSETTO:+0200
TZNAME:Europe/Berlin CEST
END:DAYLIGHT
BEGIN:DAYLIGHT
DTSTART:20200329T030000
RDATE:20201025T020000
TZOFFSETFROM:+0100
TZOFFSETTO:+0200
TZNAME:Europe/Berlin CEST
END:DAYLIGHT
BEGIN:DAYLIGHT
DTSTART:20210328T030000
RDATE:20211031T020000
TZOFFSETFROM:+0100
TZOFFSETTO:+0200
TZNAME:Europe/Berlin CEST
END:DAYLIGHT
BEGIN:DAYLIGHT
DTSTART:20220327T030000
RDATE:20221030T020000
TZOFFSETFROM:+0100
TZOFFSETTO:+0200
TZNAME:Europe/Berlin CEST
END:DAYLIGHT
BEGIN:DAYLIGHT
DTSTART:20230326T030000
RDATE:20231029T020000
TZOFFSETFROM:+0100
TZOFFSETTO:+0200
TZNAME:Europe/Berlin CEST
END:DAYLIGHT
END:VTIMEZONE
BEGIN:VEVENT
UID:2286fd21baffb37e65b323ae9c50f80f
CATEGORIES:Sprache
CREATED:20190902T143602
SUMMARY:Thouet Mundardpreis 2020 (Verleihung)
LOCATION:Krönungssaal des Rathauses\, Markt\, Aachen
DESCRIPTION;ENCODING=QUOTED-PRINTABLE:Veranstaltung: \n\nThouet Mundartpreis: \nVerleihung des THOUET-Mundartprei
 s \nder Stadt Aachen e.V.\nKünstler: \n\ndiverse\n\nOrt: Krönungssaal des R
 athauses, \nMarkt, Aachen   Termin: 06.01.2020Beginn: - Uhr\nEnde: - Uhr(Ei
 nlass:) ca. 30-60 Minuten vor Beginn *1   Kosten: nur geladene GästeEintrit
 t: keine öffentliche VeranstaltungVeranstalter: siehe offizielle Bekanntgab
 e\n(THOUET-Mundartpreis der Stadt Aachen e.V.) weitere Infos zum Termin auf
 : http://www.thouet-mundartpreis.de/der-preis.html\n\n!!! (die Bekanntgabe 
 und die Verleihung sind keine öffentlichen Veranstaltungen - nur geladene G
 äste) !!! \n\n\n  \n\n\nAnmerkungen: (Alle Angaben ohne Gewähr)\n*1: abweic
 hende Einlasszeiten sind (soweit bekannt) angegeben.\n*2: Eintrittskarte pr
 o Person, Ermäßigungen bitte beim Veranstalter erfragen\n\n\n \n\n\n \n\n\n
 Anmerkungen:\n\n\nAlle Angaben ohne Gewähr\n
CONTACT:190000195
X-EXTRAINFO:Achtung: keine öffentliche Veranstaltung (nur geladene Gäste!)
DTSTAMP:20260424T143310Z
DTSTART;TZID=Europe/Berlin;VALUE=DATE:20200106
DTEND;TZID=Europe/Berlin;VALUE=DATE:20200107
SEQUENCE:0
TRANSP:OPAQUE
END:VEVENT
END:VCALENDAR