BEGIN:VCALENDAR
VERSION:2.0
PRODID:-//jEvents 2.0 for Joomla//EN
CALSCALE:GREGORIAN
METHOD:PUBLISH
BEGIN:VTIMEZONE
TZID:Europe/Berlin
BEGIN:STANDARD
DTSTART:20181109T100000
RDATE:20190331T030000
TZOFFSETFROM:+0200
TZOFFSETTO:+0100
TZNAME:Europe/Berlin CET
END:STANDARD
BEGIN:STANDARD
DTSTART:20191027T020000
RDATE:20200329T030000
TZOFFSETFROM:+0200
TZOFFSETTO:+0100
TZNAME:Europe/Berlin CET
END:STANDARD
BEGIN:STANDARD
DTSTART:20201025T020000
RDATE:20210328T030000
TZOFFSETFROM:+0200
TZOFFSETTO:+0100
TZNAME:Europe/Berlin CET
END:STANDARD
BEGIN:STANDARD
DTSTART:20211031T020000
RDATE:20220327T030000
TZOFFSETFROM:+0200
TZOFFSETTO:+0100
TZNAME:Europe/Berlin CET
END:STANDARD
BEGIN:STANDARD
DTSTART:20221030T020000
RDATE:20230326T030000
TZOFFSETFROM:+0200
TZOFFSETTO:+0100
TZNAME:Europe/Berlin CET
END:STANDARD
BEGIN:STANDARD
DTSTART:20231029T020000
RDATE:20240331T030000
TZOFFSETFROM:+0200
TZOFFSETTO:+0100
TZNAME:Europe/Berlin CET
END:STANDARD
BEGIN:DAYLIGHT
DTSTART:20190331T030000
RDATE:20191027T020000
TZOFFSETFROM:+0100
TZOFFSETTO:+0200
TZNAME:Europe/Berlin CEST
END:DAYLIGHT
BEGIN:DAYLIGHT
DTSTART:20200329T030000
RDATE:20201025T020000
TZOFFSETFROM:+0100
TZOFFSETTO:+0200
TZNAME:Europe/Berlin CEST
END:DAYLIGHT
BEGIN:DAYLIGHT
DTSTART:20210328T030000
RDATE:20211031T020000
TZOFFSETFROM:+0100
TZOFFSETTO:+0200
TZNAME:Europe/Berlin CEST
END:DAYLIGHT
BEGIN:DAYLIGHT
DTSTART:20220327T030000
RDATE:20221030T020000
TZOFFSETFROM:+0100
TZOFFSETTO:+0200
TZNAME:Europe/Berlin CEST
END:DAYLIGHT
BEGIN:DAYLIGHT
DTSTART:20230326T030000
RDATE:20231029T020000
TZOFFSETFROM:+0100
TZOFFSETTO:+0200
TZNAME:Europe/Berlin CEST
END:DAYLIGHT
END:VTIMEZONE
BEGIN:VEVENT
UID:e86af4864d6cbb3efeafbc2d06695cce
CATEGORIES:Fastelovvend
CREATED:20190907T092404
SUMMARY:Vür wecke Öcher Jecke (AAK)
LOCATION:Holzgraben\, 52062 Aachen
DESCRIPTION;ENCODING=QUOTED-PRINTABLE:Veranstaltung:\n(Festäng)\n\nVür wecke Öcher Jecke (AAK)\nKünstler:\n(Könsl
 er)\n\n\nd'r "Öcher" Fastelovvend es zeröck\n\n\nu. a. design. Tollitäten M
 ARTIN I. und MäPri LEO I. und Hofstaat, Oecher Stadtmusikanten, Kurt Christ
 , AKV Ex-Prinzencorps, Stadtteilprinzen, uvm.\n\nOrt: \n(Ooet)Holzgraben, \
 n(Außenveranstaltung mit Bühne) \n52062 Aachen  Termin:(Datum)10.11.2019Beg
 inn:(Aafang)11:11 UhrEnde: \n(Engd)ca. 14:11 Uhr (max. 15 Uhr)  Kosten:\n(K
 ooste)Eintritt freiEintritt/Einlass\n(Antree/Eloss)Vorprogramm beginnt um c
 a. 10.11 Uhr weitere Infos zum Termin auf: \n\n\nhttp://www.aak-aachen.de/d
 etails/sessionsauftakt-vuer-wecke-oecher-jecke-aak-1935-e-v.html\n\n\nAnmer
 kungen: (Alle Angaben ohne Gewähr)\n*1: abweichende Einlasszeiten sind (sow
 eit bekannt) angegeben.\n*2: Eintrittskarte pro Person, Ermäßigungen bitte 
 beim Veranstalter erfragen\n\n
CONTACT:190000282
DTSTAMP:20260419T172134Z
DTSTART;TZID=Europe/Berlin:20191110T100000
DTEND;TZID=Europe/Berlin:20191110T150000
SEQUENCE:0
TRANSP:OPAQUE
END:VEVENT
END:VCALENDAR