BEGIN:VCALENDAR
VERSION:2.0
PRODID:-//jEvents 2.0 for Joomla//EN
CALSCALE:GREGORIAN
METHOD:PUBLISH
BEGIN:VTIMEZONE
TZID:Europe/Berlin
BEGIN:STANDARD
DTSTART:20181214T150000
RDATE:20190331T030000
TZOFFSETFROM:+0200
TZOFFSETTO:+0100
TZNAME:Europe/Berlin CET
END:STANDARD
BEGIN:STANDARD
DTSTART:20191027T020000
RDATE:20200329T030000
TZOFFSETFROM:+0200
TZOFFSETTO:+0100
TZNAME:Europe/Berlin CET
END:STANDARD
BEGIN:STANDARD
DTSTART:20201025T020000
RDATE:20210328T030000
TZOFFSETFROM:+0200
TZOFFSETTO:+0100
TZNAME:Europe/Berlin CET
END:STANDARD
BEGIN:STANDARD
DTSTART:20211031T020000
RDATE:20220327T030000
TZOFFSETFROM:+0200
TZOFFSETTO:+0100
TZNAME:Europe/Berlin CET
END:STANDARD
BEGIN:STANDARD
DTSTART:20221030T020000
RDATE:20230326T030000
TZOFFSETFROM:+0200
TZOFFSETTO:+0100
TZNAME:Europe/Berlin CET
END:STANDARD
BEGIN:STANDARD
DTSTART:20231029T020000
RDATE:20240331T030000
TZOFFSETFROM:+0200
TZOFFSETTO:+0100
TZNAME:Europe/Berlin CET
END:STANDARD
BEGIN:DAYLIGHT
DTSTART:20190331T030000
RDATE:20191027T020000
TZOFFSETFROM:+0100
TZOFFSETTO:+0200
TZNAME:Europe/Berlin CEST
END:DAYLIGHT
BEGIN:DAYLIGHT
DTSTART:20200329T030000
RDATE:20201025T020000
TZOFFSETFROM:+0100
TZOFFSETTO:+0200
TZNAME:Europe/Berlin CEST
END:DAYLIGHT
BEGIN:DAYLIGHT
DTSTART:20210328T030000
RDATE:20211031T020000
TZOFFSETFROM:+0100
TZOFFSETTO:+0200
TZNAME:Europe/Berlin CEST
END:DAYLIGHT
BEGIN:DAYLIGHT
DTSTART:20220327T030000
RDATE:20221030T020000
TZOFFSETFROM:+0100
TZOFFSETTO:+0200
TZNAME:Europe/Berlin CEST
END:DAYLIGHT
BEGIN:DAYLIGHT
DTSTART:20230326T030000
RDATE:20231029T020000
TZOFFSETFROM:+0100
TZOFFSETTO:+0200
TZNAME:Europe/Berlin CEST
END:DAYLIGHT
END:VTIMEZONE
BEGIN:VEVENT
UID:3f68617c15f55e69de49304eabb1faaf
CATEGORIES:För os Kenger
CREATED:20190911T162946
SUMMARY:Wie Puck Weihnachten rettet (Aachener Heimattheater)
LOCATION:Eurogress Aachen\, Brüssel-Saal Monheimsallee 48\, 52062 Aachen
DESCRIPTION;ENCODING=QUOTED-PRINTABLE:Veranstaltung: Wie Puck Weihnachten rettet\n(Ohne Mundartanteil !)\nKünstle
 r: \n\nAachener Heimattheater\n\nOrt: Eurogress Aachen, Brüssel-Saal\nMonhe
 imsallee 48, \n52062 Aachen   Termin: 15.12.2019 (SO)\nBeginn: 15:00 UhrEnd
 e: ca. 17:00 Uhr(Einlass:) ca. 30-60 Minuten vor Beginn *1   Kosten: ? €Ein
 tritt: Vorverkauf \n(http://www.aachener-heimattheater.de/der-kleine-drache
 -kokosnuss-im-spukschloss/)Veranstalter: siehe offizielle Bekanntgabe wijje
 re Enfermatziuene op:\n\n-&gt; https://www.aachener-heimattheater.de/\n\n\n
  \n\n\nAnmerkungen: (Alle Angaben ohne Gewähr)\n*1: abweichende Einlasszeit
 en sind (soweit bekannt) angegeben.\n*2: Eintrittskarte pro Person, Ermäßig
 ungen bitte beim Veranstalter erfragen\n\n\n\n \n\n\n \n
CONTACT:190000237
DTSTAMP:20260419T191647Z
DTSTART;TZID=Europe/Berlin:20191215T150000
DTEND;TZID=Europe/Berlin:20191215T170000
SEQUENCE:0
TRANSP:OPAQUE
END:VEVENT
END:VCALENDAR