BEGIN:VCALENDAR
VERSION:2.0
PRODID:-//jEvents 2.0 for Joomla//EN
CALSCALE:GREGORIAN
METHOD:PUBLISH
BEGIN:VTIMEZONE
TZID:Europe/Berlin
BEGIN:STANDARD
DTSTART:20181030T193000
RDATE:20190331T030000
TZOFFSETFROM:+0200
TZOFFSETTO:+0100
TZNAME:Europe/Berlin CET
END:STANDARD
BEGIN:STANDARD
DTSTART:20191027T020000
RDATE:20200329T030000
TZOFFSETFROM:+0200
TZOFFSETTO:+0100
TZNAME:Europe/Berlin CET
END:STANDARD
BEGIN:STANDARD
DTSTART:20201025T020000
RDATE:20210328T030000
TZOFFSETFROM:+0200
TZOFFSETTO:+0100
TZNAME:Europe/Berlin CET
END:STANDARD
BEGIN:STANDARD
DTSTART:20211031T020000
RDATE:20220327T030000
TZOFFSETFROM:+0200
TZOFFSETTO:+0100
TZNAME:Europe/Berlin CET
END:STANDARD
BEGIN:STANDARD
DTSTART:20221030T020000
RDATE:20230326T030000
TZOFFSETFROM:+0200
TZOFFSETTO:+0100
TZNAME:Europe/Berlin CET
END:STANDARD
BEGIN:STANDARD
DTSTART:20231029T020000
RDATE:20240331T030000
TZOFFSETFROM:+0200
TZOFFSETTO:+0100
TZNAME:Europe/Berlin CET
END:STANDARD
BEGIN:DAYLIGHT
DTSTART:20190331T030000
RDATE:20191027T020000
TZOFFSETFROM:+0100
TZOFFSETTO:+0200
TZNAME:Europe/Berlin CEST
END:DAYLIGHT
BEGIN:DAYLIGHT
DTSTART:20200329T030000
RDATE:20201025T020000
TZOFFSETFROM:+0100
TZOFFSETTO:+0200
TZNAME:Europe/Berlin CEST
END:DAYLIGHT
BEGIN:DAYLIGHT
DTSTART:20210328T030000
RDATE:20211031T020000
TZOFFSETFROM:+0100
TZOFFSETTO:+0200
TZNAME:Europe/Berlin CEST
END:DAYLIGHT
BEGIN:DAYLIGHT
DTSTART:20220327T030000
RDATE:20221030T020000
TZOFFSETFROM:+0100
TZOFFSETTO:+0200
TZNAME:Europe/Berlin CEST
END:DAYLIGHT
BEGIN:DAYLIGHT
DTSTART:20230326T030000
RDATE:20231029T020000
TZOFFSETFROM:+0100
TZOFFSETTO:+0200
TZNAME:Europe/Berlin CEST
END:DAYLIGHT
END:VTIMEZONE
BEGIN:VEVENT
UID:3019bbd1ea3f03591d0391fd30d8b9e4
CATEGORIES:Kabarett
CREATED:20190912T130452
SUMMARY:Titze Lejjenad beij et Herbstfest va de Krüzzbrür
LOCATION:Pontstr. 72\, 52062 Aachen
DESCRIPTION;ENCODING=QUOTED-PRINTABLE:Veranstaltung: \n\nTitze Lejjenad beij et \nHerbstfest va de Krüzzbrür\n\nK
 ünstler: \n\nu. a. Wendelin Haverkamp und Franz Brandt, Titze Lejjenad\n\nO
 rt: \n\nKatakomben der kath. Hochschulgemeinde,\nPontstr. 72, 52062 Aachen\
 n   Termin: 31.10.2019\nBeginn: 19:30 UhrEnde: ca. 22:00 Uhr(Einlass:) ca. 
 19:00 Uhr *1   Kosten: 15€ (Preis pro Person *2)Eintritt: VVKVeranstalter: 
 siehe offizielle Bekanntgabe weitere Infos zum Termin auf:\nhttps://www.kru
 ezzbruer.de/wordpress/wp-content/uploads/2019/08/Herbstfest_2019.png\n\n\n 
 \n\n\nAnmerkungen: (Alle Angaben ohne Gewähr)\n*1: abweichende Einlasszeite
 n sind (soweit bekannt) angegeben.\n*2: Eintrittskarte pro Person, Ermäßigu
 ngen bitte beim Veranstalter erfragen\n
CONTACT:190000284
X-EXTRAINFO:VVK:\nGemeindebüro Heilig Kreuz, Pontstr. 148, Tel. 0241/30562\nWerner Chev
 alier, Tel. 0241/38226 (Diese E-Mail-Adresse ist vor Spambots geschützt! Zu
 r Anzeige muss JavaScript eingeschaltet sein!
				document.getElementById('
 cloak1d38d894d932fc9df21b6864e94939bf').innerHTML = '';
				var prefix = '&
 #109;a' + 'i&#108;' + '&#116;o';
				var path = 'hr' + 'ef' + '=';
				var 
 addy1d38d894d932fc9df21b6864e94939bf = 'w.ch&#101;v&#97;l&#105;&#101;r' + '
 &#64;';
				addy1d38d894d932fc9df21b6864e94939bf = addy1d38d894d932fc9df21b
 6864e94939bf + 'gmx' + '&#46;' + 'd&#101;';
				var addy_text1d38d894d932fc
 9df21b6864e94939bf = 'w.ch&#101;v&#97;l&#105;&#101;r' + '&#64;' + 'gmx' + '
 &#46;' + 'd&#101;';document.getElementById('cloak1d38d894d932fc9df21b6864e9
 4939bf').innerHTML += ''+addy_text1d38d894d932fc9df21b6864e94939bf+'';
		)\
 nLeo Bardenheuer, Tel. 0241/870808 (Diese E-Mail-Adresse ist vor Spambots g
 eschützt! Zur Anzeige muss JavaScript eingeschaltet sein!
				document.getE
 lementById('cloak29070068355bf8261e2462130d01e822').innerHTML = '';
				var
  prefix = '&#109;a' + 'i&#108;' + '&#116;o';
				var path = 'hr' + 'ef' + '
 =';
				var addy29070068355bf8261e2462130d01e822 = 'b&#97;rd&#101;nh&#101;&
 #117;&#101;r-&#97;&#97;ch&#101;n' + '&#64;';
				addy29070068355bf8261e2462
 130d01e822 = addy29070068355bf8261e2462130d01e822 + 't-&#111;nl&#105;n&#101
 ;' + '&#46;' + 'd&#101;';
				var addy_text29070068355bf8261e2462130d01e822
  = 'b&#97;rd&#101;nh&#101;&#117;&#101;r-&#97;&#97;ch&#101;n' + '&#64;' + 't
 -&#111;nl&#105;n&#101;' + '&#46;' + 'd&#101;';document.getElementById('cloa
 k29070068355bf8261e2462130d01e822').innerHTML += ''+addy_text29070068355bf8
 261e2462130d01e822+'';
		)\nHerbert Steins, Tel. 0241/72190 (Diese E-Mail-A
 dresse ist vor Spambots geschützt! Zur Anzeige muss JavaScript eingeschalte
 t sein!
				document.getElementById('cloak16aeac4a64bc2b4415f0bb02ee4ca8c1'
 ).innerHTML = '';
				var prefix = '&#109;a' + 'i&#108;' + '&#116;o';
				v
 ar path = 'hr' + 'ef' + '=';
				var addy16aeac4a64bc2b4415f0bb02ee4ca8c1 =
  'st&#101;&#105;nst&#101;&#105;ns' + '&#64;';
				addy16aeac4a64bc2b4415f0b
 b02ee4ca8c1 = addy16aeac4a64bc2b4415f0bb02ee4ca8c1 + 'w&#101;b' + '&#46;' +
  'd&#101;';
				var addy_text16aeac4a64bc2b4415f0bb02ee4ca8c1 = 'st&#101;&#
 105;nst&#101;&#105;ns' + '&#64;' + 'w&#101;b' + '&#46;' + 'd&#101;';documen
 t.getElementById('cloak16aeac4a64bc2b4415f0bb02ee4ca8c1').innerHTML += ''+a
 ddy_text16aeac4a64bc2b4415f0bb02ee4ca8c1+'';
		)\nsowie allen Mitgliedern d
 es Vereins
DTSTAMP:20260420T000146Z
DTSTART;TZID=Europe/Berlin:20191031T193000
SEQUENCE:0
TRANSP:OPAQUE
END:VEVENT
END:VCALENDAR