BEGIN:VCALENDAR
VERSION:2.0
PRODID:-//jEvents 2.0 for Joomla//EN
CALSCALE:GREGORIAN
METHOD:PUBLISH
BEGIN:VTIMEZONE
TZID:Europe/Berlin
BEGIN:STANDARD
DTSTART:20181028T020000
RDATE:20190331T030000
TZOFFSETFROM:+0200
TZOFFSETTO:+0100
TZNAME:Europe/Berlin CET
END:STANDARD
BEGIN:STANDARD
DTSTART:20191027T020000
RDATE:20200329T030000
TZOFFSETFROM:+0200
TZOFFSETTO:+0100
TZNAME:Europe/Berlin CET
END:STANDARD
BEGIN:STANDARD
DTSTART:20201025T020000
RDATE:20210328T030000
TZOFFSETFROM:+0200
TZOFFSETTO:+0100
TZNAME:Europe/Berlin CET
END:STANDARD
BEGIN:STANDARD
DTSTART:20211031T020000
RDATE:20220327T030000
TZOFFSETFROM:+0200
TZOFFSETTO:+0100
TZNAME:Europe/Berlin CET
END:STANDARD
BEGIN:STANDARD
DTSTART:20221030T020000
RDATE:20230326T030000
TZOFFSETFROM:+0200
TZOFFSETTO:+0100
TZNAME:Europe/Berlin CET
END:STANDARD
BEGIN:STANDARD
DTSTART:20231029T020000
RDATE:20240331T030000
TZOFFSETFROM:+0200
TZOFFSETTO:+0100
TZNAME:Europe/Berlin CET
END:STANDARD
BEGIN:DAYLIGHT
DTSTART:20180915T193000
RDATE:20181028T020000
TZOFFSETFROM:+0100
TZOFFSETTO:+0200
TZNAME:Europe/Berlin CEST
END:DAYLIGHT
BEGIN:DAYLIGHT
DTSTART:20190331T030000
RDATE:20191027T020000
TZOFFSETFROM:+0100
TZOFFSETTO:+0200
TZNAME:Europe/Berlin CEST
END:DAYLIGHT
BEGIN:DAYLIGHT
DTSTART:20200329T030000
RDATE:20201025T020000
TZOFFSETFROM:+0100
TZOFFSETTO:+0200
TZNAME:Europe/Berlin CEST
END:DAYLIGHT
BEGIN:DAYLIGHT
DTSTART:20210328T030000
RDATE:20211031T020000
TZOFFSETFROM:+0100
TZOFFSETTO:+0200
TZNAME:Europe/Berlin CEST
END:DAYLIGHT
BEGIN:DAYLIGHT
DTSTART:20220327T030000
RDATE:20221030T020000
TZOFFSETFROM:+0100
TZOFFSETTO:+0200
TZNAME:Europe/Berlin CEST
END:DAYLIGHT
BEGIN:DAYLIGHT
DTSTART:20230326T030000
RDATE:20231029T020000
TZOFFSETFROM:+0100
TZOFFSETTO:+0200
TZNAME:Europe/Berlin CEST
END:DAYLIGHT
END:VTIMEZONE
BEGIN:VEVENT
UID:05b874983a186c548a3ef527af67d9f1
CATEGORIES:Kabarett
CREATED:20190912T131808
SUMMARY:Das Klümpchensglas (Jupp Hammerschmidt)
LOCATION:Urbanstr. 2\, 52080 Aachen
DESCRIPTION;ENCODING=QUOTED-PRINTABLE:Veranstaltung: \n\nDas Klümpchensglas \n(Eifeler Platt)\n\nKünstler: \n\nJu
 pp Hammerschmidt\n\nOrt: Gaststätte "Zum Treppchen"\nUrbanstr. 2\n52080 Aac
 hen   Termin: 16.09.2019Beginn: 19:30 UhrEnde: ca. 22.30 Uhr(Einlass:) ca. 
 19.00 Uhr   Kosten: ca. 12,00/14,00€Eintritt: Vorbestellung oder Abendkasse
 Veranstalter: siehe offizielle Bekanntgabe weitere Infos zum Termin: https:
 //www.genialokal.de/buchhandlung/aachen-eilendorf/dasbuchineilendorf/Verans
 taltungen/ Altersempfehlung: ab 12 Jahre \n\nAnmerkungen: (Alle Angaben ohn
 e Gewähr)\n*1: abweichende Einlasszeiten sind (soweit bekannt) angegeben.\n
 *2: Eintrittskarte pro Person, Ermäßigungen bitte beim Veranstalter erfrage
 n\n\n
CONTACT:190000281
DTSTAMP:20260419T220339Z
DTSTART;TZID=Europe/Berlin:20190916T193000
DTEND;TZID=Europe/Berlin:20190916T223000
SEQUENCE:0
TRANSP:OPAQUE
END:VEVENT
END:VCALENDAR