BEGIN:VCALENDAR
VERSION:2.0
PRODID:-//jEvents 2.0 for Joomla//EN
CALSCALE:GREGORIAN
METHOD:PUBLISH
BEGIN:VTIMEZONE
TZID:Europe/Berlin
BEGIN:STANDARD
DTSTART:20181127T200000
RDATE:20190331T030000
TZOFFSETFROM:+0200
TZOFFSETTO:+0100
TZNAME:Europe/Berlin CET
END:STANDARD
BEGIN:STANDARD
DTSTART:20191027T020000
RDATE:20200329T030000
TZOFFSETFROM:+0200
TZOFFSETTO:+0100
TZNAME:Europe/Berlin CET
END:STANDARD
BEGIN:STANDARD
DTSTART:20201025T020000
RDATE:20210328T030000
TZOFFSETFROM:+0200
TZOFFSETTO:+0100
TZNAME:Europe/Berlin CET
END:STANDARD
BEGIN:STANDARD
DTSTART:20211031T020000
RDATE:20220327T030000
TZOFFSETFROM:+0200
TZOFFSETTO:+0100
TZNAME:Europe/Berlin CET
END:STANDARD
BEGIN:STANDARD
DTSTART:20221030T020000
RDATE:20230326T030000
TZOFFSETFROM:+0200
TZOFFSETTO:+0100
TZNAME:Europe/Berlin CET
END:STANDARD
BEGIN:STANDARD
DTSTART:20231029T020000
RDATE:20240331T030000
TZOFFSETFROM:+0200
TZOFFSETTO:+0100
TZNAME:Europe/Berlin CET
END:STANDARD
BEGIN:DAYLIGHT
DTSTART:20190331T030000
RDATE:20191027T020000
TZOFFSETFROM:+0100
TZOFFSETTO:+0200
TZNAME:Europe/Berlin CEST
END:DAYLIGHT
BEGIN:DAYLIGHT
DTSTART:20200329T030000
RDATE:20201025T020000
TZOFFSETFROM:+0100
TZOFFSETTO:+0200
TZNAME:Europe/Berlin CEST
END:DAYLIGHT
BEGIN:DAYLIGHT
DTSTART:20210328T030000
RDATE:20211031T020000
TZOFFSETFROM:+0100
TZOFFSETTO:+0200
TZNAME:Europe/Berlin CEST
END:DAYLIGHT
BEGIN:DAYLIGHT
DTSTART:20220327T030000
RDATE:20221030T020000
TZOFFSETFROM:+0100
TZOFFSETTO:+0200
TZNAME:Europe/Berlin CEST
END:DAYLIGHT
BEGIN:DAYLIGHT
DTSTART:20230326T030000
RDATE:20231029T020000
TZOFFSETFROM:+0100
TZOFFSETTO:+0200
TZNAME:Europe/Berlin CEST
END:DAYLIGHT
END:VTIMEZONE
BEGIN:VEVENT
UID:72c55c1d073c026ec12686ca2e1df8a3
CATEGORIES:Kabarett
CREATED:20190913T123041
SUMMARY:Jupp Ebert bei der "Schrillen Nacht"
LOCATION:Mayersche Buchhandlung\, Forum M\, Buchkremerstrasse 1-7\, 52062 Aachen
DESCRIPTION;ENCODING=QUOTED-PRINTABLE:Veranstaltung: Schrille Nacht (Hubert vom Venn)\nKünstler: \n\nu. a. Jupp E
 bert, Hubert vom Venn\n\nOrt: Mayersche Buchhandlung, Forum M, \nBuchkremer
 strasse 1-7, 52062 Aachen   Termin: 28.11.2019Beginn: 20:00 UhrEnde: ca. 22
  Uhr(Einlass:) ca. 30-60 Minuten vor Beginn *1   Kosten: ca. 18 € (Preis pr
 o Person *2)Eintritt: VorverkaufVeranstalter: siehe offizielle Bekanntgabe 
 weitere Infos zum Termin auf:\n\nhttp://www.forum-m-aachen.de/veranstaltung
 skalender-aachen/\n\n\nhttps://www.mayersche.de/Schrille-Nacht-marm-mayersc
 he-pform-me-Hubert-vom-Venn-mayersche-2.html?pgNr=12&amp;\n\n\nAnmerkungen:
  (Alle Angaben ohne Gewähr)\n*1: abweichende Einlasszeiten sind (soweit bek
 annt) angegeben.\n*2: Eintrittskarte pro Person, Ermäßigungen bitte beim Ve
 ranstalter erfragen\n\n
CONTACT:190000223
DTSTAMP:20260419T154635Z
DTSTART;TZID=Europe/Berlin:20191128T200000
DTEND;TZID=Europe/Berlin:20191128T220000
SEQUENCE:0
TRANSP:OPAQUE
END:VEVENT
END:VCALENDAR