BEGIN:VCALENDAR
VERSION:2.0
PRODID:-//jEvents 2.0 for Joomla//EN
CALSCALE:GREGORIAN
METHOD:PUBLISH
BEGIN:VTIMEZONE
TZID:Europe/Berlin
BEGIN:STANDARD
DTSTART:20181028T020000
RDATE:20190331T030000
TZOFFSETFROM:+0200
TZOFFSETTO:+0100
TZNAME:Europe/Berlin CET
END:STANDARD
BEGIN:STANDARD
DTSTART:20191027T020000
RDATE:20200329T030000
TZOFFSETFROM:+0200
TZOFFSETTO:+0100
TZNAME:Europe/Berlin CET
END:STANDARD
BEGIN:STANDARD
DTSTART:20201025T020000
RDATE:20210328T030000
TZOFFSETFROM:+0200
TZOFFSETTO:+0100
TZNAME:Europe/Berlin CET
END:STANDARD
BEGIN:STANDARD
DTSTART:20211031T020000
RDATE:20220327T030000
TZOFFSETFROM:+0200
TZOFFSETTO:+0100
TZNAME:Europe/Berlin CET
END:STANDARD
BEGIN:STANDARD
DTSTART:20221030T020000
RDATE:20230326T030000
TZOFFSETFROM:+0200
TZOFFSETTO:+0100
TZNAME:Europe/Berlin CET
END:STANDARD
BEGIN:STANDARD
DTSTART:20231029T020000
RDATE:20240331T030000
TZOFFSETFROM:+0200
TZOFFSETTO:+0100
TZNAME:Europe/Berlin CET
END:STANDARD
BEGIN:DAYLIGHT
DTSTART:20181014T190000
RDATE:20181028T020000
TZOFFSETFROM:+0100
TZOFFSETTO:+0200
TZNAME:Europe/Berlin CEST
END:DAYLIGHT
BEGIN:DAYLIGHT
DTSTART:20190331T030000
RDATE:20191027T020000
TZOFFSETFROM:+0100
TZOFFSETTO:+0200
TZNAME:Europe/Berlin CEST
END:DAYLIGHT
BEGIN:DAYLIGHT
DTSTART:20200329T030000
RDATE:20201025T020000
TZOFFSETFROM:+0100
TZOFFSETTO:+0200
TZNAME:Europe/Berlin CEST
END:DAYLIGHT
BEGIN:DAYLIGHT
DTSTART:20210328T030000
RDATE:20211031T020000
TZOFFSETFROM:+0100
TZOFFSETTO:+0200
TZNAME:Europe/Berlin CEST
END:DAYLIGHT
BEGIN:DAYLIGHT
DTSTART:20220327T030000
RDATE:20221030T020000
TZOFFSETFROM:+0100
TZOFFSETTO:+0200
TZNAME:Europe/Berlin CEST
END:DAYLIGHT
BEGIN:DAYLIGHT
DTSTART:20230326T030000
RDATE:20231029T020000
TZOFFSETFROM:+0100
TZOFFSETTO:+0200
TZNAME:Europe/Berlin CEST
END:DAYLIGHT
END:VTIMEZONE
BEGIN:VEVENT
UID:d6efd8b514bc0926422a61506c03535b
CATEGORIES:Musik
CREATED:20190918T220625
SUMMARY:Hanno Dahmen speält Öcher Leddchere (Öcher Platt e. V.)
LOCATION:Markt (Stauferkeller) in Haus Löwenstein\, 52062 Aachen
DESCRIPTION;ENCODING=QUOTED-PRINTABLE:Veranstaltung: Hanno Dahmen speält Öcher Platt Leddchere\n(Öcher Platt e. V
 .)Künstler: \n\nHanno Dahmen\n\nOrt: Markt (Stauferkeller) im Haus Löwenste
 in, \n52062 Aachen   Termin: 15.10.2019Beginn: 19:00 Uhr\nEnde: ca. 21.00 U
 hr(Einlass:) ca. 30 Minuten vor Beginn *1   Kosten: Eintritt frei (Mitglied
 schaft + Getränkebeitrag) *2Eintritt: ! nur für Mitglieder ! Gäste können g
 erne schnuppern kommen ...Veranstalter: siehe offizielle Bekanntgabe weiter
 e Infos zum Termin auf: https://oecher-platt.de/veranstaltungen/\n\n\nAnmer
 kungen: (Alle Angaben ohne Gewähr)\n*1: abweichende Einlasszeiten sind (sow
 eit bekannt) angegeben.\n*2: Eintrittskarte pro Person, Ermäßigungen bitte 
 beim Veranstalter erfragen\n\n\n\n \n
CONTACT:190000194
DTSTAMP:20260419T235029Z
DTSTART;TZID=Europe/Berlin:20191015T190000
DTEND;TZID=Europe/Berlin:20191015T210000
SEQUENCE:0
TRANSP:OPAQUE
END:VEVENT
END:VCALENDAR