BEGIN:VCALENDAR
VERSION:2.0
PRODID:-//jEvents 2.0 for Joomla//EN
CALSCALE:GREGORIAN
METHOD:PUBLISH
BEGIN:VTIMEZONE
TZID:Europe/Berlin
BEGIN:STANDARD
DTSTART:20181120T190000
RDATE:20190331T030000
TZOFFSETFROM:+0200
TZOFFSETTO:+0100
TZNAME:Europe/Berlin CET
END:STANDARD
BEGIN:STANDARD
DTSTART:20191027T020000
RDATE:20200329T030000
TZOFFSETFROM:+0200
TZOFFSETTO:+0100
TZNAME:Europe/Berlin CET
END:STANDARD
BEGIN:STANDARD
DTSTART:20201025T020000
RDATE:20210328T030000
TZOFFSETFROM:+0200
TZOFFSETTO:+0100
TZNAME:Europe/Berlin CET
END:STANDARD
BEGIN:STANDARD
DTSTART:20211031T020000
RDATE:20220327T030000
TZOFFSETFROM:+0200
TZOFFSETTO:+0100
TZNAME:Europe/Berlin CET
END:STANDARD
BEGIN:STANDARD
DTSTART:20221030T020000
RDATE:20230326T030000
TZOFFSETFROM:+0200
TZOFFSETTO:+0100
TZNAME:Europe/Berlin CET
END:STANDARD
BEGIN:STANDARD
DTSTART:20231029T020000
RDATE:20240331T030000
TZOFFSETFROM:+0200
TZOFFSETTO:+0100
TZNAME:Europe/Berlin CET
END:STANDARD
BEGIN:DAYLIGHT
DTSTART:20190331T030000
RDATE:20191027T020000
TZOFFSETFROM:+0100
TZOFFSETTO:+0200
TZNAME:Europe/Berlin CEST
END:DAYLIGHT
BEGIN:DAYLIGHT
DTSTART:20200329T030000
RDATE:20201025T020000
TZOFFSETFROM:+0100
TZOFFSETTO:+0200
TZNAME:Europe/Berlin CEST
END:DAYLIGHT
BEGIN:DAYLIGHT
DTSTART:20210328T030000
RDATE:20211031T020000
TZOFFSETFROM:+0100
TZOFFSETTO:+0200
TZNAME:Europe/Berlin CEST
END:DAYLIGHT
BEGIN:DAYLIGHT
DTSTART:20220327T030000
RDATE:20221030T020000
TZOFFSETFROM:+0100
TZOFFSETTO:+0200
TZNAME:Europe/Berlin CEST
END:DAYLIGHT
BEGIN:DAYLIGHT
DTSTART:20230326T030000
RDATE:20231029T020000
TZOFFSETFROM:+0100
TZOFFSETTO:+0200
TZNAME:Europe/Berlin CEST
END:DAYLIGHT
END:VTIMEZONE
BEGIN:VEVENT
UID:afe6630d8200d61d5fe7736608075723
CATEGORIES:Sprache
CREATED:20190918T223715
SUMMARY:Möeler Wissquaaß - Uli Wollgarten (Öcher Platt e. V.)
LOCATION:Markt (Stauferkeller) in Haus Löwenstein\, 52062 Aachen
DESCRIPTION;ENCODING=QUOTED-PRINTABLE:Veranstaltung: Möeler Wissquaaß - Uli Wollgarten liest ...\n(Öcher Platt e.
  V.)Künstler: \n\nUli Wollgarten\n\nOrt: Markt (Stauferkeller) im Haus Löwe
 nstein, \n52062 Aachen   Termin: 21.11.2019Beginn: 19:00 Uhr\nEnde: ca. 21.
 00 Uhr(Einlass:) ca. 30 Minuten vor Beginn *1   Kosten: Eintritt frei (Mitg
 liedschaft + Getränkebeitrag) *2Eintritt: ! nur für Mitglieder ! Gäste könn
 en gerne schnuppern kommen ...Veranstalter: siehe offizielle Bekanntgabe we
 itere Infos zum Termin auf: https://oecher-platt.de/veranstaltungen/\n\n\nA
 nmerkungen: (Alle Angaben ohne Gewähr)\n*1: abweichende Einlasszeiten sind 
 (soweit bekannt) angegeben.\n*2: Eintrittskarte pro Person, Ermäßigungen bi
 tte beim Veranstalter erfragen\n\n\n\n \n
CONTACT:190000194
DTSTAMP:20260419T154635Z
DTSTART;TZID=Europe/Berlin:20191121T190000
DTEND;TZID=Europe/Berlin:20191121T210000
SEQUENCE:0
TRANSP:OPAQUE
END:VEVENT
END:VCALENDAR