BEGIN:VCALENDAR
VERSION:2.0
PRODID:-//jEvents 2.0 for Joomla//EN
CALSCALE:GREGORIAN
METHOD:PUBLISH
BEGIN:VTIMEZONE
TZID:Europe/Berlin
BEGIN:STANDARD
DTSTART:20181028T020000
RDATE:20190331T030000
TZOFFSETFROM:+0200
TZOFFSETTO:+0100
TZNAME:Europe/Berlin CET
END:STANDARD
BEGIN:STANDARD
DTSTART:20191027T020000
RDATE:20200329T030000
TZOFFSETFROM:+0200
TZOFFSETTO:+0100
TZNAME:Europe/Berlin CET
END:STANDARD
BEGIN:STANDARD
DTSTART:20201025T020000
RDATE:20210328T030000
TZOFFSETFROM:+0200
TZOFFSETTO:+0100
TZNAME:Europe/Berlin CET
END:STANDARD
BEGIN:STANDARD
DTSTART:20211031T020000
RDATE:20220327T030000
TZOFFSETFROM:+0200
TZOFFSETTO:+0100
TZNAME:Europe/Berlin CET
END:STANDARD
BEGIN:STANDARD
DTSTART:20221030T020000
RDATE:20230326T030000
TZOFFSETFROM:+0200
TZOFFSETTO:+0100
TZNAME:Europe/Berlin CET
END:STANDARD
BEGIN:STANDARD
DTSTART:20231029T020000
RDATE:20240331T030000
TZOFFSETFROM:+0200
TZOFFSETTO:+0100
TZNAME:Europe/Berlin CET
END:STANDARD
BEGIN:DAYLIGHT
DTSTART:20180919T200000
RDATE:20181028T020000
TZOFFSETFROM:+0100
TZOFFSETTO:+0200
TZNAME:Europe/Berlin CEST
END:DAYLIGHT
BEGIN:DAYLIGHT
DTSTART:20190331T030000
RDATE:20191027T020000
TZOFFSETFROM:+0100
TZOFFSETTO:+0200
TZNAME:Europe/Berlin CEST
END:DAYLIGHT
BEGIN:DAYLIGHT
DTSTART:20200329T030000
RDATE:20201025T020000
TZOFFSETFROM:+0100
TZOFFSETTO:+0200
TZNAME:Europe/Berlin CEST
END:DAYLIGHT
BEGIN:DAYLIGHT
DTSTART:20210328T030000
RDATE:20211031T020000
TZOFFSETFROM:+0100
TZOFFSETTO:+0200
TZNAME:Europe/Berlin CEST
END:DAYLIGHT
BEGIN:DAYLIGHT
DTSTART:20220327T030000
RDATE:20221030T020000
TZOFFSETFROM:+0100
TZOFFSETTO:+0200
TZNAME:Europe/Berlin CEST
END:DAYLIGHT
BEGIN:DAYLIGHT
DTSTART:20230326T030000
RDATE:20231029T020000
TZOFFSETFROM:+0100
TZOFFSETTO:+0200
TZNAME:Europe/Berlin CEST
END:DAYLIGHT
END:VTIMEZONE
BEGIN:VEVENT
UID:cdb5c4c635c9229dc0482987b3a70b30
CATEGORIES:Musik
CREATED:20190919T162436
SUMMARY:4 Amigos beij et September Special e Oche
LOCATION:Katschhof\, 52068 Aachen
DESCRIPTION;ENCODING=QUOTED-PRINTABLE:Veranstaltung: 4 Amigos beij et September Special 2019 e Oche\nKünstler: \n
 \nu. a. (4 Amigos)\n\nOrt: Katschhof, 52068 Aachen   Termin: 20.09.2019Begi
 nn: 20:00 UhrEnde: ca. 22:00 Uhr(Einlass:) ca. 30-60 Minuten vor Beginn *1 
   Kosten: Eintritt freiEintritt: -Veranstalter: siehe offizielle Bekanntgab
 e\nStadt Aachen, RWTH Aachen und MAC – Märkte u. Aktionskreis City e.V. wei
 tere Infos zum Termin auf: https://www.aachenseptemberspecial.de/event/oech
 er-ovvend/ bzw. http://www.aachenseptemberspecial.de/\n\n\n \n\n\nAnmerkung
 en: (Alle Angaben ohne Gewähr)\n*1: abweichende Einlasszeiten sind (soweit 
 bekannt) angegeben.\n*2: Eintrittskarte pro Person, Ermäßigungen bitte beim
  Veranstalter erfragen\n\n
CONTACT:190000204
DTSTAMP:20260419T220328Z
DTSTART;TZID=Europe/Berlin:20190920T200000
DTEND;TZID=Europe/Berlin:20190920T220000
SEQUENCE:0
TRANSP:OPAQUE
END:VEVENT
END:VCALENDAR