BEGIN:VCALENDAR
VERSION:2.0
PRODID:-//jEvents 2.0 for Joomla//EN
CALSCALE:GREGORIAN
METHOD:PUBLISH
BEGIN:VTIMEZONE
TZID:Europe/Berlin
BEGIN:STANDARD
DTSTART:20181028T020000
RDATE:20190331T030000
TZOFFSETFROM:+0200
TZOFFSETTO:+0100
TZNAME:Europe/Berlin CET
END:STANDARD
BEGIN:STANDARD
DTSTART:20191027T020000
RDATE:20200329T030000
TZOFFSETFROM:+0200
TZOFFSETTO:+0100
TZNAME:Europe/Berlin CET
END:STANDARD
BEGIN:STANDARD
DTSTART:20201025T020000
RDATE:20210328T030000
TZOFFSETFROM:+0200
TZOFFSETTO:+0100
TZNAME:Europe/Berlin CET
END:STANDARD
BEGIN:STANDARD
DTSTART:20211031T020000
RDATE:20220327T030000
TZOFFSETFROM:+0200
TZOFFSETTO:+0100
TZNAME:Europe/Berlin CET
END:STANDARD
BEGIN:STANDARD
DTSTART:20221030T020000
RDATE:20230326T030000
TZOFFSETFROM:+0200
TZOFFSETTO:+0100
TZNAME:Europe/Berlin CET
END:STANDARD
BEGIN:STANDARD
DTSTART:20231029T020000
RDATE:20240331T030000
TZOFFSETFROM:+0200
TZOFFSETTO:+0100
TZNAME:Europe/Berlin CET
END:STANDARD
BEGIN:DAYLIGHT
DTSTART:20180914T140000
RDATE:20181028T020000
TZOFFSETFROM:+0100
TZOFFSETTO:+0200
TZNAME:Europe/Berlin CEST
END:DAYLIGHT
BEGIN:DAYLIGHT
DTSTART:20190331T030000
RDATE:20191027T020000
TZOFFSETFROM:+0100
TZOFFSETTO:+0200
TZNAME:Europe/Berlin CEST
END:DAYLIGHT
BEGIN:DAYLIGHT
DTSTART:20200329T030000
RDATE:20201025T020000
TZOFFSETFROM:+0100
TZOFFSETTO:+0200
TZNAME:Europe/Berlin CEST
END:DAYLIGHT
BEGIN:DAYLIGHT
DTSTART:20210328T030000
RDATE:20211031T020000
TZOFFSETFROM:+0100
TZOFFSETTO:+0200
TZNAME:Europe/Berlin CEST
END:DAYLIGHT
BEGIN:DAYLIGHT
DTSTART:20220327T030000
RDATE:20221030T020000
TZOFFSETFROM:+0100
TZOFFSETTO:+0200
TZNAME:Europe/Berlin CEST
END:DAYLIGHT
BEGIN:DAYLIGHT
DTSTART:20230326T030000
RDATE:20231029T020000
TZOFFSETFROM:+0100
TZOFFSETTO:+0200
TZNAME:Europe/Berlin CEST
END:DAYLIGHT
END:VTIMEZONE
BEGIN:VEVENT
UID:b38f6724a2f6d3693c57a5f5dadcbd39
CATEGORIES:Musik
CREATED:20190919T183926
SUMMARY:Ballads än Blues met Jupp Ebert (Hoeve de Linde)
LOCATION:Hoeve de Linde (NL) Schuttebergsweg 5\, 6291 NG Vaals (NL!)
DESCRIPTION;ENCODING=QUOTED-PRINTABLE:Veranstaltung: Ballads än Blues met Jupp Ebert\nKünstler: \n\nWerner Weber,
  Mark Beumers, Jupp Ebert\n\nOrt: Hoeve de Linde (NL)\nSchuttebergsweg 5, 6
 291 NG Vaals (NL!)   Termin: 15.09.2019Beginn: 14:00 UhrEnde: ca. ?:00 Uhr(
 Einlass:) ca. 30-60 Minuten vor Beginn *1   Kosten: ?- (Preis pro Person *2
 )Eintritt: Eintritt freiVeranstalter:   weitere Infos zum Termin auf: https
 ://www.hoevedelinde.nl/index.php/landcafe \n\nAnmerkungen: (Alle Angaben oh
 ne Gewähr)\n*1: abweichende Einlasszeiten sind (soweit bekannt) angegeben.\
 n*2: Eintrittskarte pro Person, Ermäßigungen bitte beim Veranstalter erfrag
 en\n\n
CONTACT:190000223
DTSTAMP:20260419T220339Z
DTSTART;TZID=Europe/Berlin:20190915T140000
SEQUENCE:0
TRANSP:OPAQUE
END:VEVENT
END:VCALENDAR