BEGIN:VCALENDAR
VERSION:2.0
PRODID:-//jEvents 2.0 for Joomla//EN
CALSCALE:GREGORIAN
METHOD:PUBLISH
BEGIN:VTIMEZONE
TZID:Europe/Berlin
BEGIN:STANDARD
DTSTART:20181031T193000
RDATE:20190331T030000
TZOFFSETFROM:+0200
TZOFFSETTO:+0100
TZNAME:Europe/Berlin CET
END:STANDARD
BEGIN:STANDARD
DTSTART:20191027T020000
RDATE:20200329T030000
TZOFFSETFROM:+0200
TZOFFSETTO:+0100
TZNAME:Europe/Berlin CET
END:STANDARD
BEGIN:STANDARD
DTSTART:20201025T020000
RDATE:20210328T030000
TZOFFSETFROM:+0200
TZOFFSETTO:+0100
TZNAME:Europe/Berlin CET
END:STANDARD
BEGIN:STANDARD
DTSTART:20211031T020000
RDATE:20220327T030000
TZOFFSETFROM:+0200
TZOFFSETTO:+0100
TZNAME:Europe/Berlin CET
END:STANDARD
BEGIN:STANDARD
DTSTART:20221030T020000
RDATE:20230326T030000
TZOFFSETFROM:+0200
TZOFFSETTO:+0100
TZNAME:Europe/Berlin CET
END:STANDARD
BEGIN:STANDARD
DTSTART:20231029T020000
RDATE:20240331T030000
TZOFFSETFROM:+0200
TZOFFSETTO:+0100
TZNAME:Europe/Berlin CET
END:STANDARD
BEGIN:DAYLIGHT
DTSTART:20190331T030000
RDATE:20191027T020000
TZOFFSETFROM:+0100
TZOFFSETTO:+0200
TZNAME:Europe/Berlin CEST
END:DAYLIGHT
BEGIN:DAYLIGHT
DTSTART:20200329T030000
RDATE:20201025T020000
TZOFFSETFROM:+0100
TZOFFSETTO:+0200
TZNAME:Europe/Berlin CEST
END:DAYLIGHT
BEGIN:DAYLIGHT
DTSTART:20210328T030000
RDATE:20211031T020000
TZOFFSETFROM:+0100
TZOFFSETTO:+0200
TZNAME:Europe/Berlin CEST
END:DAYLIGHT
BEGIN:DAYLIGHT
DTSTART:20220327T030000
RDATE:20221030T020000
TZOFFSETFROM:+0100
TZOFFSETTO:+0200
TZNAME:Europe/Berlin CEST
END:DAYLIGHT
BEGIN:DAYLIGHT
DTSTART:20230326T030000
RDATE:20231029T020000
TZOFFSETFROM:+0100
TZOFFSETTO:+0200
TZNAME:Europe/Berlin CEST
END:DAYLIGHT
END:VTIMEZONE
BEGIN:VEVENT
UID:622c2ff9584bb662a176fe6683502f73
CATEGORIES:Musik
CREATED:20191015T165631
SUMMARY:Va ooet op nöjj (Capella a Capella & Dirk von Petzold)
LOCATION:Theater Aachen\, Theaterplatz 1\, 52062 Aachen
DESCRIPTION;ENCODING=QUOTED-PRINTABLE:Veranstaltung: \n\nBenefizabend "Herbstemotionen"\n\nTheater Aachen\n\n\n\n
 Va ooet op nöjj \n(Capella a Capella &amp; \nDirk von Petzold)\nKünstler: \
 n\nMusikalisch: Dirk von Petzold \n&amp; Capella a Capella \n(evtl. Kinder 
 der Domsingschule)\n\nOrt: \n\nTheater Aachen, \nTheaterplatz 1, \n52062 Aa
 chen\n   Termin: 01.11.2019\nBeginn: ca. 18:30 (ab 19.30 Uhr)\nEnde: ca. 22
 :30 Uhr(Einlass:) ca. 30-60 Min. vor Beginn *1   Kosten: - (Preis pro Perso
 n *2)Eintritt: -Veranstalter: siehe offizielle Bekanntgabe\nGeneration 55pl
 us weitere Infos zum Termin auf: http://www.udo-schroll.de/Termine\n\nAnmer
 kungen: (Alle Angaben ohne Gewähr)\n*1: abweichende Einlasszeiten sind (sow
 eit bekannt) angegeben.\n*2: Eintrittskarte pro Person, Ermäßigungen bitte 
 beim Veranstalter erfragen\n
CONTACT:190000226
DTSTAMP:20260419T154602Z
DTSTART;TZID=Europe/Berlin:20191101T193000
DTEND;TZID=Europe/Berlin:20191101T220000
SEQUENCE:0
TRANSP:OPAQUE
END:VEVENT
END:VCALENDAR