BEGIN:VCALENDAR
VERSION:2.0
PRODID:-//jEvents 2.0 for Joomla//EN
CALSCALE:GREGORIAN
METHOD:PUBLISH
BEGIN:VTIMEZONE
TZID:Europe/Berlin
BEGIN:STANDARD
DTSTART:20190221T190000
RDATE:20190331T030000
TZOFFSETFROM:+0200
TZOFFSETTO:+0100
TZNAME:Europe/Berlin CET
END:STANDARD
BEGIN:STANDARD
DTSTART:20191027T020000
RDATE:20200329T030000
TZOFFSETFROM:+0200
TZOFFSETTO:+0100
TZNAME:Europe/Berlin CET
END:STANDARD
BEGIN:STANDARD
DTSTART:20201025T020000
RDATE:20210328T030000
TZOFFSETFROM:+0200
TZOFFSETTO:+0100
TZNAME:Europe/Berlin CET
END:STANDARD
BEGIN:STANDARD
DTSTART:20211031T020000
RDATE:20220327T030000
TZOFFSETFROM:+0200
TZOFFSETTO:+0100
TZNAME:Europe/Berlin CET
END:STANDARD
BEGIN:STANDARD
DTSTART:20221030T020000
RDATE:20230326T030000
TZOFFSETFROM:+0200
TZOFFSETTO:+0100
TZNAME:Europe/Berlin CET
END:STANDARD
BEGIN:STANDARD
DTSTART:20231029T020000
RDATE:20240331T030000
TZOFFSETFROM:+0200
TZOFFSETTO:+0100
TZNAME:Europe/Berlin CET
END:STANDARD
BEGIN:DAYLIGHT
DTSTART:20190331T030000
RDATE:20191027T020000
TZOFFSETFROM:+0100
TZOFFSETTO:+0200
TZNAME:Europe/Berlin CEST
END:DAYLIGHT
BEGIN:DAYLIGHT
DTSTART:20200329T030000
RDATE:20201025T020000
TZOFFSETFROM:+0100
TZOFFSETTO:+0200
TZNAME:Europe/Berlin CEST
END:DAYLIGHT
BEGIN:DAYLIGHT
DTSTART:20210328T030000
RDATE:20211031T020000
TZOFFSETFROM:+0100
TZOFFSETTO:+0200
TZNAME:Europe/Berlin CEST
END:DAYLIGHT
BEGIN:DAYLIGHT
DTSTART:20220327T030000
RDATE:20221030T020000
TZOFFSETFROM:+0100
TZOFFSETTO:+0200
TZNAME:Europe/Berlin CEST
END:DAYLIGHT
BEGIN:DAYLIGHT
DTSTART:20230326T030000
RDATE:20231029T020000
TZOFFSETFROM:+0100
TZOFFSETTO:+0200
TZNAME:Europe/Berlin CEST
END:DAYLIGHT
END:VTIMEZONE
BEGIN:VEVENT
UID:9c01ade27acdfa91ebd4c677e47517bf
CATEGORIES:Theater
CREATED:20191020T122929
SUMMARY:Et Maat - Marie (Alt-Aachener-Bühne)
LOCATION:Stadttheater Aachen\,  Theaterplatz 1\, 52062 Aachen
DESCRIPTION;ENCODING=QUOTED-PRINTABLE:Veranstaltung: \n\nEt Maat - Marie\n\nKünstler: \n\nAlt-Aachener-Bühne e. V
 .\nOrt: Stadttheater Aachen, \nTheaterplatz 1, 52062 Aachen   Termin: 22.02
 .2020Beginn: 19:00 UhrEnde: ca. 22:00 Uhr(Einlass:) ca. 30 Min. vorher   Ko
 sten: \n\nsiehe Stadttheater Aachen\nEintritt: \n\nVVK\nVeranstalter: Alt-A
 achener-Bühne 1919 e. V. weitere Infos zum Termin:\n\nhttp://alt-aachener-b
 uehne.de/termine/\n\n\n \n\n\nAnmerkungen: (Alle Angaben ohne Gewähr)\n*1: 
 abweichende Einlasszeiten sind (soweit bekannt) angegeben.\n*2: Eintrittska
 rte pro Person, Ermäßigungen bitte beim Veranstalter erfragen\n\n\n\n \n
CONTACT:190000235
DTSTAMP:20260424T143831Z
DTSTART;TZID=Europe/Berlin:20200222T190000
DTEND;TZID=Europe/Berlin:20200222T220000
SEQUENCE:0
TRANSP:OPAQUE
END:VEVENT
END:VCALENDAR