BEGIN:VCALENDAR
VERSION:2.0
PRODID:-//jEvents 2.0 for Joomla//EN
CALSCALE:GREGORIAN
METHOD:PUBLISH
BEGIN:VTIMEZONE
TZID:Europe/Berlin
BEGIN:STANDARD
DTSTART:20190211T171700
RDATE:20190331T030000
TZOFFSETFROM:+0200
TZOFFSETTO:+0100
TZNAME:Europe/Berlin CET
END:STANDARD
BEGIN:STANDARD
DTSTART:20191027T020000
RDATE:20200329T030000
TZOFFSETFROM:+0200
TZOFFSETTO:+0100
TZNAME:Europe/Berlin CET
END:STANDARD
BEGIN:STANDARD
DTSTART:20201025T020000
RDATE:20210328T030000
TZOFFSETFROM:+0200
TZOFFSETTO:+0100
TZNAME:Europe/Berlin CET
END:STANDARD
BEGIN:STANDARD
DTSTART:20211031T020000
RDATE:20220327T030000
TZOFFSETFROM:+0200
TZOFFSETTO:+0100
TZNAME:Europe/Berlin CET
END:STANDARD
BEGIN:STANDARD
DTSTART:20221030T020000
RDATE:20230326T030000
TZOFFSETFROM:+0200
TZOFFSETTO:+0100
TZNAME:Europe/Berlin CET
END:STANDARD
BEGIN:STANDARD
DTSTART:20231029T020000
RDATE:20240331T030000
TZOFFSETFROM:+0200
TZOFFSETTO:+0100
TZNAME:Europe/Berlin CET
END:STANDARD
BEGIN:DAYLIGHT
DTSTART:20190331T030000
RDATE:20191027T020000
TZOFFSETFROM:+0100
TZOFFSETTO:+0200
TZNAME:Europe/Berlin CEST
END:DAYLIGHT
BEGIN:DAYLIGHT
DTSTART:20200329T030000
RDATE:20201025T020000
TZOFFSETFROM:+0100
TZOFFSETTO:+0200
TZNAME:Europe/Berlin CEST
END:DAYLIGHT
BEGIN:DAYLIGHT
DTSTART:20210328T030000
RDATE:20211031T020000
TZOFFSETFROM:+0100
TZOFFSETTO:+0200
TZNAME:Europe/Berlin CEST
END:DAYLIGHT
BEGIN:DAYLIGHT
DTSTART:20220327T030000
RDATE:20221030T020000
TZOFFSETFROM:+0100
TZOFFSETTO:+0200
TZNAME:Europe/Berlin CEST
END:DAYLIGHT
BEGIN:DAYLIGHT
DTSTART:20230326T030000
RDATE:20231029T020000
TZOFFSETFROM:+0100
TZOFFSETTO:+0200
TZNAME:Europe/Berlin CEST
END:DAYLIGHT
END:VTIMEZONE
BEGIN:VEVENT
UID:2cdaa283bc3d2c553bae5aa1c745ab87
CATEGORIES:Heämet
CREATED:20191102T120908
SUMMARY:Kneipenkarneval - Gaststätte zur Post 2020 (Aachen-Laurensberg)
LOCATION:Gaststätte Zur Post\, Rathausstr. 2\, 52072 Aachen (Laurensberg)
DESCRIPTION;ENCODING=QUOTED-PRINTABLE:



Veranstaltung:
&nbsp;
Kneipenkarneval in Laurensberg\n


K&uuml;nstler:
 
&nbsp;

\n\nOecher Stadtmusikanten, &nbsp;\n
\n\nHubert Aretz, Kurt Christ
  und ...\n



Ort:
&nbsp;

\n\nGastst&auml;tte zur Post\nRathausstr. 2, 520
 72 Aachen (Laurensberg)\n



&nbsp;
&nbsp;
&nbsp;


Termin:
&nbsp;
12.02.20
 20


Beginn:
&nbsp;
17:17 Uhr


Ende:
&nbsp;
ca. 22:00 Uhr


(Einlass:)
&nb
 sp;
ca. 16:30 Uhr


&nbsp;
&nbsp;
&nbsp;


Kosten:
&nbsp;
keine


Eintritt:
 
&nbsp;
-


Veranstalter:
&nbsp;
siehe offizielle Bekanntgabe




&nbsp;
we
 itere Infos zum Termin auf:
\n\n-\n
\n\n&nbsp;\n
\n\nAnmerkungen: (Alle Ang
 aben ohne Gew&auml;hr)\n*1: abweichende Einlasszeiten sind (soweit bekannt)
  angegeben.\n*2: Eintrittskarte pro Person, Erm&auml;&szlig;igungen bitte b
 eim Veranstalter erfragen\n

CONTACT:190000288
DTSTAMP:20260424T143841Z
DTSTART;TZID=Europe/Berlin:20200212T171700
SEQUENCE:0
TRANSP:OPAQUE
END:VEVENT
END:VCALENDAR