BEGIN:VCALENDAR
VERSION:2.0
PRODID:-//jEvents 2.0 for Joomla//EN
CALSCALE:GREGORIAN
METHOD:PUBLISH
BEGIN:VTIMEZONE
TZID:Europe/Berlin
BEGIN:STANDARD
DTSTART:20190123T171700
RDATE:20190331T030000
TZOFFSETFROM:+0200
TZOFFSETTO:+0100
TZNAME:Europe/Berlin CET
END:STANDARD
BEGIN:STANDARD
DTSTART:20191027T020000
RDATE:20200329T030000
TZOFFSETFROM:+0200
TZOFFSETTO:+0100
TZNAME:Europe/Berlin CET
END:STANDARD
BEGIN:STANDARD
DTSTART:20201025T020000
RDATE:20210328T030000
TZOFFSETFROM:+0200
TZOFFSETTO:+0100
TZNAME:Europe/Berlin CET
END:STANDARD
BEGIN:STANDARD
DTSTART:20211031T020000
RDATE:20220327T030000
TZOFFSETFROM:+0200
TZOFFSETTO:+0100
TZNAME:Europe/Berlin CET
END:STANDARD
BEGIN:STANDARD
DTSTART:20221030T020000
RDATE:20230326T030000
TZOFFSETFROM:+0200
TZOFFSETTO:+0100
TZNAME:Europe/Berlin CET
END:STANDARD
BEGIN:STANDARD
DTSTART:20231029T020000
RDATE:20240331T030000
TZOFFSETFROM:+0200
TZOFFSETTO:+0100
TZNAME:Europe/Berlin CET
END:STANDARD
BEGIN:DAYLIGHT
DTSTART:20190331T030000
RDATE:20191027T020000
TZOFFSETFROM:+0100
TZOFFSETTO:+0200
TZNAME:Europe/Berlin CEST
END:DAYLIGHT
BEGIN:DAYLIGHT
DTSTART:20200329T030000
RDATE:20201025T020000
TZOFFSETFROM:+0100
TZOFFSETTO:+0200
TZNAME:Europe/Berlin CEST
END:DAYLIGHT
BEGIN:DAYLIGHT
DTSTART:20210328T030000
RDATE:20211031T020000
TZOFFSETFROM:+0100
TZOFFSETTO:+0200
TZNAME:Europe/Berlin CEST
END:DAYLIGHT
BEGIN:DAYLIGHT
DTSTART:20220327T030000
RDATE:20221030T020000
TZOFFSETFROM:+0100
TZOFFSETTO:+0200
TZNAME:Europe/Berlin CEST
END:DAYLIGHT
BEGIN:DAYLIGHT
DTSTART:20230326T030000
RDATE:20231029T020000
TZOFFSETFROM:+0100
TZOFFSETTO:+0200
TZNAME:Europe/Berlin CEST
END:DAYLIGHT
END:VTIMEZONE
BEGIN:VEVENT
UID:81c276cf125c254a5928df3bea021a1f
CATEGORIES:Fastelovvend
CREATED:20191102T121025
SUMMARY:Kneipenkarneval - Gaststätte Poth 2020 (Aachen-Richterich)
LOCATION:Gaststätte Poth\, Horbacher Str.74\, 52072 Aachen (Richterich)
DESCRIPTION;ENCODING=QUOTED-PRINTABLE:Veranstaltung: Kneipenkarneval in Richterich\nKünstler: \n\nund und und ...
 \n\nOrt: \n\nGaststätte Poth\nHorbacher Str. 74, 52072 Aachen (Richterich)\
 n   Termin: 24.01.2020Beginn: 17:17 UhrEnde: ca. 22:00 Uhr(Einlass:) ca. 16
 :30 Uhr   Kosten: keineEintritt: -Veranstalter: siehe offizielle Bekanntgab
 e weitere Infos zum Termin auf:\n\n-\n\n\n \n\n\nAnmerkungen: (Alle Angaben
  ohne Gewähr)\n*1: abweichende Einlasszeiten sind (soweit bekannt) angegebe
 n.\n*2: Eintrittskarte pro Person, Ermäßigungen bitte beim Veranstalter erf
 ragen\n
CONTACT:190000290
DTSTAMP:20260424T143831Z
DTSTART;TZID=Europe/Berlin:20200124T171700
DTEND;TZID=Europe/Berlin:20200124T220000
SEQUENCE:0
TRANSP:OPAQUE
END:VEVENT
END:VCALENDAR