BEGIN:VCALENDAR
VERSION:2.0
PRODID:-//jEvents 2.0 for Joomla//EN
CALSCALE:GREGORIAN
METHOD:PUBLISH
BEGIN:VTIMEZONE
TZID:Europe/Berlin
BEGIN:STANDARD
DTSTART:20181130T160000
RDATE:20190331T030000
TZOFFSETFROM:+0200
TZOFFSETTO:+0100
TZNAME:Europe/Berlin CET
END:STANDARD
BEGIN:STANDARD
DTSTART:20191027T020000
RDATE:20200329T030000
TZOFFSETFROM:+0200
TZOFFSETTO:+0100
TZNAME:Europe/Berlin CET
END:STANDARD
BEGIN:STANDARD
DTSTART:20201025T020000
RDATE:20210328T030000
TZOFFSETFROM:+0200
TZOFFSETTO:+0100
TZNAME:Europe/Berlin CET
END:STANDARD
BEGIN:STANDARD
DTSTART:20211031T020000
RDATE:20220327T030000
TZOFFSETFROM:+0200
TZOFFSETTO:+0100
TZNAME:Europe/Berlin CET
END:STANDARD
BEGIN:STANDARD
DTSTART:20221030T020000
RDATE:20230326T030000
TZOFFSETFROM:+0200
TZOFFSETTO:+0100
TZNAME:Europe/Berlin CET
END:STANDARD
BEGIN:STANDARD
DTSTART:20231029T020000
RDATE:20240331T030000
TZOFFSETFROM:+0200
TZOFFSETTO:+0100
TZNAME:Europe/Berlin CET
END:STANDARD
BEGIN:DAYLIGHT
DTSTART:20190331T030000
RDATE:20191027T020000
TZOFFSETFROM:+0100
TZOFFSETTO:+0200
TZNAME:Europe/Berlin CEST
END:DAYLIGHT
BEGIN:DAYLIGHT
DTSTART:20200329T030000
RDATE:20201025T020000
TZOFFSETFROM:+0100
TZOFFSETTO:+0200
TZNAME:Europe/Berlin CEST
END:DAYLIGHT
BEGIN:DAYLIGHT
DTSTART:20210328T030000
RDATE:20211031T020000
TZOFFSETFROM:+0100
TZOFFSETTO:+0200
TZNAME:Europe/Berlin CEST
END:DAYLIGHT
BEGIN:DAYLIGHT
DTSTART:20220327T030000
RDATE:20221030T020000
TZOFFSETFROM:+0100
TZOFFSETTO:+0200
TZNAME:Europe/Berlin CEST
END:DAYLIGHT
BEGIN:DAYLIGHT
DTSTART:20230326T030000
RDATE:20231029T020000
TZOFFSETFROM:+0100
TZOFFSETTO:+0200
TZNAME:Europe/Berlin CEST
END:DAYLIGHT
END:VTIMEZONE
BEGIN:VEVENT
UID:a3f3575bf05d09dc733a0ab14c11318f
CATEGORIES:Fastelovvend
CREATED:20191106T095241
SUMMARY:Adventssingen des AAK (defferente Könsler)
LOCATION:St. Nikolaus (Citykriche)\, An der Nikolauskirche 3\, 52062 Aachen
DESCRIPTION;ENCODING=QUOTED-PRINTABLE:Veranstaltung:\n(Festäng)\n\nAdventssingen des AAK\nKünstler:\n(Könsler)\n\
 n\nu. a. design. Tollitäten MARTIN I. und MäPri LEO I. und Hofstaat, uvm.\n
 \nOrt: \n(Ooet)St. Nikolaus (Citykriche), \nAn der Nikolauskirche 3, \n5206
 2 Aachen  Termin:(Datum)01.12.2019Beginn:(Aafang)16:00 UhrEnde: \n(Engd)ca.
  17:30 Uhr  Kosten:\n(Kooste)Eintritt freiEintritt/Einlass\n(Antree/Eloss) 
  weitere Infos zum Termin auf: \n\n\n \n\n\nAnmerkungen: (Alle Angaben ohne
  Gewähr)\n*1: abweichende Einlasszeiten sind (soweit bekannt) angegeben.\n*
 2: Eintrittskarte pro Person, Ermäßigungen bitte beim Veranstalter erfragen
 \n\n
CONTACT:190000282
DTSTAMP:20260419T191640Z
DTSTART;TZID=Europe/Berlin:20191201T160000
DTEND;TZID=Europe/Berlin:20191201T173000
SEQUENCE:0
TRANSP:OPAQUE
END:VEVENT
END:VCALENDAR