BEGIN:VCALENDAR
VERSION:2.0
PRODID:-//jEvents 2.0 for Joomla//EN
CALSCALE:GREGORIAN
METHOD:PUBLISH
BEGIN:VTIMEZONE
TZID:Europe/Berlin
BEGIN:STANDARD
DTSTART:20190107T193000
RDATE:20190331T030000
TZOFFSETFROM:+0200
TZOFFSETTO:+0100
TZNAME:Europe/Berlin CET
END:STANDARD
BEGIN:STANDARD
DTSTART:20191027T020000
RDATE:20200329T030000
TZOFFSETFROM:+0200
TZOFFSETTO:+0100
TZNAME:Europe/Berlin CET
END:STANDARD
BEGIN:STANDARD
DTSTART:20201025T020000
RDATE:20210328T030000
TZOFFSETFROM:+0200
TZOFFSETTO:+0100
TZNAME:Europe/Berlin CET
END:STANDARD
BEGIN:STANDARD
DTSTART:20211031T020000
RDATE:20220327T030000
TZOFFSETFROM:+0200
TZOFFSETTO:+0100
TZNAME:Europe/Berlin CET
END:STANDARD
BEGIN:STANDARD
DTSTART:20221030T020000
RDATE:20230326T030000
TZOFFSETFROM:+0200
TZOFFSETTO:+0100
TZNAME:Europe/Berlin CET
END:STANDARD
BEGIN:STANDARD
DTSTART:20231029T020000
RDATE:20240331T030000
TZOFFSETFROM:+0200
TZOFFSETTO:+0100
TZNAME:Europe/Berlin CET
END:STANDARD
BEGIN:DAYLIGHT
DTSTART:20190331T030000
RDATE:20191027T020000
TZOFFSETFROM:+0100
TZOFFSETTO:+0200
TZNAME:Europe/Berlin CEST
END:DAYLIGHT
BEGIN:DAYLIGHT
DTSTART:20200329T030000
RDATE:20201025T020000
TZOFFSETFROM:+0100
TZOFFSETTO:+0200
TZNAME:Europe/Berlin CEST
END:DAYLIGHT
BEGIN:DAYLIGHT
DTSTART:20210328T030000
RDATE:20211031T020000
TZOFFSETFROM:+0100
TZOFFSETTO:+0200
TZNAME:Europe/Berlin CEST
END:DAYLIGHT
BEGIN:DAYLIGHT
DTSTART:20220327T030000
RDATE:20221030T020000
TZOFFSETFROM:+0100
TZOFFSETTO:+0200
TZNAME:Europe/Berlin CEST
END:DAYLIGHT
BEGIN:DAYLIGHT
DTSTART:20230326T030000
RDATE:20231029T020000
TZOFFSETFROM:+0100
TZOFFSETTO:+0200
TZNAME:Europe/Berlin CEST
END:DAYLIGHT
END:VTIMEZONE
BEGIN:VEVENT
UID:9084a596a7a4eaa4b652e3885a25521c
CATEGORIES:Fastelovvend
CREATED:20191106T095518
SUMMARY:Ökumenischer Wortgottesdienst 2020 (defferente Könsler)
LOCATION:St. Nikolaus (Citykriche)\, An der Nikolauskirche 3\, 52062 Aachen
DESCRIPTION;ENCODING=QUOTED-PRINTABLE:Veranstaltung:\n(Festäng)\n\nÖkumenischer Wortgottesdienst 2020 mit Fahnen-
  und Standartenweihe des AAK\nKünstler:\n(Könsler)\n\n\nu. a. design. Tolli
 täten MARTIN I. und MäPri LEO I. und Hofstaat, uvm.\n\nOrt: \n(Ooet)St. Nik
 olaus (Citykriche), \nAn der Nikolauskirche 3, \n52062 Aachen   Termin:(Dat
 um)08.01.2020Beginn:(Aafang)19:30 UhrEnde: \n(Engd)ca. 20:30 Uhr  Kosten:\n
 (Kooste)Eintritt freiEintritt/Einlass\n(Antree/Eloss)  weitere Infos zum Te
 rmin auf: \n\n\n \n\n\nAnmerkungen: (Alle Angaben ohne Gewähr)\n*1: abweich
 ende Einlasszeiten sind (soweit bekannt) angegeben.\n*2: Eintrittskarte pro
  Person, Ermäßigungen bitte beim Veranstalter erfragen\n\n
CONTACT:190000282
DTSTAMP:20260424T143841Z
DTSTART;TZID=Europe/Berlin:20200108T193000
DTEND;TZID=Europe/Berlin:20200108T203000
SEQUENCE:0
TRANSP:OPAQUE
END:VEVENT
END:VCALENDAR