BEGIN:VCALENDAR
VERSION:2.0
PRODID:-//jEvents 2.0 for Joomla//EN
CALSCALE:GREGORIAN
METHOD:PUBLISH
BEGIN:VTIMEZONE
TZID:Europe/Berlin
BEGIN:STANDARD
DTSTART:20181213T190000
RDATE:20190331T030000
TZOFFSETFROM:+0200
TZOFFSETTO:+0100
TZNAME:Europe/Berlin CET
END:STANDARD
BEGIN:STANDARD
DTSTART:20191027T020000
RDATE:20200329T030000
TZOFFSETFROM:+0200
TZOFFSETTO:+0100
TZNAME:Europe/Berlin CET
END:STANDARD
BEGIN:STANDARD
DTSTART:20201025T020000
RDATE:20210328T030000
TZOFFSETFROM:+0200
TZOFFSETTO:+0100
TZNAME:Europe/Berlin CET
END:STANDARD
BEGIN:STANDARD
DTSTART:20211031T020000
RDATE:20220327T030000
TZOFFSETFROM:+0200
TZOFFSETTO:+0100
TZNAME:Europe/Berlin CET
END:STANDARD
BEGIN:STANDARD
DTSTART:20221030T020000
RDATE:20230326T030000
TZOFFSETFROM:+0200
TZOFFSETTO:+0100
TZNAME:Europe/Berlin CET
END:STANDARD
BEGIN:STANDARD
DTSTART:20231029T020000
RDATE:20240331T030000
TZOFFSETFROM:+0200
TZOFFSETTO:+0100
TZNAME:Europe/Berlin CET
END:STANDARD
BEGIN:DAYLIGHT
DTSTART:20190331T030000
RDATE:20191027T020000
TZOFFSETFROM:+0100
TZOFFSETTO:+0200
TZNAME:Europe/Berlin CEST
END:DAYLIGHT
BEGIN:DAYLIGHT
DTSTART:20200329T030000
RDATE:20201025T020000
TZOFFSETFROM:+0100
TZOFFSETTO:+0200
TZNAME:Europe/Berlin CEST
END:DAYLIGHT
BEGIN:DAYLIGHT
DTSTART:20210328T030000
RDATE:20211031T020000
TZOFFSETFROM:+0100
TZOFFSETTO:+0200
TZNAME:Europe/Berlin CEST
END:DAYLIGHT
BEGIN:DAYLIGHT
DTSTART:20220327T030000
RDATE:20221030T020000
TZOFFSETFROM:+0100
TZOFFSETTO:+0200
TZNAME:Europe/Berlin CEST
END:DAYLIGHT
BEGIN:DAYLIGHT
DTSTART:20230326T030000
RDATE:20231029T020000
TZOFFSETFROM:+0100
TZOFFSETTO:+0200
TZNAME:Europe/Berlin CEST
END:DAYLIGHT
END:VTIMEZONE
BEGIN:VEVENT
UID:5f5c35cd8d42364ed3d103135983a650
CATEGORIES:Musik
CREATED:20191124T173625
SUMMARY:Blues Delivery (ohne Mundart)
LOCATION:Hüttenstraße 45\, 52068 Aachen\, Deutschland
DESCRIPTION;ENCODING=QUOTED-PRINTABLE:&nbsp;




Veranstaltung:
&nbsp;
Blues Delivery


K&uuml;nstler:
&nbsp;

\n
 \nJupp Ebert, ...\n



Ort:
&nbsp;
Saalbau Kappertz\nH&uuml;ttenstr. 45, Aa
 chen\n52062 Aachen


&nbsp;
&nbsp;
&nbsp;


Termin:
&nbsp;
14.12.2019


Beg
 inn:
&nbsp;
19:00 Uhr


Ende:
&nbsp;
ca. HH:mm Uhr


(Einlass:)
&nbsp;
ca. 
 1h vor Beginn


&nbsp;
&nbsp;
&nbsp;


Kosten:
&nbsp;
X,- &euro; (pro Perso
 n) *2\nX,- &euro; Abendkasse


Eintritt:
&nbsp;

\n\n\nTickets:\nName,\nStr
 a&szlig;e\nPLZ Ort\n
\n\nName,\nStra&szlig;e\nPLZ Ort\nTel: XXXX XXXX\n\n\n
 



Veranstalter:
&nbsp;
Veranstalter XYZ




&nbsp;
weitere Infos zum Term
 in auf: URL
&nbsp;
&nbsp;

\n\nAnmerkungen: (Alle Angaben ohne Gew&auml;hr)
 \n*1: abweichende Einlasszeiten sind (soweit bekannt) angegeben.\n*2: Eintr
 ittskarte pro Person, Erm&auml;&szlig;igungen bitte beim Veranstalter erfra
 gen\n\n

\n\n&nbsp;\n
CONTACT:190000223
DTSTAMP:20260419T191640Z
DTSTART;TZID=Europe/Berlin:20191214T190000
SEQUENCE:0
TRANSP:OPAQUE
END:VEVENT
END:VCALENDAR