BEGIN:VCALENDAR
VERSION:2.0
PRODID:-//jEvents 2.0 for Joomla//EN
CALSCALE:GREGORIAN
METHOD:PUBLISH
BEGIN:VTIMEZONE
TZID:Europe/Berlin
BEGIN:STANDARD
DTSTART:20181221T180000
RDATE:20190331T030000
TZOFFSETFROM:+0200
TZOFFSETTO:+0100
TZNAME:Europe/Berlin CET
END:STANDARD
BEGIN:STANDARD
DTSTART:20191027T020000
RDATE:20200329T030000
TZOFFSETFROM:+0200
TZOFFSETTO:+0100
TZNAME:Europe/Berlin CET
END:STANDARD
BEGIN:STANDARD
DTSTART:20201025T020000
RDATE:20210328T030000
TZOFFSETFROM:+0200
TZOFFSETTO:+0100
TZNAME:Europe/Berlin CET
END:STANDARD
BEGIN:STANDARD
DTSTART:20211031T020000
RDATE:20220327T030000
TZOFFSETFROM:+0200
TZOFFSETTO:+0100
TZNAME:Europe/Berlin CET
END:STANDARD
BEGIN:STANDARD
DTSTART:20221030T020000
RDATE:20230326T030000
TZOFFSETFROM:+0200
TZOFFSETTO:+0100
TZNAME:Europe/Berlin CET
END:STANDARD
BEGIN:STANDARD
DTSTART:20231029T020000
RDATE:20240331T030000
TZOFFSETFROM:+0200
TZOFFSETTO:+0100
TZNAME:Europe/Berlin CET
END:STANDARD
BEGIN:DAYLIGHT
DTSTART:20190331T030000
RDATE:20191027T020000
TZOFFSETFROM:+0100
TZOFFSETTO:+0200
TZNAME:Europe/Berlin CEST
END:DAYLIGHT
BEGIN:DAYLIGHT
DTSTART:20200329T030000
RDATE:20201025T020000
TZOFFSETFROM:+0100
TZOFFSETTO:+0200
TZNAME:Europe/Berlin CEST
END:DAYLIGHT
BEGIN:DAYLIGHT
DTSTART:20210328T030000
RDATE:20211031T020000
TZOFFSETFROM:+0100
TZOFFSETTO:+0200
TZNAME:Europe/Berlin CEST
END:DAYLIGHT
BEGIN:DAYLIGHT
DTSTART:20220327T030000
RDATE:20221030T020000
TZOFFSETFROM:+0100
TZOFFSETTO:+0200
TZNAME:Europe/Berlin CEST
END:DAYLIGHT
BEGIN:DAYLIGHT
DTSTART:20230326T030000
RDATE:20231029T020000
TZOFFSETFROM:+0100
TZOFFSETTO:+0200
TZNAME:Europe/Berlin CEST
END:DAYLIGHT
END:VTIMEZONE
BEGIN:VEVENT
UID:2cef416d5c5f961c9a33ff6bb80ed83b
CATEGORIES:Musik
CREATED:20191215T122008
SUMMARY:Tivoli Weihnachtssingen 2019
LOCATION:Am Tivoli\, 52070 Aachen\, Deutschland
DESCRIPTION;ENCODING=QUOTED-PRINTABLE: Veranstaltung: Tivoli WeihnachtssingenKünstler: u.a. Jupp EbertOrt: Am Tiv
 oli, Aachen   Termin: 22.12.2019Beginn: 18:00 UhrEnde: ca. 20:00 Uhr(Einlas
 s:) ca. 1h vor Beginn   Kosten: Ab 3/5,- € (pro Person) *2Eintritt: \n\n\ni
 nzwischen "ausverkauft"\nVeranstalter:   weitere Infos zum Termin auf: http
 s://www.weihnachtssingen-ac.de/tickets/ \n\nAnmerkungen: (Alle Angaben ohne
  Gewähr)\n*1: abweichende Einlasszeiten sind (soweit bekannt) angegeben.\n*
 2: Eintrittskarte pro Person, Ermäßigungen bitte beim Veranstalter erfragen
 \n\n\n\n \n
CONTACT:190000211
DTSTAMP:20260419T191648Z
DTSTART;TZID=Europe/Berlin:20191222T180000
SEQUENCE:0
TRANSP:OPAQUE
END:VEVENT
END:VCALENDAR