BEGIN:VCALENDAR
VERSION:2.0
PRODID:-//jEvents 2.0 for Joomla//EN
CALSCALE:GREGORIAN
METHOD:PUBLISH
BEGIN:VTIMEZONE
TZID:Europe/Berlin
BEGIN:STANDARD
DTSTART:20190105T000000
RDATE:20190331T030000
TZOFFSETFROM:+0200
TZOFFSETTO:+0100
TZNAME:Europe/Berlin CET
END:STANDARD
BEGIN:STANDARD
DTSTART:20191027T020000
RDATE:20200329T030000
TZOFFSETFROM:+0200
TZOFFSETTO:+0100
TZNAME:Europe/Berlin CET
END:STANDARD
BEGIN:STANDARD
DTSTART:20201025T020000
RDATE:20210328T030000
TZOFFSETFROM:+0200
TZOFFSETTO:+0100
TZNAME:Europe/Berlin CET
END:STANDARD
BEGIN:STANDARD
DTSTART:20211031T020000
RDATE:20220327T030000
TZOFFSETFROM:+0200
TZOFFSETTO:+0100
TZNAME:Europe/Berlin CET
END:STANDARD
BEGIN:STANDARD
DTSTART:20221030T020000
RDATE:20230326T030000
TZOFFSETFROM:+0200
TZOFFSETTO:+0100
TZNAME:Europe/Berlin CET
END:STANDARD
BEGIN:STANDARD
DTSTART:20231029T020000
RDATE:20240331T030000
TZOFFSETFROM:+0200
TZOFFSETTO:+0100
TZNAME:Europe/Berlin CET
END:STANDARD
BEGIN:DAYLIGHT
DTSTART:20190331T030000
RDATE:20191027T020000
TZOFFSETFROM:+0100
TZOFFSETTO:+0200
TZNAME:Europe/Berlin CEST
END:DAYLIGHT
BEGIN:DAYLIGHT
DTSTART:20200329T030000
RDATE:20201025T020000
TZOFFSETFROM:+0100
TZOFFSETTO:+0200
TZNAME:Europe/Berlin CEST
END:DAYLIGHT
BEGIN:DAYLIGHT
DTSTART:20210328T030000
RDATE:20211031T020000
TZOFFSETFROM:+0100
TZOFFSETTO:+0200
TZNAME:Europe/Berlin CEST
END:DAYLIGHT
BEGIN:DAYLIGHT
DTSTART:20220327T030000
RDATE:20221030T020000
TZOFFSETFROM:+0100
TZOFFSETTO:+0200
TZNAME:Europe/Berlin CEST
END:DAYLIGHT
BEGIN:DAYLIGHT
DTSTART:20230326T030000
RDATE:20231029T020000
TZOFFSETFROM:+0100
TZOFFSETTO:+0200
TZNAME:Europe/Berlin CEST
END:DAYLIGHT
END:VTIMEZONE
BEGIN:VEVENT
UID:d20226a53a342e70b12f77ad3cca0553
CATEGORIES:Musik
CREATED:20200101T143512
SUMMARY:Titze Lejjenad bei d'r Thouet Mundardpreisverleihung
LOCATION:Krönungssaal des Rathauses\, Markt\, Aachen
DESCRIPTION;ENCODING=QUOTED-PRINTABLE:Veranstaltung: \n\nTitze Lejjenad bei d'r Thouet Mundartpreisverleihung\n(T
 HOUET-Mundartpreis \nder Stadt Aachen e.V.)\nKünstler: \n\nu. a. Titze Lejj
 enad\nOrt: Krönungssaal des Rathauses, \nMarkt, Aachen   Termin: 06.01.2020
 Beginn: - Uhr\nEnde: - Uhr(Einlass:) ca. 30-60 Minuten vor Beginn *1   Kost
 en: nur geladene GästeEintritt: keine öffentliche VeranstaltungVeranstalter
 : siehe offizielle Bekanntgabe\n(THOUET-Mundartpreis der Stadt Aachen e.V.)
  weitere Infos zum Termin auf: http://www.thouet-mundartpreis.de/der-preis.
 html\n\n!!! (die Bekanntgabe und die Verleihung sind keine öffentlichen Ver
 anstaltungen - nur geladene Gäste) !!! \n\n\n  \n\n\nAnmerkungen: (Alle Ang
 aben ohne Gewähr)\n*1: abweichende Einlasszeiten sind (soweit bekannt) ange
 geben.\n*2: Eintrittskarte pro Person, Ermäßigungen bitte beim Veranstalter
  erfragen\n\n\n \n\n\n \n\n\nAnmerkungen:\n\n\nAlle Angaben ohne Gewähr\n
CONTACT:190000284
X-EXTRAINFO:Achtung: keine öffentliche Veranstaltung (nur geladene Gäste!)
DTSTAMP:20260424T155932Z
DTSTART;TZID=Europe/Berlin;VALUE=DATE:20200106
DTEND;TZID=Europe/Berlin;VALUE=DATE:20200107
SEQUENCE:0
TRANSP:OPAQUE
END:VEVENT
END:VCALENDAR