BEGIN:VCALENDAR
VERSION:2.0
PRODID:-//jEvents 2.0 for Joomla//EN
CALSCALE:GREGORIAN
METHOD:PUBLISH
BEGIN:VTIMEZONE
TZID:Europe/Berlin
BEGIN:STANDARD
DTSTART:20190113T200000
RDATE:20190331T030000
TZOFFSETFROM:+0200
TZOFFSETTO:+0100
TZNAME:Europe/Berlin CET
END:STANDARD
BEGIN:STANDARD
DTSTART:20191027T020000
RDATE:20200329T030000
TZOFFSETFROM:+0200
TZOFFSETTO:+0100
TZNAME:Europe/Berlin CET
END:STANDARD
BEGIN:STANDARD
DTSTART:20201025T020000
RDATE:20210328T030000
TZOFFSETFROM:+0200
TZOFFSETTO:+0100
TZNAME:Europe/Berlin CET
END:STANDARD
BEGIN:STANDARD
DTSTART:20211031T020000
RDATE:20220327T030000
TZOFFSETFROM:+0200
TZOFFSETTO:+0100
TZNAME:Europe/Berlin CET
END:STANDARD
BEGIN:STANDARD
DTSTART:20221030T020000
RDATE:20230326T030000
TZOFFSETFROM:+0200
TZOFFSETTO:+0100
TZNAME:Europe/Berlin CET
END:STANDARD
BEGIN:STANDARD
DTSTART:20231029T020000
RDATE:20240331T030000
TZOFFSETFROM:+0200
TZOFFSETTO:+0100
TZNAME:Europe/Berlin CET
END:STANDARD
BEGIN:DAYLIGHT
DTSTART:20190331T030000
RDATE:20191027T020000
TZOFFSETFROM:+0100
TZOFFSETTO:+0200
TZNAME:Europe/Berlin CEST
END:DAYLIGHT
BEGIN:DAYLIGHT
DTSTART:20200329T030000
RDATE:20201025T020000
TZOFFSETFROM:+0100
TZOFFSETTO:+0200
TZNAME:Europe/Berlin CEST
END:DAYLIGHT
BEGIN:DAYLIGHT
DTSTART:20210328T030000
RDATE:20211031T020000
TZOFFSETFROM:+0100
TZOFFSETTO:+0200
TZNAME:Europe/Berlin CEST
END:DAYLIGHT
BEGIN:DAYLIGHT
DTSTART:20220327T030000
RDATE:20221030T020000
TZOFFSETFROM:+0100
TZOFFSETTO:+0200
TZNAME:Europe/Berlin CEST
END:DAYLIGHT
BEGIN:DAYLIGHT
DTSTART:20230326T030000
RDATE:20231029T020000
TZOFFSETFROM:+0100
TZOFFSETTO:+0200
TZNAME:Europe/Berlin CEST
END:DAYLIGHT
END:VTIMEZONE
BEGIN:VEVENT
UID:e32ab80f5340ceebf623b8e8217fb893
CATEGORIES:Fastelovvend
CREATED:20200114T082338
SUMMARY:Tästbild beim Narrenzipfel
LOCATION:Monheimsallee 48\, 52062 Aachen\, Deutschland
DESCRIPTION;ENCODING=QUOTED-PRINTABLE:&nbsp;




Veranstaltung:
&nbsp;
Narrengipfel im Westzipfel


K&uuml;nstler
 :
&nbsp;

\n\nPrinzen von Aachen und Umgebung \n
\n\nund T&auml;stbild\n



 
Ort:
&nbsp;

\n\nEurogress Aachen&nbsp;\nMonheimsallee 48\n
\n\n52062 Aach
 en\n



&nbsp;
&nbsp;
&nbsp;


Termin:
&nbsp;
14.01.2020


Beginn:
&nbsp;
2
 0:00 Uhr


Ende:
&nbsp;
ca. HH:mm Uhr


(Einlass:)
&nbsp;
ca. 1h vor Beginn
 


&nbsp;
&nbsp;
&nbsp;


Kosten:
&nbsp;
11,- &euro; (pro Person) *2\n15,- 
 &euro; Abendkasse


Eintritt:
&nbsp;

\n\n\nTickets: &uuml;ber Hofstaate\n

 \n\n&nbsp;\n



Veranstalter:
&nbsp;
Lions Club Aachen Kaiserpfalz Hilfswer
 ke e. V.




&nbsp;
weitere Infos zum Termin auf: URL
&nbsp;
&nbsp;

\n\nAn
 merkungen: (Alle Angaben ohne Gew&auml;hr)\n*1: abweichende Einlasszeiten s
 ind (soweit bekannt) angegeben.\n*2: Eintrittskarte pro Person, Erm&auml;&s
 zlig;igungen bitte beim Veranstalter erfragen\n\n

\n\n&nbsp;\n
CONTACT:190000261
DTSTAMP:20260424T143825Z
DTSTART;TZID=Europe/Berlin:20200114T200000
SEQUENCE:0
TRANSP:OPAQUE
END:VEVENT
END:VCALENDAR