BEGIN:VCALENDAR
VERSION:2.0
PRODID:-//jEvents 2.0 for Joomla//EN
CALSCALE:GREGORIAN
METHOD:PUBLISH
BEGIN:VTIMEZONE
TZID:Europe/Berlin
BEGIN:STANDARD
DTSTART:20191027T020000
RDATE:20200329T030000
TZOFFSETFROM:+0200
TZOFFSETTO:+0100
TZNAME:Europe/Berlin CET
END:STANDARD
BEGIN:STANDARD
DTSTART:20201025T020000
RDATE:20210328T030000
TZOFFSETFROM:+0200
TZOFFSETTO:+0100
TZNAME:Europe/Berlin CET
END:STANDARD
BEGIN:STANDARD
DTSTART:20211031T020000
RDATE:20220327T030000
TZOFFSETFROM:+0200
TZOFFSETTO:+0100
TZNAME:Europe/Berlin CET
END:STANDARD
BEGIN:STANDARD
DTSTART:20221030T020000
RDATE:20230326T030000
TZOFFSETFROM:+0200
TZOFFSETTO:+0100
TZNAME:Europe/Berlin CET
END:STANDARD
BEGIN:STANDARD
DTSTART:20231029T020000
RDATE:20240331T030000
TZOFFSETFROM:+0200
TZOFFSETTO:+0100
TZNAME:Europe/Berlin CET
END:STANDARD
BEGIN:DAYLIGHT
DTSTART:20190719T160000
RDATE:20191027T020000
TZOFFSETFROM:+0100
TZOFFSETTO:+0200
TZNAME:Europe/Berlin CEST
END:DAYLIGHT
BEGIN:DAYLIGHT
DTSTART:20200329T030000
RDATE:20201025T020000
TZOFFSETFROM:+0100
TZOFFSETTO:+0200
TZNAME:Europe/Berlin CEST
END:DAYLIGHT
BEGIN:DAYLIGHT
DTSTART:20210328T030000
RDATE:20211031T020000
TZOFFSETFROM:+0100
TZOFFSETTO:+0200
TZNAME:Europe/Berlin CEST
END:DAYLIGHT
BEGIN:DAYLIGHT
DTSTART:20220327T030000
RDATE:20221030T020000
TZOFFSETFROM:+0100
TZOFFSETTO:+0200
TZNAME:Europe/Berlin CEST
END:DAYLIGHT
BEGIN:DAYLIGHT
DTSTART:20230326T030000
RDATE:20231029T020000
TZOFFSETFROM:+0100
TZOFFSETTO:+0200
TZNAME:Europe/Berlin CEST
END:DAYLIGHT
END:VTIMEZONE
BEGIN:VEVENT
UID:4d1af4d786a221a3cebbb707a8a8c733
CATEGORIES:Kabarett
CREATED:20200628T095022
SUMMARY:Nix Vi-RUS! (Jürgen B. Hausmann)
LOCATION:Stadthalle Alsdorf\, Anna-Straße 2-6\, 52477 Alsdorf
DESCRIPTION;ENCODING=QUOTED-PRINTABLE:Veranstaltung: Nix VI-RUS...\nKünstler: \n\nJürgen B. Hausmann\nOrt: \n\nSt
 adthalle Alsdorf, \nAnna-Straße 2-6, \n52477 Alsdorf\n\n\nOpen-Air im Bierg
 arten\n   Termin: \n\n19.07.2020 - SO\nBeginn: 16:00 UhrEnde: ca. 18:00 Uhr
 (Einlass:) ca. 30-60 Minuten vor Beginn *1   Kosten: ca. 25€ (Preis pro Per
 son *2)Eintritt: im Regelfall Vorverkauf / BestellungVeranstalter: siehe of
 fizielle Bekanntgabe  weitere Infos zum Termin auf: https://www.stadthalle-
 alsdorf.de\n\n\n \n\n\nAnmerkungen: (Alle Angaben ohne Gewähr)\n*1: abweich
 ende Einlasszeiten sind (soweit bekannt) angegeben.\n*2: Eintrittskarte pro
  Person, Ermäßigungen bitte beim Veranstalter erfragen\n\n
CONTACT:190000230
DTSTAMP:20260420T183721Z
DTSTART;TZID=Europe/Berlin:20200719T160000
DTEND;TZID=Europe/Berlin:20200719T180000
SEQUENCE:0
TRANSP:OPAQUE
END:VEVENT
END:VCALENDAR