BEGIN:VCALENDAR
VERSION:2.0
PRODID:-//jEvents 2.0 for Joomla//EN
CALSCALE:GREGORIAN
METHOD:PUBLISH
BEGIN:VTIMEZONE
TZID:Europe/Berlin
BEGIN:STANDARD
DTSTART:20191027T020000
RDATE:20200329T030000
TZOFFSETFROM:+0200
TZOFFSETTO:+0100
TZNAME:Europe/Berlin CET
END:STANDARD
BEGIN:STANDARD
DTSTART:20201025T020000
RDATE:20210328T030000
TZOFFSETFROM:+0200
TZOFFSETTO:+0100
TZNAME:Europe/Berlin CET
END:STANDARD
BEGIN:STANDARD
DTSTART:20211031T020000
RDATE:20220327T030000
TZOFFSETFROM:+0200
TZOFFSETTO:+0100
TZNAME:Europe/Berlin CET
END:STANDARD
BEGIN:STANDARD
DTSTART:20221030T020000
RDATE:20230326T030000
TZOFFSETFROM:+0200
TZOFFSETTO:+0100
TZNAME:Europe/Berlin CET
END:STANDARD
BEGIN:STANDARD
DTSTART:20231029T020000
RDATE:20240331T030000
TZOFFSETFROM:+0200
TZOFFSETTO:+0100
TZNAME:Europe/Berlin CET
END:STANDARD
BEGIN:DAYLIGHT
DTSTART:20190825T200000
RDATE:20191027T020000
TZOFFSETFROM:+0100
TZOFFSETTO:+0200
TZNAME:Europe/Berlin CEST
END:DAYLIGHT
BEGIN:DAYLIGHT
DTSTART:20200329T030000
RDATE:20201025T020000
TZOFFSETFROM:+0100
TZOFFSETTO:+0200
TZNAME:Europe/Berlin CEST
END:DAYLIGHT
BEGIN:DAYLIGHT
DTSTART:20210328T030000
RDATE:20211031T020000
TZOFFSETFROM:+0100
TZOFFSETTO:+0200
TZNAME:Europe/Berlin CEST
END:DAYLIGHT
BEGIN:DAYLIGHT
DTSTART:20220327T030000
RDATE:20221030T020000
TZOFFSETFROM:+0100
TZOFFSETTO:+0200
TZNAME:Europe/Berlin CEST
END:DAYLIGHT
BEGIN:DAYLIGHT
DTSTART:20230326T030000
RDATE:20231029T020000
TZOFFSETFROM:+0100
TZOFFSETTO:+0200
TZNAME:Europe/Berlin CEST
END:DAYLIGHT
END:VTIMEZONE
BEGIN:VEVENT
UID:a377230f56ae458a6491d1b162aa973c
CATEGORIES:Kabarett
CREATED:20200628T142744
SUMMARY:Nix Vi-RUS! (Jürgen B. Hausmann)
LOCATION:Burg Wilhelmstein\, An Wilhelmstein\, 52146 Würselen
DESCRIPTION;ENCODING=QUOTED-PRINTABLE:Veranstaltung: Nix VI-RUS... ?\nKünstler: \n\nJürgen B. Hausmann\nOrt: \n\n
 Burg Wilhelmstein, \nAn Wilhelmstein, \n52146 Würselen\n   Termin: \n\n25.0
 8.2020\n\nBeginn: 20:00 UhrEnde: unbekannt(Einlass:) ca. 60 Minuten vor Beg
 inn *1   Kosten: ca. ? € (Preis pro Person *2)Eintritt: im Regelfall Vorver
 kauf / BestellungVeranstalter: siehe offizielle Bekanntgabe   weitere Infos
  zum Termin auf: https://www.burg-wilhelmstein.com/tickets/tickets-kaufen/\
 n\n\n \n\n\nAnmerkungen: (Alle Angaben ohne Gewähr)\n*1: abweichende Einlas
 szeiten sind (soweit bekannt) angegeben.\n*2: Eintrittskarte pro Person, Er
 mäßigungen bitte beim Veranstalter erfragen\n\n
CONTACT:190000230
DTSTAMP:20260419T231604Z
DTSTART;TZID=Europe/Berlin:20200825T200000
DTEND;TZID=Europe/Berlin:20200825T220000
SEQUENCE:0
TRANSP:OPAQUE
END:VEVENT
END:VCALENDAR