BEGIN:VCALENDAR
VERSION:2.0
PRODID:-//jEvents 2.0 for Joomla//EN
CALSCALE:GREGORIAN
METHOD:PUBLISH
BEGIN:VTIMEZONE
TZID:Europe/Berlin
BEGIN:STANDARD
DTSTART:20191027T020000
RDATE:20200329T030000
TZOFFSETFROM:+0200
TZOFFSETTO:+0100
TZNAME:Europe/Berlin CET
END:STANDARD
BEGIN:STANDARD
DTSTART:20201025T020000
RDATE:20210328T030000
TZOFFSETFROM:+0200
TZOFFSETTO:+0100
TZNAME:Europe/Berlin CET
END:STANDARD
BEGIN:STANDARD
DTSTART:20211031T020000
RDATE:20220327T030000
TZOFFSETFROM:+0200
TZOFFSETTO:+0100
TZNAME:Europe/Berlin CET
END:STANDARD
BEGIN:STANDARD
DTSTART:20221030T020000
RDATE:20230326T030000
TZOFFSETFROM:+0200
TZOFFSETTO:+0100
TZNAME:Europe/Berlin CET
END:STANDARD
BEGIN:STANDARD
DTSTART:20231029T020000
RDATE:20240331T030000
TZOFFSETFROM:+0200
TZOFFSETTO:+0100
TZNAME:Europe/Berlin CET
END:STANDARD
BEGIN:DAYLIGHT
DTSTART:20190816T160000
RDATE:20191027T020000
TZOFFSETFROM:+0100
TZOFFSETTO:+0200
TZNAME:Europe/Berlin CEST
END:DAYLIGHT
BEGIN:DAYLIGHT
DTSTART:20200329T030000
RDATE:20201025T020000
TZOFFSETFROM:+0100
TZOFFSETTO:+0200
TZNAME:Europe/Berlin CEST
END:DAYLIGHT
BEGIN:DAYLIGHT
DTSTART:20210328T030000
RDATE:20211031T020000
TZOFFSETFROM:+0100
TZOFFSETTO:+0200
TZNAME:Europe/Berlin CEST
END:DAYLIGHT
BEGIN:DAYLIGHT
DTSTART:20220327T030000
RDATE:20221030T020000
TZOFFSETFROM:+0100
TZOFFSETTO:+0200
TZNAME:Europe/Berlin CEST
END:DAYLIGHT
BEGIN:DAYLIGHT
DTSTART:20230326T030000
RDATE:20231029T020000
TZOFFSETFROM:+0100
TZOFFSETTO:+0200
TZNAME:Europe/Berlin CEST
END:DAYLIGHT
END:VTIMEZONE
BEGIN:VEVENT
UID:1f63a815526a31c96b432511d37df9a9
CATEGORIES:Theater
CREATED:20200707T215208
SUMMARY:Theater und Mehr OPEN-AIR (Theater Brand)
LOCATION:Freunder Heideweg 3\, 52078 Aachen
DESCRIPTION;ENCODING=QUOTED-PRINTABLE:Veranstaltung: \n\nTheater und Mehr OPEN-AIR (Theater Brand)\nKünstler: \n\
 nTheater Brand\nOrt: Freunder Heideweg 3\n52078 Aachen   Termin: 16.08.2020
 Beginn: 16:00 UhrEnde: ca. 18.00 Uhr(Einlass:) ca. 15.30 Uhr   Kosten: Eint
 ritt frei!Eintritt: -Veranstalter: siehe offizielle Bekanntgabe weitere Inf
 os zum Termin: https://www.theater-brand.de/   \n\nAnmerkungen: (Alle Angab
 en ohne Gewähr)\n*1: abweichende Einlasszeiten sind (soweit bekannt) angege
 ben.\n*2: Eintrittskarte pro Person, Ermäßigungen bitte beim Veranstalter e
 rfragen\n\n
CONTACT:190000238
DTSTAMP:20260420T005456Z
DTSTART;TZID=Europe/Berlin:20200816T160000
DTEND;TZID=Europe/Berlin:20200816T190000
SEQUENCE:0
TRANSP:OPAQUE
END:VEVENT
END:VCALENDAR