BEGIN:VCALENDAR
VERSION:2.0
PRODID:-//jEvents 2.0 for Joomla//EN
CALSCALE:GREGORIAN
METHOD:PUBLISH
BEGIN:VTIMEZONE
TZID:Europe/Berlin
BEGIN:STANDARD
DTSTART:20191129T193000
RDATE:20200329T030000
TZOFFSETFROM:+0200
TZOFFSETTO:+0100
TZNAME:Europe/Berlin CET
END:STANDARD
BEGIN:STANDARD
DTSTART:20201025T020000
RDATE:20210328T030000
TZOFFSETFROM:+0200
TZOFFSETTO:+0100
TZNAME:Europe/Berlin CET
END:STANDARD
BEGIN:STANDARD
DTSTART:20211031T020000
RDATE:20220327T030000
TZOFFSETFROM:+0200
TZOFFSETTO:+0100
TZNAME:Europe/Berlin CET
END:STANDARD
BEGIN:STANDARD
DTSTART:20221030T020000
RDATE:20230326T030000
TZOFFSETFROM:+0200
TZOFFSETTO:+0100
TZNAME:Europe/Berlin CET
END:STANDARD
BEGIN:STANDARD
DTSTART:20231029T020000
RDATE:20240331T030000
TZOFFSETFROM:+0200
TZOFFSETTO:+0100
TZNAME:Europe/Berlin CET
END:STANDARD
BEGIN:DAYLIGHT
DTSTART:20200329T030000
RDATE:20201025T020000
TZOFFSETFROM:+0100
TZOFFSETTO:+0200
TZNAME:Europe/Berlin CEST
END:DAYLIGHT
BEGIN:DAYLIGHT
DTSTART:20210328T030000
RDATE:20211031T020000
TZOFFSETFROM:+0100
TZOFFSETTO:+0200
TZNAME:Europe/Berlin CEST
END:DAYLIGHT
BEGIN:DAYLIGHT
DTSTART:20220327T030000
RDATE:20221030T020000
TZOFFSETFROM:+0100
TZOFFSETTO:+0200
TZNAME:Europe/Berlin CEST
END:DAYLIGHT
BEGIN:DAYLIGHT
DTSTART:20230326T030000
RDATE:20231029T020000
TZOFFSETFROM:+0100
TZOFFSETTO:+0200
TZNAME:Europe/Berlin CEST
END:DAYLIGHT
END:VTIMEZONE
BEGIN:VEVENT
UID:fb3653b24c155dcb2646dc043ae23cb7
CATEGORIES:Theater
CREATED:20201129T195944
SUMMARY:Der versiegelte Bürgermeister
LOCATION:Monheimsallee 48\, 52062 Aachen\, Deutschland
DESCRIPTION;ENCODING=QUOTED-PRINTABLE:Veranstaltung: Der versiegelte Bürgermeister \nKünstler: \n\nAachener Heima
 ttheater\n(Mundart-Stück)\n\nOrt: \n\nYouTube\n\n\nhttps://www.youtube.com/
 watch?v=HLP4U-PWVJE\n   Termin: 29.11.2020Beginn: 19:30 UhrEnde: ca. 22:00 
 Uhr(Einlass:) 19:30 Uhr   Kosten: keine\n\nEintritt: -Veranstalter: siehe o
 ffizielle Bekanntgabe weitere Infos zum Termin:https://www.aachener-heimatt
 heater.de\n\n \n\n\n \n\n\nAnmerkungen:\n\n\nAlle Angaben ohne Gewähr\n
CONTACT:190000237
DTSTAMP:20260419T183442Z
DTSTART;TZID=Europe/Berlin:20201129T193000
SEQUENCE:0
TRANSP:OPAQUE
END:VEVENT
END:VCALENDAR