BEGIN:VCALENDAR
VERSION:2.0
PRODID:-//jEvents 2.0 for Joomla//EN
CALSCALE:GREGORIAN
METHOD:PUBLISH
BEGIN:VTIMEZONE
TZID:Europe/Berlin
BEGIN:STANDARD
DTSTART:20191217T190000
RDATE:20200329T030000
TZOFFSETFROM:+0200
TZOFFSETTO:+0100
TZNAME:Europe/Berlin CET
END:STANDARD
BEGIN:STANDARD
DTSTART:20201025T020000
RDATE:20210328T030000
TZOFFSETFROM:+0200
TZOFFSETTO:+0100
TZNAME:Europe/Berlin CET
END:STANDARD
BEGIN:STANDARD
DTSTART:20211031T020000
RDATE:20220327T030000
TZOFFSETFROM:+0200
TZOFFSETTO:+0100
TZNAME:Europe/Berlin CET
END:STANDARD
BEGIN:STANDARD
DTSTART:20221030T020000
RDATE:20230326T030000
TZOFFSETFROM:+0200
TZOFFSETTO:+0100
TZNAME:Europe/Berlin CET
END:STANDARD
BEGIN:STANDARD
DTSTART:20231029T020000
RDATE:20240331T030000
TZOFFSETFROM:+0200
TZOFFSETTO:+0100
TZNAME:Europe/Berlin CET
END:STANDARD
BEGIN:DAYLIGHT
DTSTART:20200329T030000
RDATE:20201025T020000
TZOFFSETFROM:+0100
TZOFFSETTO:+0200
TZNAME:Europe/Berlin CEST
END:DAYLIGHT
BEGIN:DAYLIGHT
DTSTART:20210328T030000
RDATE:20211031T020000
TZOFFSETFROM:+0100
TZOFFSETTO:+0200
TZNAME:Europe/Berlin CEST
END:DAYLIGHT
BEGIN:DAYLIGHT
DTSTART:20220327T030000
RDATE:20221030T020000
TZOFFSETFROM:+0100
TZOFFSETTO:+0200
TZNAME:Europe/Berlin CEST
END:DAYLIGHT
BEGIN:DAYLIGHT
DTSTART:20230326T030000
RDATE:20231029T020000
TZOFFSETFROM:+0100
TZOFFSETTO:+0200
TZNAME:Europe/Berlin CEST
END:DAYLIGHT
END:VTIMEZONE
BEGIN:VEVENT
UID:04e90e61916513abe94cde202da3ebdd
CATEGORIES:Musik
CREATED:20201130T074107
SUMMARY:Adventssingen des AAK - Os Öcher Chressfess (Folge III)
LOCATION:52001 Aachen\, Deutschland
DESCRIPTION;ENCODING=QUOTED-PRINTABLE:Veranstaltung: Adventssingen des AAK\n"Os Öcher Chressfess" - Folge III\nKü
 nstler: \n\nDiverse Öcher Platt Musiker, Sänger, Dichter\n(Mundart) - deffe
 rente Könsler\n\n\n\nDiese Sendung steht nicht \nim Zeichen des "Karnevals"
 \nOrt: \n\nInternet-Radio\n\n\nhttps://www.radio-alaaf.de\n   Termin: 17.12
 .2020Beginn: 19:00 UhrEnde: ca. 20:25 Uhr(Einlass:) -   Kosten: keine\n\nEi
 ntritt: -Veranstalter: siehe offizielle Bekanntgabe weitere Infos zum Termi
 n:https://www.radio-alaaf.de/ http://aak-aachen.de/ \n\n \n\n\n \n\n\nAnmer
 kungen:\n\n\nAlle Angaben ohne Gewähr\n
CONTACT:190000282
DTSTAMP:20260419T135001Z
DTSTART;TZID=Europe/Berlin:20201217T190000
DTEND;TZID=Europe/Berlin:20201217T202500
SEQUENCE:0
TRANSP:OPAQUE
END:VEVENT
END:VCALENDAR