BEGIN:VCALENDAR
VERSION:2.0
PRODID:-//jEvents 2.0 for Joomla//EN
CALSCALE:GREGORIAN
METHOD:PUBLISH
BEGIN:VTIMEZONE
TZID:Europe/Berlin
BEGIN:STANDARD
DTSTART:20171029T020000
RDATE:20180325T030000
TZOFFSETFROM:+0200
TZOFFSETTO:+0100
TZNAME:Europe/Berlin CET
END:STANDARD
BEGIN:STANDARD
DTSTART:20181028T020000
RDATE:20190331T030000
TZOFFSETFROM:+0200
TZOFFSETTO:+0100
TZNAME:Europe/Berlin CET
END:STANDARD
BEGIN:STANDARD
DTSTART:20191027T020000
RDATE:20200329T030000
TZOFFSETFROM:+0200
TZOFFSETTO:+0100
TZNAME:Europe/Berlin CET
END:STANDARD
BEGIN:STANDARD
DTSTART:20201025T020000
RDATE:20210328T030000
TZOFFSETFROM:+0200
TZOFFSETTO:+0100
TZNAME:Europe/Berlin CET
END:STANDARD
BEGIN:STANDARD
DTSTART:20211031T020000
RDATE:20220327T030000
TZOFFSETFROM:+0200
TZOFFSETTO:+0100
TZNAME:Europe/Berlin CET
END:STANDARD
BEGIN:STANDARD
DTSTART:20221030T020000
RDATE:20230326T030000
TZOFFSETFROM:+0200
TZOFFSETTO:+0100
TZNAME:Europe/Berlin CET
END:STANDARD
BEGIN:STANDARD
DTSTART:20231029T020000
RDATE:20240331T030000
TZOFFSETFROM:+0200
TZOFFSETTO:+0100
TZNAME:Europe/Berlin CET
END:STANDARD
BEGIN:DAYLIGHT
DTSTART:20171011T190000
RDATE:20171029T020000
TZOFFSETFROM:+0100
TZOFFSETTO:+0200
TZNAME:Europe/Berlin CEST
END:DAYLIGHT
BEGIN:DAYLIGHT
DTSTART:20180325T030000
RDATE:20181028T020000
TZOFFSETFROM:+0100
TZOFFSETTO:+0200
TZNAME:Europe/Berlin CEST
END:DAYLIGHT
BEGIN:DAYLIGHT
DTSTART:20190331T030000
RDATE:20191027T020000
TZOFFSETFROM:+0100
TZOFFSETTO:+0200
TZNAME:Europe/Berlin CEST
END:DAYLIGHT
BEGIN:DAYLIGHT
DTSTART:20200329T030000
RDATE:20201025T020000
TZOFFSETFROM:+0100
TZOFFSETTO:+0200
TZNAME:Europe/Berlin CEST
END:DAYLIGHT
BEGIN:DAYLIGHT
DTSTART:20210328T030000
RDATE:20211031T020000
TZOFFSETFROM:+0100
TZOFFSETTO:+0200
TZNAME:Europe/Berlin CEST
END:DAYLIGHT
BEGIN:DAYLIGHT
DTSTART:20220327T030000
RDATE:20221030T020000
TZOFFSETFROM:+0100
TZOFFSETTO:+0200
TZNAME:Europe/Berlin CEST
END:DAYLIGHT
BEGIN:DAYLIGHT
DTSTART:20230326T030000
RDATE:20231029T020000
TZOFFSETFROM:+0100
TZOFFSETTO:+0200
TZNAME:Europe/Berlin CEST
END:DAYLIGHT
END:VTIMEZONE
BEGIN:VEVENT
UID:c784935978dbe1cde4a58f07785577ad
CATEGORIES:Sprache
CREATED:20180617T090449
SUMMARY:Verjnööschde Daach (Linnicher Platt)
DESCRIPTION;ENCODING=QUOTED-PRINTABLE:Veranstaltung: Verjnööschde Daach - (Linnicher Platt)Künstler: \n\nKarl-Hei
 nz Schumacher\nOrt: \n\nMartinuszentrum,\nKirchplatz 14, 52441 Linnich\n   
 Termin: 12.10.2018\nBeginn: 19:00 UhrEnde: unbekannt(Einlass:) 18:30 Uhr *1
    Kosten: ? € / ? € (Preis pro Person *2)Eintritt:  Veranstalter: siehe of
 fizielle Bekanntgabe weitere Infos zum Termin auf:\n\n \n\n\n \n\n\nzu eine
 m älteren Vortrag in der AN\n\n\nhttp://www.aachener-nachrichten.de/lokales
 /juelich/der-herr-jedoensrat-liest-wieder-saach-hueueer-ens-1.1448528\n\n\n
  \n\n\nAnmerkungen: (Alle Angaben ohne Gewähr)\n*1: abweichende Einlasszeit
 en sind (soweit bekannt) angegeben.\n*2: Eintrittskarte pro Person, Ermäßig
 ungen bitte beim Veranstalter erfragen\n
DTSTAMP:20260421T211353Z
DTSTART;TZID=Europe/Berlin:20181012T190000
SEQUENCE:0
TRANSP:OPAQUE
END:VEVENT
END:VCALENDAR