BEGIN:VCALENDAR
VERSION:2.0
PRODID:-//jEvents 2.0 for Joomla//EN
CALSCALE:GREGORIAN
METHOD:PUBLISH
BEGIN:VTIMEZONE
TZID:Europe/Berlin
BEGIN:STANDARD
DTSTART:20171029T020000
RDATE:20180325T030000
TZOFFSETFROM:+0200
TZOFFSETTO:+0100
TZNAME:Europe/Berlin CET
END:STANDARD
BEGIN:STANDARD
DTSTART:20181028T020000
RDATE:20190331T030000
TZOFFSETFROM:+0200
TZOFFSETTO:+0100
TZNAME:Europe/Berlin CET
END:STANDARD
BEGIN:STANDARD
DTSTART:20191027T020000
RDATE:20200329T030000
TZOFFSETFROM:+0200
TZOFFSETTO:+0100
TZNAME:Europe/Berlin CET
END:STANDARD
BEGIN:STANDARD
DTSTART:20201025T020000
RDATE:20210328T030000
TZOFFSETFROM:+0200
TZOFFSETTO:+0100
TZNAME:Europe/Berlin CET
END:STANDARD
BEGIN:STANDARD
DTSTART:20211031T020000
RDATE:20220327T030000
TZOFFSETFROM:+0200
TZOFFSETTO:+0100
TZNAME:Europe/Berlin CET
END:STANDARD
BEGIN:STANDARD
DTSTART:20221030T020000
RDATE:20230326T030000
TZOFFSETFROM:+0200
TZOFFSETTO:+0100
TZNAME:Europe/Berlin CET
END:STANDARD
BEGIN:STANDARD
DTSTART:20231029T020000
RDATE:20240331T030000
TZOFFSETFROM:+0200
TZOFFSETTO:+0100
TZNAME:Europe/Berlin CET
END:STANDARD
BEGIN:DAYLIGHT
DTSTART:20171008T193000
RDATE:20171029T020000
TZOFFSETFROM:+0100
TZOFFSETTO:+0200
TZNAME:Europe/Berlin CEST
END:DAYLIGHT
BEGIN:DAYLIGHT
DTSTART:20180325T030000
RDATE:20181028T020000
TZOFFSETFROM:+0100
TZOFFSETTO:+0200
TZNAME:Europe/Berlin CEST
END:DAYLIGHT
BEGIN:DAYLIGHT
DTSTART:20190331T030000
RDATE:20191027T020000
TZOFFSETFROM:+0100
TZOFFSETTO:+0200
TZNAME:Europe/Berlin CEST
END:DAYLIGHT
BEGIN:DAYLIGHT
DTSTART:20200329T030000
RDATE:20201025T020000
TZOFFSETFROM:+0100
TZOFFSETTO:+0200
TZNAME:Europe/Berlin CEST
END:DAYLIGHT
BEGIN:DAYLIGHT
DTSTART:20210328T030000
RDATE:20211031T020000
TZOFFSETFROM:+0100
TZOFFSETTO:+0200
TZNAME:Europe/Berlin CEST
END:DAYLIGHT
BEGIN:DAYLIGHT
DTSTART:20220327T030000
RDATE:20221030T020000
TZOFFSETFROM:+0100
TZOFFSETTO:+0200
TZNAME:Europe/Berlin CEST
END:DAYLIGHT
BEGIN:DAYLIGHT
DTSTART:20230326T030000
RDATE:20231029T020000
TZOFFSETFROM:+0100
TZOFFSETTO:+0200
TZNAME:Europe/Berlin CEST
END:DAYLIGHT
END:VTIMEZONE
BEGIN:VEVENT
UID:6b134b73d82ddfc09da09574594d3fce
CATEGORIES:Theater
CREATED:20180901T134052
SUMMARY:Pech und Schwefel - 11. Teil (Öcher Schängche)
DESCRIPTION;ENCODING=QUOTED-PRINTABLE:Veranstaltung: \n\nPech und Schwefel - 11. Teil - Premiere\n\n\n\n(von und 
 mit Wendelin Haverkamp)\nKünstler: \n\nu. a. Hubert Crott, Elfriede Schulz,
  Albert Baurmann, Otto Trebels, Peter Reuters, Anna Inkmann \n(Traditionell
 e Stockpuppenbühne)\n\nOrt: \n\nStadtpuppenbühne Öcher Schängche\nBarockfab
 rik, Löhergraben 22, 52064 Aachen\n   Termin: 09.10.2018Beginn: 19:30 UhrEn
 de: ca. 22:00 Uhr(Einlass:) 19:00 Uhr   Kosten: ca. 16 / 18 € (VVK / Abendk
 asse) pro Karte \n(ermäßigt 11 €) *2Eintritt: VVK oder Abendkasse (VVK sieh
 e unten - sehr hohe Nachfrage)Veranstalter: siehe offizielle Bekanntgabe we
 itere Infos zum Termin auf:\nhttp://www.oecher-schaengche.de/pech-schwefel/
 \n\n\nAnmerkungen: (Alle Angaben ohne Gewähr)\n*1: abweichende Einlasszeite
 n sind (soweit bekannt) angegeben.\n*2: Eintrittskarte pro Person, Ermäßigu
 ngen bitte beim Veranstalter erfragen\n\n\n\n \n\n\nInfos zum Termin auf: h
 ttp://www.aachen.de/de/kultur_freizeit/kultur/theater/puppenbuehne/index.ht
 ml\n\n\n \n
X-EXTRAINFO:VVK:\nMedienhaus im Elisenbrunnen, Friedrich-Wilhelm-Platz 2, 52062 Aachen\
 n\nBuchhandlung Schmetz am Dom, Münsterplatz 7-9, 52062 Aachen
DTSTAMP:20260421T211430Z
DTSTART;TZID=Europe/Berlin:20181009T193000
DTEND;TZID=Europe/Berlin:20181009T220000
SEQUENCE:0
TRANSP:OPAQUE
END:VEVENT
END:VCALENDAR