BEGIN:VCALENDAR
VERSION:2.0
PRODID:-//jEvents 2.0 for Joomla//EN
CALSCALE:GREGORIAN
METHOD:PUBLISH
BEGIN:VTIMEZONE
TZID:Europe/Berlin
BEGIN:STANDARD
DTSTART:20171029T020000
RDATE:20180325T030000
TZOFFSETFROM:+0200
TZOFFSETTO:+0100
TZNAME:Europe/Berlin CET
END:STANDARD
BEGIN:STANDARD
DTSTART:20181028T020000
RDATE:20190331T030000
TZOFFSETFROM:+0200
TZOFFSETTO:+0100
TZNAME:Europe/Berlin CET
END:STANDARD
BEGIN:STANDARD
DTSTART:20191027T020000
RDATE:20200329T030000
TZOFFSETFROM:+0200
TZOFFSETTO:+0100
TZNAME:Europe/Berlin CET
END:STANDARD
BEGIN:STANDARD
DTSTART:20201025T020000
RDATE:20210328T030000
TZOFFSETFROM:+0200
TZOFFSETTO:+0100
TZNAME:Europe/Berlin CET
END:STANDARD
BEGIN:STANDARD
DTSTART:20211031T020000
RDATE:20220327T030000
TZOFFSETFROM:+0200
TZOFFSETTO:+0100
TZNAME:Europe/Berlin CET
END:STANDARD
BEGIN:STANDARD
DTSTART:20221030T020000
RDATE:20230326T030000
TZOFFSETFROM:+0200
TZOFFSETTO:+0100
TZNAME:Europe/Berlin CET
END:STANDARD
BEGIN:STANDARD
DTSTART:20231029T020000
RDATE:20240331T030000
TZOFFSETFROM:+0200
TZOFFSETTO:+0100
TZNAME:Europe/Berlin CET
END:STANDARD
BEGIN:DAYLIGHT
DTSTART:20171013T150000
RDATE:20171029T020000
TZOFFSETFROM:+0100
TZOFFSETTO:+0200
TZNAME:Europe/Berlin CEST
END:DAYLIGHT
BEGIN:DAYLIGHT
DTSTART:20180325T030000
RDATE:20181028T020000
TZOFFSETFROM:+0100
TZOFFSETTO:+0200
TZNAME:Europe/Berlin CEST
END:DAYLIGHT
BEGIN:DAYLIGHT
DTSTART:20190331T030000
RDATE:20191027T020000
TZOFFSETFROM:+0100
TZOFFSETTO:+0200
TZNAME:Europe/Berlin CEST
END:DAYLIGHT
BEGIN:DAYLIGHT
DTSTART:20200329T030000
RDATE:20201025T020000
TZOFFSETFROM:+0100
TZOFFSETTO:+0200
TZNAME:Europe/Berlin CEST
END:DAYLIGHT
BEGIN:DAYLIGHT
DTSTART:20210328T030000
RDATE:20211031T020000
TZOFFSETFROM:+0100
TZOFFSETTO:+0200
TZNAME:Europe/Berlin CEST
END:DAYLIGHT
BEGIN:DAYLIGHT
DTSTART:20220327T030000
RDATE:20221030T020000
TZOFFSETFROM:+0100
TZOFFSETTO:+0200
TZNAME:Europe/Berlin CEST
END:DAYLIGHT
BEGIN:DAYLIGHT
DTSTART:20230326T030000
RDATE:20231029T020000
TZOFFSETFROM:+0100
TZOFFSETTO:+0200
TZNAME:Europe/Berlin CEST
END:DAYLIGHT
END:VTIMEZONE
BEGIN:VEVENT
UID:80466acb30cb93b99d83e50ef4530922
CATEGORIES:För os Kenger
CREATED:20180901T143137
SUMMARY:Kobold Blitzebub (Öcher Schängche für Kinder)
DESCRIPTION;ENCODING=QUOTED-PRINTABLE:Veranstaltung: Kobold Blitzebub\n(Öcher Schängchen - Kinderstück)\nvon Wilh
 elm Dithmar\nKünstler: \n\nÖcher Schängchen, Nieres u. v. m.\n(Traditionell
 e Stockpuppenbühne)\n\nOrt: \n\nStadtpuppenbühne Öcher Schängche\nBarockfab
 rik, Löhergraben 22, 52064 Aachen\n   Termin: 14.10.2018Beginn: 15:00 UhrEn
 de: unbekannt(Einlass:) 14:30 Uhr   Kosten: ca. 3 bzw. 5 € (Kinder / Erwach
 senen) pro Karte \n(ermäßigt 2 bzw. 3 €) *2Eintritt: TageskasseVeranstalter
 : siehe offizielle Bekanntgabe weitere Infos zum Termin:\n\nDer Anteil der 
 Sprache "Öcher Platt" ist nur ca. 40-60% (je nach Kinderstück), sodass die 
 Kinder die Handlung fast vollständig verstehen können.\n\nEinige Kinderstüc
 ke können ein paar kleine "ängstliche Szenen" enthalten. Die empfohlene Alt
 ersstufe pro Stück kann beim Veranstalter erfragt werden. \nAber, bei jedem
  Stück gewinnt das Gute und die 4. Kerze der Hoffnung stirbt bekanntlich zu
 letzt.\n\n\n\n\nAnmerkungen: (Alle Angaben ohne Gewähr)\n*1: abweichende Ei
 nlasszeiten sind (soweit bekannt) angegeben.\n*2: Eintrittskarte pro Person
 , Ermäßigungen bitte beim Veranstalter erfragen\n\n\n\n \n\n\nInfos zum Ter
 min auf: http://www.aachen.de/de/kultur_freizeit/kultur/theater/puppenbuehn
 e/index.html\n\n\nbzw. http://www.oecher-schaengche.de/\n\n\n \n\n\n \n\n\n
 Anmerkungen:\n\n\nAlle Angaben ohne Gewähr\n
DTSTAMP:20260421T194152Z
DTSTART;TZID=Europe/Berlin:20181014T150000
DTEND;TZID=Europe/Berlin:20181014T163000
SEQUENCE:0
TRANSP:OPAQUE
END:VEVENT
END:VCALENDAR