BEGIN:VCALENDAR
VERSION:2.0
PRODID:-//jEvents 2.0 for Joomla//EN
CALSCALE:GREGORIAN
METHOD:PUBLISH
BEGIN:VTIMEZONE
TZID:Europe/Berlin
BEGIN:STANDARD
DTSTART:20171029T020000
RDATE:20180325T030000
TZOFFSETFROM:+0200
TZOFFSETTO:+0100
TZNAME:Europe/Berlin CET
END:STANDARD
BEGIN:STANDARD
DTSTART:20181028T020000
RDATE:20190331T030000
TZOFFSETFROM:+0200
TZOFFSETTO:+0100
TZNAME:Europe/Berlin CET
END:STANDARD
BEGIN:STANDARD
DTSTART:20191027T020000
RDATE:20200329T030000
TZOFFSETFROM:+0200
TZOFFSETTO:+0100
TZNAME:Europe/Berlin CET
END:STANDARD
BEGIN:STANDARD
DTSTART:20201025T020000
RDATE:20210328T030000
TZOFFSETFROM:+0200
TZOFFSETTO:+0100
TZNAME:Europe/Berlin CET
END:STANDARD
BEGIN:STANDARD
DTSTART:20211031T020000
RDATE:20220327T030000
TZOFFSETFROM:+0200
TZOFFSETTO:+0100
TZNAME:Europe/Berlin CET
END:STANDARD
BEGIN:STANDARD
DTSTART:20221030T020000
RDATE:20230326T030000
TZOFFSETFROM:+0200
TZOFFSETTO:+0100
TZNAME:Europe/Berlin CET
END:STANDARD
BEGIN:STANDARD
DTSTART:20231029T020000
RDATE:20240331T030000
TZOFFSETFROM:+0200
TZOFFSETTO:+0100
TZNAME:Europe/Berlin CET
END:STANDARD
BEGIN:DAYLIGHT
DTSTART:20171011T200000
RDATE:20171029T020000
TZOFFSETFROM:+0100
TZOFFSETTO:+0200
TZNAME:Europe/Berlin CEST
END:DAYLIGHT
BEGIN:DAYLIGHT
DTSTART:20180325T030000
RDATE:20181028T020000
TZOFFSETFROM:+0100
TZOFFSETTO:+0200
TZNAME:Europe/Berlin CEST
END:DAYLIGHT
BEGIN:DAYLIGHT
DTSTART:20190331T030000
RDATE:20191027T020000
TZOFFSETFROM:+0100
TZOFFSETTO:+0200
TZNAME:Europe/Berlin CEST
END:DAYLIGHT
BEGIN:DAYLIGHT
DTSTART:20200329T030000
RDATE:20201025T020000
TZOFFSETFROM:+0100
TZOFFSETTO:+0200
TZNAME:Europe/Berlin CEST
END:DAYLIGHT
BEGIN:DAYLIGHT
DTSTART:20210328T030000
RDATE:20211031T020000
TZOFFSETFROM:+0100
TZOFFSETTO:+0200
TZNAME:Europe/Berlin CEST
END:DAYLIGHT
BEGIN:DAYLIGHT
DTSTART:20220327T030000
RDATE:20221030T020000
TZOFFSETFROM:+0100
TZOFFSETTO:+0200
TZNAME:Europe/Berlin CEST
END:DAYLIGHT
BEGIN:DAYLIGHT
DTSTART:20230326T030000
RDATE:20231029T020000
TZOFFSETFROM:+0100
TZOFFSETTO:+0200
TZNAME:Europe/Berlin CEST
END:DAYLIGHT
END:VTIMEZONE
BEGIN:VEVENT
UID:88501a1985d6cefb4540551c9ce748c0
CATEGORIES:Kabarett
CREATED:20181011T105848
SUMMARY:3. Öcher Comedy Night (Hoppla - Das Duo)
DESCRIPTION;ENCODING=QUOTED-PRINTABLE:Veranstaltung: 3. Öcher Comedy Night\n Künstler: \n\nu. a. Hoppla - das Duo
 \n\n\n\nOecher Stadtmusikanten\n Ort: Saalbau Rothe Erde, Kappertzhölle, \n
 Hüttenstraße 45-47, \n52068 Aachen     Termin: 12.10.2018 Beginn: 20:00 Uhr
  Ende: unbekannt (Einlass:) ca. 19.00 Uhr *1     Kosten: ?,- € (pro Person)
  *2 Eintritt: \nmit Kartenvorverkauf\n(in der Buchhandlung in Aachen oder O
 nline)\n\n Veranstalter:    weitere Infos zum Termin auf:http://www.hoppla-
 dasduo.de/#xl_xr_page_termine \n\nAnmerkungen: (Alle Angaben ohne Gewähr)\n
 *1: abweichende Einlasszeiten sind (soweit bekannt) angegeben.\n*2: Eintrit
 tskarte pro Person, Ermäßigungen bitte beim Veranstalter erfragen\n\n\n\n \
 n
DTSTAMP:20260421T211353Z
DTSTART;TZID=Europe/Berlin:20181012T200000
DTEND;TZID=Europe/Berlin:20181012T221500
SEQUENCE:0
TRANSP:OPAQUE
END:VEVENT
END:VCALENDAR