BEGIN:VCALENDAR
VERSION:2.0
PRODID:-//jEvents 2.0 for Joomla//EN
CALSCALE:GREGORIAN
METHOD:PUBLISH
BEGIN:VTIMEZONE
TZID:Europe/Berlin
BEGIN:STANDARD
DTSTART:20181028T020000
RDATE:20190331T030000
TZOFFSETFROM:+0200
TZOFFSETTO:+0100
TZNAME:Europe/Berlin CET
END:STANDARD
BEGIN:STANDARD
DTSTART:20191027T020000
RDATE:20200329T030000
TZOFFSETFROM:+0200
TZOFFSETTO:+0100
TZNAME:Europe/Berlin CET
END:STANDARD
BEGIN:STANDARD
DTSTART:20201025T020000
RDATE:20210328T030000
TZOFFSETFROM:+0200
TZOFFSETTO:+0100
TZNAME:Europe/Berlin CET
END:STANDARD
BEGIN:STANDARD
DTSTART:20211031T020000
RDATE:20220327T030000
TZOFFSETFROM:+0200
TZOFFSETTO:+0100
TZNAME:Europe/Berlin CET
END:STANDARD
BEGIN:STANDARD
DTSTART:20221030T020000
RDATE:20230326T030000
TZOFFSETFROM:+0200
TZOFFSETTO:+0100
TZNAME:Europe/Berlin CET
END:STANDARD
BEGIN:STANDARD
DTSTART:20231029T020000
RDATE:20240331T030000
TZOFFSETFROM:+0200
TZOFFSETTO:+0100
TZNAME:Europe/Berlin CET
END:STANDARD
BEGIN:DAYLIGHT
DTSTART:20180516T200000
RDATE:20181028T020000
TZOFFSETFROM:+0100
TZOFFSETTO:+0200
TZNAME:Europe/Berlin CEST
END:DAYLIGHT
BEGIN:DAYLIGHT
DTSTART:20190331T030000
RDATE:20191027T020000
TZOFFSETFROM:+0100
TZOFFSETTO:+0200
TZNAME:Europe/Berlin CEST
END:DAYLIGHT
BEGIN:DAYLIGHT
DTSTART:20200329T030000
RDATE:20201025T020000
TZOFFSETFROM:+0100
TZOFFSETTO:+0200
TZNAME:Europe/Berlin CEST
END:DAYLIGHT
BEGIN:DAYLIGHT
DTSTART:20210328T030000
RDATE:20211031T020000
TZOFFSETFROM:+0100
TZOFFSETTO:+0200
TZNAME:Europe/Berlin CEST
END:DAYLIGHT
BEGIN:DAYLIGHT
DTSTART:20220327T030000
RDATE:20221030T020000
TZOFFSETFROM:+0100
TZOFFSETTO:+0200
TZNAME:Europe/Berlin CEST
END:DAYLIGHT
BEGIN:DAYLIGHT
DTSTART:20230326T030000
RDATE:20231029T020000
TZOFFSETFROM:+0100
TZOFFSETTO:+0200
TZNAME:Europe/Berlin CEST
END:DAYLIGHT
END:VTIMEZONE
BEGIN:VEVENT
UID:571351c00683b6e4f46f44c59d7db8d9
CATEGORIES:Theater
CREATED:20181126T083858
SUMMARY:Neä, wat för ene Hantier (Aachener Heimattheater)
LOCATION:Stadthalle Alsdorf Annastr. 2-6\, 52477 Alsdorf
DESCRIPTION;ENCODING=QUOTED-PRINTABLE:Veranstaltung: \n\nNeä, wat för ene Hantier (Aachener Heimattheater)\n\nKün
 stler: \n\nAachener Heimattheater\n\nOrt: Stadthalle Alsdorf\nAnnastr. 2-6,
  \n52477 Alsdorf   Termin: 17.05.2019 - FRBeginn: 20:00 UhrEnde: ca. 22:30 
 Uhr(Einlass:) ca. 30-60 Minuten vor Beginn *1   Kosten: ca. ?€ (Alsdorf)Ein
 tritt: VorverkaufVeranstalter: siehe offizielle Bekanntgabe wijjere Enferma
 tziuene op:-&gt; http://www.aachener-heimattheater.de/oecherplatt/ \n \n\nA
 nmerkungen: (Alle Angaben ohne Gewähr)\n*1: abweichende Einlasszeiten sind 
 (soweit bekannt) angegeben.\n*2: Eintrittskarte pro Person, Ermäßigungen bi
 tte beim Veranstalter erfragen\n\n\n\n \n\n\n \n
CONTACT:190000237
DTSTAMP:20260424T155932Z
DTSTART;TZID=Europe/Berlin:20190517T200000
DTEND;TZID=Europe/Berlin:20190517T223000
SEQUENCE:0
TRANSP:OPAQUE
END:VEVENT
END:VCALENDAR