BEGIN:VCALENDAR
VERSION:2.0
PRODID:-//jEvents 2.0 for Joomla//EN
CALSCALE:GREGORIAN
METHOD:PUBLISH
BEGIN:VTIMEZONE
TZID:Europe/Berlin
BEGIN:STANDARD
DTSTART:20181028T020000
RDATE:20190331T030000
TZOFFSETFROM:+0200
TZOFFSETTO:+0100
TZNAME:Europe/Berlin CET
END:STANDARD
BEGIN:STANDARD
DTSTART:20191027T020000
RDATE:20200329T030000
TZOFFSETFROM:+0200
TZOFFSETTO:+0100
TZNAME:Europe/Berlin CET
END:STANDARD
BEGIN:STANDARD
DTSTART:20201025T020000
RDATE:20210328T030000
TZOFFSETFROM:+0200
TZOFFSETTO:+0100
TZNAME:Europe/Berlin CET
END:STANDARD
BEGIN:STANDARD
DTSTART:20211031T020000
RDATE:20220327T030000
TZOFFSETFROM:+0200
TZOFFSETTO:+0100
TZNAME:Europe/Berlin CET
END:STANDARD
BEGIN:STANDARD
DTSTART:20221030T020000
RDATE:20230326T030000
TZOFFSETFROM:+0200
TZOFFSETTO:+0100
TZNAME:Europe/Berlin CET
END:STANDARD
BEGIN:STANDARD
DTSTART:20231029T020000
RDATE:20240331T030000
TZOFFSETFROM:+0200
TZOFFSETTO:+0100
TZNAME:Europe/Berlin CET
END:STANDARD
BEGIN:DAYLIGHT
DTSTART:20180510T190000
RDATE:20181028T020000
TZOFFSETFROM:+0100
TZOFFSETTO:+0200
TZNAME:Europe/Berlin CEST
END:DAYLIGHT
BEGIN:DAYLIGHT
DTSTART:20190331T030000
RDATE:20191027T020000
TZOFFSETFROM:+0100
TZOFFSETTO:+0200
TZNAME:Europe/Berlin CEST
END:DAYLIGHT
BEGIN:DAYLIGHT
DTSTART:20200329T030000
RDATE:20201025T020000
TZOFFSETFROM:+0100
TZOFFSETTO:+0200
TZNAME:Europe/Berlin CEST
END:DAYLIGHT
BEGIN:DAYLIGHT
DTSTART:20210328T030000
RDATE:20211031T020000
TZOFFSETFROM:+0100
TZOFFSETTO:+0200
TZNAME:Europe/Berlin CEST
END:DAYLIGHT
BEGIN:DAYLIGHT
DTSTART:20220327T030000
RDATE:20221030T020000
TZOFFSETFROM:+0100
TZOFFSETTO:+0200
TZNAME:Europe/Berlin CEST
END:DAYLIGHT
BEGIN:DAYLIGHT
DTSTART:20230326T030000
RDATE:20231029T020000
TZOFFSETFROM:+0100
TZOFFSETTO:+0200
TZNAME:Europe/Berlin CEST
END:DAYLIGHT
END:VTIMEZONE
BEGIN:VEVENT
UID:98abf3ebfe94edaeb734b6d20b113966
CATEGORIES:Kabarett
CREATED:20181126T221657
SUMMARY:Best of Oche (Hoppla - das Duo)
LOCATION:Saalbau Rothe Erde\, Kappertzhölle\, Hüttenstraße 45-47\, 52068 Aachen
DESCRIPTION;ENCODING=QUOTED-PRINTABLE:Veranstaltung: Best of Oche\n Künstler: \n\nHoppla - das Duo\n\n Ort: Saalb
 au Rothe Erde, Kappertzhölle, \nHüttenstraße 45-47, \n52068 Aachen     Term
 in: 11.05.2019 Beginn: 19:00 Uhr Ende: ca. 21:30 Uhr (Einlass:) ca. 18:00 U
 hr *1     Kosten: 15,- € (pro Person) *2 - VVK\n18,- € Abendkasse Eintritt:
  \nTickets an allen bekannten VVK-Stellen, EVENTIM &amp; \nTel. 0241 / 55 5
 7 08\nMehr Infos: www.hoppla-dasduo.de\n\n Veranstalter:    weitere Infos z
 um Termin auf:http://www.hoppla-dasduo.de \n\nAnmerkungen: (Alle Angaben oh
 ne Gewähr)\n*1: abweichende Einlasszeiten sind (soweit bekannt) angegeben.\
 n*2: Eintrittskarte pro Person, Ermäßigungen bitte beim Veranstalter erfrag
 en\n\n\n\n \n
CONTACT:190000229
DTSTAMP:20260424T155933Z
DTSTART;TZID=Europe/Berlin:20190511T190000
DTEND;TZID=Europe/Berlin:20190511T213000
SEQUENCE:0
TRANSP:OPAQUE
END:VEVENT
END:VCALENDAR