BEGIN:VCALENDAR
VERSION:2.0
PRODID:-//jEvents 2.0 for Joomla//EN
CALSCALE:GREGORIAN
METHOD:PUBLISH
BEGIN:VTIMEZONE
TZID:Europe/Berlin
BEGIN:STANDARD
DTSTART:20181102T110000
RDATE:20190331T030000
TZOFFSETFROM:+0200
TZOFFSETTO:+0100
TZNAME:Europe/Berlin CET
END:STANDARD
BEGIN:STANDARD
DTSTART:20191027T020000
RDATE:20200329T030000
TZOFFSETFROM:+0200
TZOFFSETTO:+0100
TZNAME:Europe/Berlin CET
END:STANDARD
BEGIN:STANDARD
DTSTART:20201025T020000
RDATE:20210328T030000
TZOFFSETFROM:+0200
TZOFFSETTO:+0100
TZNAME:Europe/Berlin CET
END:STANDARD
BEGIN:STANDARD
DTSTART:20211031T020000
RDATE:20220327T030000
TZOFFSETFROM:+0200
TZOFFSETTO:+0100
TZNAME:Europe/Berlin CET
END:STANDARD
BEGIN:STANDARD
DTSTART:20221030T020000
RDATE:20230326T030000
TZOFFSETFROM:+0200
TZOFFSETTO:+0100
TZNAME:Europe/Berlin CET
END:STANDARD
BEGIN:STANDARD
DTSTART:20231029T020000
RDATE:20240331T030000
TZOFFSETFROM:+0200
TZOFFSETTO:+0100
TZNAME:Europe/Berlin CET
END:STANDARD
BEGIN:DAYLIGHT
DTSTART:20190331T030000
RDATE:20191027T020000
TZOFFSETFROM:+0100
TZOFFSETTO:+0200
TZNAME:Europe/Berlin CEST
END:DAYLIGHT
BEGIN:DAYLIGHT
DTSTART:20200329T030000
RDATE:20201025T020000
TZOFFSETFROM:+0100
TZOFFSETTO:+0200
TZNAME:Europe/Berlin CEST
END:DAYLIGHT
BEGIN:DAYLIGHT
DTSTART:20210328T030000
RDATE:20211031T020000
TZOFFSETFROM:+0100
TZOFFSETTO:+0200
TZNAME:Europe/Berlin CEST
END:DAYLIGHT
BEGIN:DAYLIGHT
DTSTART:20220327T030000
RDATE:20221030T020000
TZOFFSETFROM:+0100
TZOFFSETTO:+0200
TZNAME:Europe/Berlin CEST
END:DAYLIGHT
BEGIN:DAYLIGHT
DTSTART:20230326T030000
RDATE:20231029T020000
TZOFFSETFROM:+0100
TZOFFSETTO:+0200
TZNAME:Europe/Berlin CEST
END:DAYLIGHT
END:VTIMEZONE
BEGIN:VEVENT
UID:2e71094ee31ec23e2d3ffb2599ffad21
CATEGORIES:Musik
CREATED:20190104T151949
SUMMARY:Lennet Kann - 3. Matinee - (Kurt Joußen)
LOCATION: Kurpark-Terassen\, Dammstraße 40\,  52066 Aachen-Burtscheid
DESCRIPTION;ENCODING=QUOTED-PRINTABLE:Veranstaltung: 3. Lennet Kann Matinee\nKünstler: \n\nKurt Joußen (Lennet Ka
 nn)\nu. a. ...\n\nOrt: Kurpark-Terassen, Dammstraße 40, \n52066 Aachen-Burt
 scheid   Termin: 03.11.2019Beginn: 11:00 UhrEnde: 13:00 Uhr(Einlass:) ca. 6
 0 Minuten vor Beginn *1   Kosten: Eintritt freiEintritt: -Veranstalter: sie
 he offizielle Bekanntgabe weitere Infos zum Termin auf: http://www.lkdm.de/
 die-termine.html\n\n \n\n\nAnmerkungen: (Alle Angaben ohne Gewähr)\n*1: abw
 eichende Einlasszeiten sind (soweit bekannt) angegeben.\n*2: Eintrittskarte
  pro Person, Ermäßigungen bitte beim Veranstalter erfragen\n\n
CONTACT:190000203
DTSTAMP:20260419T154553Z
DTSTART;TZID=Europe/Berlin:20191103T110000
DTEND;TZID=Europe/Berlin:20191103T130000
SEQUENCE:0
TRANSP:OPAQUE
END:VEVENT
END:VCALENDAR