BEGIN:VCALENDAR
VERSION:2.0
PRODID:-//jEvents 2.0 for Joomla//EN
CALSCALE:GREGORIAN
METHOD:PUBLISH
BEGIN:VTIMEZONE
TZID:Europe/Berlin
BEGIN:STANDARD
DTSTART:20181028T020000
RDATE:20190331T030000
TZOFFSETFROM:+0200
TZOFFSETTO:+0100
TZNAME:Europe/Berlin CET
END:STANDARD
BEGIN:STANDARD
DTSTART:20191027T020000
RDATE:20200329T030000
TZOFFSETFROM:+0200
TZOFFSETTO:+0100
TZNAME:Europe/Berlin CET
END:STANDARD
BEGIN:STANDARD
DTSTART:20201025T020000
RDATE:20210328T030000
TZOFFSETFROM:+0200
TZOFFSETTO:+0100
TZNAME:Europe/Berlin CET
END:STANDARD
BEGIN:STANDARD
DTSTART:20211031T020000
RDATE:20220327T030000
TZOFFSETFROM:+0200
TZOFFSETTO:+0100
TZNAME:Europe/Berlin CET
END:STANDARD
BEGIN:STANDARD
DTSTART:20221030T020000
RDATE:20230326T030000
TZOFFSETFROM:+0200
TZOFFSETTO:+0100
TZNAME:Europe/Berlin CET
END:STANDARD
BEGIN:STANDARD
DTSTART:20231029T020000
RDATE:20240331T030000
TZOFFSETFROM:+0200
TZOFFSETTO:+0100
TZNAME:Europe/Berlin CET
END:STANDARD
BEGIN:DAYLIGHT
DTSTART:20180501T151500
RDATE:20181028T020000
TZOFFSETFROM:+0100
TZOFFSETTO:+0200
TZNAME:Europe/Berlin CEST
END:DAYLIGHT
BEGIN:DAYLIGHT
DTSTART:20190331T030000
RDATE:20191027T020000
TZOFFSETFROM:+0100
TZOFFSETTO:+0200
TZNAME:Europe/Berlin CEST
END:DAYLIGHT
BEGIN:DAYLIGHT
DTSTART:20200329T030000
RDATE:20201025T020000
TZOFFSETFROM:+0100
TZOFFSETTO:+0200
TZNAME:Europe/Berlin CEST
END:DAYLIGHT
BEGIN:DAYLIGHT
DTSTART:20210328T030000
RDATE:20211031T020000
TZOFFSETFROM:+0100
TZOFFSETTO:+0200
TZNAME:Europe/Berlin CEST
END:DAYLIGHT
BEGIN:DAYLIGHT
DTSTART:20220327T030000
RDATE:20221030T020000
TZOFFSETFROM:+0100
TZOFFSETTO:+0200
TZNAME:Europe/Berlin CEST
END:DAYLIGHT
BEGIN:DAYLIGHT
DTSTART:20230326T030000
RDATE:20231029T020000
TZOFFSETFROM:+0100
TZOFFSETTO:+0200
TZNAME:Europe/Berlin CEST
END:DAYLIGHT
END:VTIMEZONE
BEGIN:VEVENT
UID:e55a273a4add13f8aeba6d1aac73dd6f
CATEGORIES:Musik
CREATED:20190314T124445
SUMMARY:"Deä klenge Prenz" mit Liedern von "Udo S." (Generation 55plus)
LOCATION:Pfarrheim St. Severin\, Marienstr. 58\, 52080 Aachen-Eilendorf
DESCRIPTION;ENCODING=QUOTED-PRINTABLE:Veranstaltung: \n\nBegegnungsstätte Generation 55plus\n\n"Deä klenge Prenz"
  - Een Öcher Platt övversatz van Hein Engelhardt, Lesung mit Hein Engelhard
 t, Waltraud Schings und Udo Schroll (15:15 - 16:15 Uhr)\n\nKünstler: \n\nMu
 sikalisch: Udo S.\nLesung: Waltraud Schings und Hein Engelhardt\n\nOrt: \n\
 nPfarrheim St. Severin, \nMarienstr. 58, \n52080 Aachen-Eilendorf\n   Termi
 n: 02.05.2019Beginn: 15:15 - 16:15 Uhr (Udo)\nEnde:  (Einlass:) ca. 30-60 M
 in. vor Beginn *1   Kosten: - (Preis pro Person *2)Eintritt: -Veranstalter:
  siehe offizielle Bekanntgabe weitere Infos zum Termin auf: http://www.udo-
 schroll.de/Termine\n\nAnmerkungen: (Alle Angaben ohne Gewähr)\n*1: abweiche
 nde Einlasszeiten sind (soweit bekannt) angegeben.\n*2: Eintrittskarte pro 
 Person, Ermäßigungen bitte beim Veranstalter erfragen\n
DTSTAMP:20260424T155933Z
DTSTART;TZID=Europe/Berlin:20190502T151500
DTEND;TZID=Europe/Berlin:20190502T161500
SEQUENCE:0
TRANSP:OPAQUE
END:VEVENT
END:VCALENDAR