BEGIN:VCALENDAR
VERSION:2.0
PRODID:-//jEvents 2.0 for Joomla//EN
CALSCALE:GREGORIAN
METHOD:PUBLISH
BEGIN:VTIMEZONE
TZID:Europe/Berlin
BEGIN:STANDARD
DTSTART:20181028T020000
RDATE:20190331T030000
TZOFFSETFROM:+0200
TZOFFSETTO:+0100
TZNAME:Europe/Berlin CET
END:STANDARD
BEGIN:STANDARD
DTSTART:20191027T020000
RDATE:20200329T030000
TZOFFSETFROM:+0200
TZOFFSETTO:+0100
TZNAME:Europe/Berlin CET
END:STANDARD
BEGIN:STANDARD
DTSTART:20201025T020000
RDATE:20210328T030000
TZOFFSETFROM:+0200
TZOFFSETTO:+0100
TZNAME:Europe/Berlin CET
END:STANDARD
BEGIN:STANDARD
DTSTART:20211031T020000
RDATE:20220327T030000
TZOFFSETFROM:+0200
TZOFFSETTO:+0100
TZNAME:Europe/Berlin CET
END:STANDARD
BEGIN:STANDARD
DTSTART:20221030T020000
RDATE:20230326T030000
TZOFFSETFROM:+0200
TZOFFSETTO:+0100
TZNAME:Europe/Berlin CET
END:STANDARD
BEGIN:STANDARD
DTSTART:20231029T020000
RDATE:20240331T030000
TZOFFSETFROM:+0200
TZOFFSETTO:+0100
TZNAME:Europe/Berlin CET
END:STANDARD
BEGIN:DAYLIGHT
DTSTART:20180508T200000
RDATE:20181028T020000
TZOFFSETFROM:+0100
TZOFFSETTO:+0200
TZNAME:Europe/Berlin CEST
END:DAYLIGHT
BEGIN:DAYLIGHT
DTSTART:20190331T030000
RDATE:20191027T020000
TZOFFSETFROM:+0100
TZOFFSETTO:+0200
TZNAME:Europe/Berlin CEST
END:DAYLIGHT
BEGIN:DAYLIGHT
DTSTART:20200329T030000
RDATE:20201025T020000
TZOFFSETFROM:+0100
TZOFFSETTO:+0200
TZNAME:Europe/Berlin CEST
END:DAYLIGHT
BEGIN:DAYLIGHT
DTSTART:20210328T030000
RDATE:20211031T020000
TZOFFSETFROM:+0100
TZOFFSETTO:+0200
TZNAME:Europe/Berlin CEST
END:DAYLIGHT
BEGIN:DAYLIGHT
DTSTART:20220327T030000
RDATE:20221030T020000
TZOFFSETFROM:+0100
TZOFFSETTO:+0200
TZNAME:Europe/Berlin CEST
END:DAYLIGHT
BEGIN:DAYLIGHT
DTSTART:20230326T030000
RDATE:20231029T020000
TZOFFSETFROM:+0100
TZOFFSETTO:+0200
TZNAME:Europe/Berlin CEST
END:DAYLIGHT
END:VTIMEZONE
BEGIN:VEVENT
UID:22151fbbce352c46cd00ce8a8841a74c
CATEGORIES:Musik
CREATED:20190314T124844
SUMMARY:Öcher Abend (Mayersche en Oche)
LOCATION:Mayersche Buchhandlung\, Forum M\, Buchkremerstraße 1-7\, 52062 Aachen
DESCRIPTION;ENCODING=QUOTED-PRINTABLE:Veranstaltung: Öcher AbendKünstler: \n\nDieter Böse, Sabine Mathieu, Hein E
 ngelhardt,Waltraud Schings, Udo Schroll, Jan Savelsberg\n\nOrt: Mayersche B
 uchhandlung, Forum M, \nBuchkremerstraße 1-7, 52062 Aachen   Termin: 09.05.
 2019Beginn: 20:00 UhrEnde: unbekannt(Einlass:) ca. 19.00 Uhr *1   Kosten: 1
 6,- € (pro Person) *2Eintritt: \nmit Kartenvorverkauf\n(in der Buchhandlung
  in Aachen oder Online)\n\nVeranstalter:   weitere Infos zum Termin auf:\nh
 ttps://www.mayersche.de/OEcher-Abend-marm-mayersche-pform-me-Dieter-Boese-m
 ayersche.html\n\nAnmerkungen: (Alle Angaben ohne Gewähr)\n*1: abweichende E
 inlasszeiten sind (soweit bekannt) angegeben.\n*2: Eintrittskarte pro Perso
 n, Ermäßigungen bitte beim Veranstalter erfragen\n\n\n\n \n
DTSTAMP:20260424T155905Z
DTSTART;TZID=Europe/Berlin:20190509T200000
SEQUENCE:0
TRANSP:OPAQUE
END:VEVENT
END:VCALENDAR